BEGIN:VCALENDAR
VERSION:2.0
PRODID:-//WLCN 96.3 FM - ECPv6.15.20//NONSGML v1.0//EN
CALSCALE:GREGORIAN
METHOD:PUBLISH
X-WR-CALNAME:WLCN 96.3 FM
X-ORIGINAL-URL:https://www.wlcnonline.com
X-WR-CALDESC:Events for WLCN 96.3 FM
REFRESH-INTERVAL;VALUE=DURATION:PT1H
X-Robots-Tag:noindex
X-PUBLISHED-TTL:PT1H
BEGIN:VTIMEZONE
TZID:America/Chicago
BEGIN:DAYLIGHT
TZOFFSETFROM:-0600
TZOFFSETTO:-0500
TZNAME:CDT
DTSTART:20240310T080000
END:DAYLIGHT
BEGIN:STANDARD
TZOFFSETFROM:-0500
TZOFFSETTO:-0600
TZNAME:CST
DTSTART:20241103T070000
END:STANDARD
BEGIN:DAYLIGHT
TZOFFSETFROM:-0600
TZOFFSETTO:-0500
TZNAME:CDT
DTSTART:20250309T080000
END:DAYLIGHT
BEGIN:STANDARD
TZOFFSETFROM:-0500
TZOFFSETTO:-0600
TZNAME:CST
DTSTART:20251102T070000
END:STANDARD
BEGIN:DAYLIGHT
TZOFFSETFROM:-0600
TZOFFSETTO:-0500
TZNAME:CDT
DTSTART:20260308T080000
END:DAYLIGHT
BEGIN:STANDARD
TZOFFSETFROM:-0500
TZOFFSETTO:-0600
TZNAME:CST
DTSTART:20261101T070000
END:STANDARD
END:VTIMEZONE
BEGIN:VEVENT
DTSTART;TZID=America/Chicago:20251004T110000
DTEND;TZID=America/Chicago:20251004T160000
DTSTAMP:20260421T073516
CREATED:20250925T192104Z
LAST-MODIFIED:20250925T192104Z
UID:10020870-1759575600-1759593600@www.wlcnonline.com
SUMMARY:Chase Montgomery Memorial Cruise-In at West Park in San Jose
DESCRIPTION:Vehicles of all types are welcome at this memorial cruise-in event\, including motorcycles and kids’ PowerWheels. There will be music\, vendors and more. Donations will be accepted for Barnes Jewish Hospital. \nEvent codes ccfre cclbep ccfdd ccavse
URL:https://www.wlcnonline.com/event/chase-montgomery-memorial-cruise-in-at-west-park-in-san-jose/
LOCATION:West Park in San Jose\, 498 W Arch Street\, San Jose\, IL\, 62682\, United States
ORGANIZER;CN="San Jose Park District":MAILTO:Sanjoseilparkdistrict@gmail.com
END:VEVENT
BEGIN:VEVENT
DTSTART;TZID=America/Chicago:20251004T100000
DTEND;TZID=America/Chicago:20251004T180000
DTSTAMP:20260421T073516
CREATED:20250925T185102Z
LAST-MODIFIED:20250925T185102Z
UID:10020869-1759572000-1759600800@www.wlcnonline.com
SUMMARY:2025 fall market in Village of McLean
DESCRIPTION:Support local during McLean’s Town-Wide Vendor Day featuring handmade goods and home décor to baked treats\, crafts\, and unique services. A vendor map will be posted on the Facebook event page; click here to access that page. \nEvent codes cclbep
URL:https://www.wlcnonline.com/event/2025-fall-market-in-village-of-mclean/
LOCATION:Village of McLean\, McLean\, IL\, 61754\, United States
ORGANIZER;CN="CORE of McLean":MAILTO:info@coreofmclean.org
END:VEVENT
BEGIN:VEVENT
DTSTART;TZID=America/Chicago:20251004T100000
DTEND;TZID=America/Chicago:20251004T170000
DTSTAMP:20260421T073516
CREATED:20251003T025118Z
LAST-MODIFIED:20251003T025118Z
UID:10020879-1759572000-1759597200@www.wlcnonline.com
SUMMARY:Grand opening of Urban Plant Stand in rural Danvers
DESCRIPTION:Be there when Urban Plant Stand\, Central Illinois’ newest houseplant and accessory shop\, opens its doors for its grand opening. \nEvent codes cclbep ccfb
URL:https://www.wlcnonline.com/event/grand-opening-of-urban-plant-stand-in-rural-danvers/
LOCATION:Urban Plant Stand in rural Danvers\, 1004 E 1675 North Road\, Danvers\, 61732\, United States
ORGANIZER;CN="Urban Plant Stand":MAILTO:urbanplantstand@gmail.com
END:VEVENT
BEGIN:VEVENT
DTSTART;TZID=America/Chicago:20251004T100000
DTEND;TZID=America/Chicago:20251004T170000
DTSTAMP:20260421T073516
CREATED:20250925T184430Z
LAST-MODIFIED:20250925T184430Z
UID:10020868-1759572000-1759597200@www.wlcnonline.com
SUMMARY:Pumpkinpalooza event at Mariah's Mums & More in rural Clinton
DESCRIPTION:Pumpkin Palooza at Mariah’s Mums & More is a weekend with pumpkins\, mums\, music\, food\, and farm fun taking place both Saturday and Sunday from 10 AM to 5 PM. \nDetails include: \n\nFREE Face Painting: 10:30 AM – 3:30 PM\nStreetEatz Food Truck: 11 AM – 4 PM\nLive music: 11:30 AM – 2:30 PM each day (Saturday with Pizzaz; Sunday with Hill-Billy High Rise)\nFootball will be on the big screen in the ‘Barnvilion’ after the live music\n\nOther activities and attractions: \n\nFarmtastic Fun Park where kids can bounce\, climb\, and zip\n\nPumpkin from the patch\n\nFall Mums\n\nU-Pick Strawberries\n\nU-Cut Flower fields\n\nSunflower Stroll\n\nLavender Labyrinth\n\nFresh-picked farm produce\n\nFarm Market Shopping with jams\, salsas\, sauces & gifts\n\nBaby Goats\n\nScenic fall backdrops for photos\n\nIce Cream\n\nFresh Donuts\n\nSweet & Salty Kettle Corn\n\nRefreshing Caramel Apple Cider Slushies\, Swirls\, & Silos\n\nIced Lattes for that fall caffeine fix\n\nCozy warm drinks\n\nEvent codes cchwf ccfb ccff ccent cclm
URL:https://www.wlcnonline.com/event/pumpkinpalooza-event-at-mariahs-mums-more-in-rural-clinton/2025-10-04/
LOCATION:Mariah’s Mums & More in rural Clinton\, 16727 Airport Road\, Clinton\, IL\, 61727\, United States
ORGANIZER;CN="Mariah's Mums & More in rural Clinton":MAILTO:mariahandgreg@mariahsmums.com
END:VEVENT
BEGIN:VEVENT
DTSTART;TZID=America/Chicago:20251004T100000
DTEND;TZID=America/Chicago:20251004T170000
DTSTAMP:20260421T073516
CREATED:20250529T154912Z
LAST-MODIFIED:20250529T154912Z
UID:10020152-1759572000-1759597200@www.wlcnonline.com
SUMMARY:Strawberry season at Mariah's Mums and More in rural Clinton
DESCRIPTION:Mariah’s offers U-Pick strawberries grown in vertical high tunnels for the entire six-month picking season. \nBerry availability can vary throughout the season; the best way to stay informed about picking conditions and volume is by subscribing to Mariah’s weekly e-newsletter. You can also check the Mariah’s Facebook page to see if any updates have been posted. \nMariah’s recommends arriving as soon as they open during the spring and summer hours for the best chance to pick; depending on the number of pickers\, some days Mariah’s is picked out by noon. \nMariah’s opens at 9 AM until September\, when opening time switches to 10 AM. \nEvent codes cclbep
URL:https://www.wlcnonline.com/event/strawberry-season-at-mariahs-mums-and-more-in-rural-clinton-2/2025-10-04/
LOCATION:Mariah’s Mums & More in rural Clinton\, 16727 Airport Road\, Clinton\, IL\, 61727\, United States
ORGANIZER;CN="Mariah's Mums & More in rural Clinton":MAILTO:mariahandgreg@mariahsmums.com
END:VEVENT
BEGIN:VEVENT
DTSTART;TZID=America/Chicago:20251004T100000
DTEND;TZID=America/Chicago:20251004T110000
DTSTAMP:20260421T073516
CREATED:20251003T025624Z
LAST-MODIFIED:20251003T025624Z
UID:10020880-1759572000-1759575600@www.wlcnonline.com
SUMMARY:Yoga for Rescue by Nikki Chapman Yoga at Precision Movement in Lincoln
DESCRIPTION:This gentle yoga flow session is a donation-based event where all proceeds are raised benefit the Logan County Animal Rescue. All levels of yoga experience are welcome\, or those who would simply like to donate to the cause can stop by and do so during the hours of the event. \nEvent codes cchwf ccfdd
URL:https://www.wlcnonline.com/event/yoga-for-rescue-by-nikki-chapman-yoga-at-precision-movement-in-lincoln/
LOCATION:Precision Movement in Lincoln\, 1417 N. Kickapoo Street\, Lincoln\, IL\, 62656\, United States
ORGANIZER;CN="Precision Movement in Lincoln":MAILTO:ashley@precision-movement.com
END:VEVENT
BEGIN:VEVENT
DTSTART;TZID=America/Chicago:20251004T090000
DTEND;TZID=America/Chicago:20251004T120000
DTSTAMP:20260421T073516
CREATED:20251003T023953Z
LAST-MODIFIED:20251003T150603Z
UID:10020895-1759568400-1759579200@www.wlcnonline.com
SUMMARY:Flu shot clinic by Logan County Department of Public Health at Mt. Pulaski Public Library
DESCRIPTION:The Logan County Department of Public Health will administer Flu shots from 2 PM to 5 PM on Friday 10/3 and from 9 AM to noon on Saturday 10/4. \nEvent codes cchwf
URL:https://www.wlcnonline.com/event/flu-shot-clinic-by-logan-county-department-of-public-health-at-mt-pulaski-public-library/2025-10-04/
LOCATION:Mt. Pulaski Public Library\, 320 N. Washington Street\, Mt. Pulaski\, IL\, 62548\, United States
ORGANIZER;CN="Logan County Department of Public Health":MAILTO:info@lcdph.org
END:VEVENT
BEGIN:VEVENT
DTSTART;TZID=America/Chicago:20251004T090000
DTEND;TZID=America/Chicago:20251004T100000
DTSTAMP:20260421T073516
CREATED:20250227T214918Z
LAST-MODIFIED:20251231T162155Z
UID:10019152-1759568400-1759572000@www.wlcnonline.com
SUMMARY:Alcoholics Anonymous meetings by Land of Lincoln Recovery Group at Hope on 5th in Lincoln
DESCRIPTION:Meetings are free to attend and take place at 6 PM on Tuesdays\, Wednesdays\, Fridays and Saturdays as well as at 9 AM on Saturdays and Sundays. \nEvent codes
URL:https://www.wlcnonline.com/event/alcoholics-anonymous-meetings-by-land-of-lincoln-recovery-group-at-hope-on-5th-in-lincoln-2/2025-10-04/
LOCATION:Hope on 5th in Lincoln\, 200 5th Street\, Lincoln\, 62656\, United States
ORGANIZER;CN="Logan Mason Recovery Oriented Systems of Care (ROSC)":MAILTO:jedavis@chestnut.org
END:VEVENT
BEGIN:VEVENT
DTSTART;TZID=America/Chicago:20251004T080000
DTEND;TZID=America/Chicago:20251004T100000
DTSTAMP:20260421T073516
CREATED:20250925T182924Z
LAST-MODIFIED:20250925T182924Z
UID:10020864-1759564800-1759572000@www.wlcnonline.com
SUMMARY:Free week of Group Fitness Classes (October 1-7\, 2025) at Lincoln Park District
DESCRIPTION:Lincoln Park District is offering free classes for members of the community from October 1 through October 7. Individuals who are not members of the park district are invited to take part in any of the group fitness classes offered by the park district. Use this link to register online for the free classes. Call the park district for more information. \nEvent codes ccfre cchwf
URL:https://www.wlcnonline.com/event/free-week-of-group-fitness-classes-october-1-7-2025-at-lincoln-park-district/2025-10-04/
LOCATION:Lincoln Park District\, 1400 Primm Road\, Lincoln\, IL\, 62656\, United States
ORGANIZER;CN="Lincoln Park District":MAILTO:info@lincolnparkdistrict.com
END:VEVENT
BEGIN:VEVENT
DTSTART;TZID=America/Chicago:20251003T200000
DTEND;TZID=America/Chicago:20251003T230000
DTSTAMP:20260421T073516
CREATED:20251003T024556Z
LAST-MODIFIED:20251003T024556Z
UID:10020878-1759521600-1759532400@www.wlcnonline.com
SUMMARY:Live music by Off the Record at the Large Car Lounge in Lincoln
DESCRIPTION:Off the Record Plays a wide variety of hits spanning six decades. \nEvent codes ccent cclm ccfb ccsoc
URL:https://www.wlcnonline.com/event/live-music-by-off-the-record-at-the-large-car-lounge-in-lincoln/
LOCATION:LargeCar Lounge in Lincoln\, 2821 Woodlawn Road\, Lincoln\, IL\, 62656\, United States
END:VEVENT
BEGIN:VEVENT
DTSTART;TZID=America/Chicago:20251003T190000
DTEND;TZID=America/Chicago:20251003T220000
DTSTAMP:20260421T073516
CREATED:20251003T024316Z
LAST-MODIFIED:20251003T024316Z
UID:10020877-1759518000-1759528800@www.wlcnonline.com
SUMMARY:Live music by the Dreamcatchers at the Irish Circle in Wapella
DESCRIPTION:The Dreamcatchers feature a variety of tunes and styles with something for all ages. \nEvent codes ccent cclm ccfb ccsoc
URL:https://www.wlcnonline.com/event/live-music-by-the-dreamcatchers-at-the-irish-circle-in-wapella/
LOCATION:The Irish Circle in Wapella\, 405 N Walnut Street\, Wapella\, IL\, 61777\, United States
END:VEVENT
BEGIN:VEVENT
DTSTART;TZID=America/Chicago:20251003T180000
DTEND;TZID=America/Chicago:20251003T190000
DTSTAMP:20260421T073516
CREATED:20250227T215905Z
LAST-MODIFIED:20251231T161347Z
UID:10019273-1759514400-1759518000@www.wlcnonline.com
SUMMARY:Veterans recovery group meetings by Never Alone at Hope on 5th in Lincoln
DESCRIPTION:Meetings are free to attend and take place at 6 PM on the first and third Fridays of the month. \nEvent codes
URL:https://www.wlcnonline.com/event/veterans-recovery-group-meetings-by-never-alone-at-hope-on-5th-in-lincoln/2025-10-03/
LOCATION:Hope on 5th in Lincoln\, 200 5th Street\, Lincoln\, 62656\, United States
ORGANIZER;CN="Logan Mason Recovery Oriented Systems of Care (ROSC)":MAILTO:jedavis@chestnut.org
END:VEVENT
BEGIN:VEVENT
DTSTART;TZID=America/Chicago:20251003T180000
DTEND;TZID=America/Chicago:20251003T190000
DTSTAMP:20260421T073516
CREATED:20250227T214713Z
LAST-MODIFIED:20251231T161900Z
UID:10019038-1759514400-1759518000@www.wlcnonline.com
SUMMARY:Alcoholics Anonymous meetings by Land of Lincoln Recovery Group at Hope on 5th in Lincoln
DESCRIPTION:Meetings are free to attend and take place at 6 PM on Tuesdays\, Wednesdays\, Fridays and Saturdays as well as at 9 AM on Saturdays and Sundays. \nEvent codes
URL:https://www.wlcnonline.com/event/alcoholics-anonymous-meetings-by-land-of-lincoln-recovery-group-at-hope-on-5th-in-lincoln/2025-10-03/
LOCATION:Hope on 5th in Lincoln\, 200 5th Street\, Lincoln\, 62656\, United States
ORGANIZER;CN="Logan Mason Recovery Oriented Systems of Care (ROSC)":MAILTO:jedavis@chestnut.org
END:VEVENT
BEGIN:VEVENT
DTSTART;TZID=America/Chicago:20251003T140000
DTEND;TZID=America/Chicago:20251003T170000
DTSTAMP:20260421T073516
CREATED:20251003T023953Z
LAST-MODIFIED:20251003T150603Z
UID:10020876-1759500000-1759510800@www.wlcnonline.com
SUMMARY:Flu shot clinic by Logan County Department of Public Health at Mt. Pulaski Public Library
DESCRIPTION:The Logan County Department of Public Health will administer Flu shots from 2 PM to 5 PM on Friday 10/3 and from 9 AM to noon on Saturday 10/4. \nEvent codes cchwf
URL:https://www.wlcnonline.com/event/flu-shot-clinic-by-logan-county-department-of-public-health-at-mt-pulaski-public-library/2025-10-03/
LOCATION:Mt. Pulaski Public Library\, 320 N. Washington Street\, Mt. Pulaski\, IL\, 62548\, United States
ORGANIZER;CN="Logan County Department of Public Health":MAILTO:info@lcdph.org
END:VEVENT
BEGIN:VEVENT
DTSTART;TZID=America/Chicago:20251003T120000
DTEND;TZID=America/Chicago:20251003T133000
DTSTAMP:20260421T073516
CREATED:20250227T221857Z
LAST-MODIFIED:20251231T161051Z
UID:10019622-1759492800-1759498200@www.wlcnonline.com
SUMMARY:SMART (Self-Management and Recovery Training) recovery meetings at Hope on 5th in Lincoln
DESCRIPTION:Meetings are free to attend and take place Fridays from noon to 1:30 PM. \nEvent codes
URL:https://www.wlcnonline.com/event/smart-self-management-and-recovery-training-recovery-meetings-at-hope-on-5th-in-lincoln/2025-10-03/
LOCATION:Hope on 5th in Lincoln\, 200 5th Street\, Lincoln\, 62656\, United States
ORGANIZER;CN="Logan Mason Recovery Oriented Systems of Care (ROSC)":MAILTO:jedavis@chestnut.org
END:VEVENT
BEGIN:VEVENT
DTSTART;TZID=America/Chicago:20251003T110000
DTEND;TZID=America/Chicago:20251003T120000
DTSTAMP:20260421T073516
CREATED:20250227T220937Z
LAST-MODIFIED:20251231T160939Z
UID:10019447-1759489200-1759492800@www.wlcnonline.com
SUMMARY:Alcoholics Anonymous meetings at Trinity Episcopal Church in Lincoln
DESCRIPTION:Meetings are free to attend and take place at the following times: \n\nMondays at 7 PM\nWednesdays at 6 PM\nFridays at 11 AM\nSundays at 6 PM\n\nEvent codes
URL:https://www.wlcnonline.com/event/alcoholics-anonymous-meetings-at-trinity-episcopal-church-in-lincoln-3/2025-10-03/
LOCATION:Trinity Episcopal Church in Lincoln\, 402 Pekin Street\, Lincoln\, 62656\, United States
ORGANIZER;CN="Logan Mason Recovery Oriented Systems of Care (ROSC)":MAILTO:jedavis@chestnut.org
END:VEVENT
BEGIN:VEVENT
DTSTART;TZID=America/Chicago:20251003T051500
DTEND;TZID=America/Chicago:20251003T110000
DTSTAMP:20260421T073516
CREATED:20250925T182924Z
LAST-MODIFIED:20250925T182924Z
UID:10020863-1759468500-1759489200@www.wlcnonline.com
SUMMARY:Free week of Group Fitness Classes (October 1-7\, 2025) at Lincoln Park District
DESCRIPTION:Lincoln Park District is offering free classes for members of the community from October 1 through October 7. Individuals who are not members of the park district are invited to take part in any of the group fitness classes offered by the park district. Use this link to register online for the free classes. Call the park district for more information. \nEvent codes ccfre cchwf
URL:https://www.wlcnonline.com/event/free-week-of-group-fitness-classes-october-1-7-2025-at-lincoln-park-district/2025-10-03/
LOCATION:Lincoln Park District\, 1400 Primm Road\, Lincoln\, IL\, 62656\, United States
ORGANIZER;CN="Lincoln Park District":MAILTO:info@lincolnparkdistrict.com
END:VEVENT
BEGIN:VEVENT
DTSTART;TZID=America/Chicago:20251002T190000
DTEND;TZID=America/Chicago:20251002T220000
DTSTAMP:20260421T073516
CREATED:20250710T225735Z
LAST-MODIFIED:20251231T171651Z
UID:10018386-1759431600-1759442400@www.wlcnonline.com
SUMMARY:Open mic night at Spirited Republic in Lincoln
DESCRIPTION:Spirited Republic open mic nights are a solo acoustic musical experiment with the goal of cultivating friendship\, support and good times amongst musicians\, comedians\, poets and artists of all kinds. Performers are asked to bring their own instruments (no drum sets; hand drums and percussion equipment only). \nEvent codes: ccent\, ccfb\, cclm\, ccsoc
URL:https://www.wlcnonline.com/event/open-mic-night-at-spirited-republic-in-lincoln-2/2025-10-02/
LOCATION:Spirited Republic in Lincoln\, 509 Pulaski Street\, Lincoln\, IL\, 62656\, United States
ORGANIZER;CN="Spirited Republic/Limerick Brewing Company":MAILTO:spiritedrepublic@gmail.com
END:VEVENT
BEGIN:VEVENT
DTSTART;TZID=America/Chicago:20251002T190000
DTEND;TZID=America/Chicago:20251002T200000
DTSTAMP:20260421T073516
CREATED:20250227T221223Z
LAST-MODIFIED:20251231T171824Z
UID:10019534-1759431600-1759435200@www.wlcnonline.com
SUMMARY:Alcoholics Anonymous meetings at Atlanta Community House in Atlanta
DESCRIPTION:Meetings are free to attend and take place Thursdays at 7 PM. \nEvent codes
URL:https://www.wlcnonline.com/event/alcoholics-anonymous-meetings-at-atlanta-community-house-in-atlanta/2025-10-02/
LOCATION:Atlanta Memorial Community House\, 106 SW 6th Street\, Atlanta\, IL\, 61723\, United States
ORGANIZER;CN="Logan Mason Recovery Oriented Systems of Care (ROSC)":MAILTO:jedavis@chestnut.org
END:VEVENT
BEGIN:VEVENT
DTSTART;TZID=America/Chicago:20251002T190000
DTEND;TZID=America/Chicago:20251002T200000
DTSTAMP:20260421T073516
CREATED:20250227T220255Z
LAST-MODIFIED:20251231T170522Z
UID:10019316-1759431600-1759435200@www.wlcnonline.com
SUMMARY:Celebrate recovery events at Open Arms Christian Fellowship in Lincoln
DESCRIPTION:Events take place on Thursday evenings with snacks served at 6 PM and the meeting starting at 7 PM.
URL:https://www.wlcnonline.com/event/celebrate-recovery-events-at-open-arms-christian-fellowship-in-lincoln/2025-10-02/
LOCATION:Open Arms Christian Fellowship\, 1321 State Route 10\, Lincoln\, IL\, 62656\, United States
ORGANIZER;CN="Hope on 5th":MAILTO:rhss2005th@gmail.com
END:VEVENT
BEGIN:VEVENT
DTSTART;TZID=America/Chicago:20251002T190000
DTEND;TZID=America/Chicago:20251002T190000
DTSTAMP:20260421T073516
CREATED:20240329T042327Z
LAST-MODIFIED:20251231T163130Z
UID:10020331-1759431600-1759431600@www.wlcnonline.com
SUMMARY:Xtreme Bar Bingo at The Rusty Rail in Lincoln
DESCRIPTION:Xtreme Bar Bingo is bingo game with awesome prizes. The Rusty Rail features Xtreme Bar Bingo on Thursday nights beginning at 7 PM. \nEvent codes: ccgc\, ccsoc ccbin
URL:https://www.wlcnonline.com/event/xtreme-bar-bingo-at-the-rusty-rail-in-lincoln/2025-10-02/
LOCATION:The Rusty Rail Pub in Lincoln\, 405 Pulaski Street\, Lincoln\, IL\, 62656\, United States
END:VEVENT
BEGIN:VEVENT
DTSTART;TZID=America/Chicago:20251002T180000
DTEND;TZID=America/Chicago:20251002T190000
DTSTAMP:20260421T073516
CREATED:20250227T215251Z
LAST-MODIFIED:20251231T170747Z
UID:10019209-1759428000-1759431600@www.wlcnonline.com
SUMMARY:Narcotics Anonymous meetings by Land of Lincoln Recovery Group at Hope on 5th in Lincoln
DESCRIPTION:Meetings are free to attend and take place at 6 PM Thursdays as well as at 5 PM on Sundays. \nEvent codes
URL:https://www.wlcnonline.com/event/narcotics-anonymous-meetings-by-land-of-lincoln-recovery-group-at-hope-on-5th-in-lincoln-2/2025-10-02/
LOCATION:Hope on 5th in Lincoln\, 200 5th Street\, Lincoln\, 62656\, United States
ORGANIZER;CN="Logan Mason Recovery Oriented Systems of Care (ROSC)":MAILTO:jedavis@chestnut.org
END:VEVENT
BEGIN:VEVENT
DTSTART;TZID=America/Chicago:20251002T170000
DTEND;TZID=America/Chicago:20251002T210000
DTSTAMP:20260421T073516
CREATED:20250717T215744Z
LAST-MODIFIED:20251231T171425Z
UID:10020494-1759424400-1759438800@www.wlcnonline.com
SUMMARY:Thursday night bingo (meal @ 5 PM\, bingo @ 6:30 PM) at Eagles Lodge in Lincoln﻿
DESCRIPTION:Doors open at 5 PM with food being served. Bingo starts at 6:30 PM and includes cash prizes\, jackpots as well as jar balls. Open to the public. \nEvent codes ccfb ccgc ccsoc ccbin
URL:https://www.wlcnonline.com/event/thursday-night-bingo-meal-5-pm-bingo-630-pm-at-eagles-lodge-in-lincoln/2025-10-02/
LOCATION:Fraternal Order Of Eagles #2708 in Lincoln\, 1621 N. Kickapoo Street\, Lincoln\, IL\, 62656\, United States
END:VEVENT
BEGIN:VEVENT
DTSTART;TZID=America/Chicago:20251002T100000
DTEND;TZID=America/Chicago:20251002T104500
DTSTAMP:20260421T073516
CREATED:20250904T214858Z
LAST-MODIFIED:20260115T211934Z
UID:10020751-1759399200-1759401900@www.wlcnonline.com
SUMMARY:Fall prevention/balance building class by Silver Fox Fitness at Villas of Lincoln
DESCRIPTION:This class is designed for participants to build strength and endurance to help with building balance and preventing falls. \nEvent codes cchwf ccsen
URL:https://www.wlcnonline.com/event/fall-prevention-balance-building-class-by-silver-fox-fitness-at-villas-of-lincoln/2025-10-02/
LOCATION:Villas at Lincoln (formerly The Christian Village) in Lincoln\, 1507 7th Street\, Lincoln\, IL\, 62656\, United States
END:VEVENT
BEGIN:VEVENT
DTSTART;TZID=America/Chicago:20251002T051500
DTEND;TZID=America/Chicago:20251002T193000
DTSTAMP:20260421T073516
CREATED:20250925T182924Z
LAST-MODIFIED:20250925T182924Z
UID:10020862-1759382100-1759433400@www.wlcnonline.com
SUMMARY:Free week of Group Fitness Classes (October 1-7\, 2025) at Lincoln Park District
DESCRIPTION:Lincoln Park District is offering free classes for members of the community from October 1 through October 7. Individuals who are not members of the park district are invited to take part in any of the group fitness classes offered by the park district. Use this link to register online for the free classes. Call the park district for more information. \nEvent codes ccfre cchwf
URL:https://www.wlcnonline.com/event/free-week-of-group-fitness-classes-october-1-7-2025-at-lincoln-park-district/2025-10-02/
LOCATION:Lincoln Park District\, 1400 Primm Road\, Lincoln\, IL\, 62656\, United States
ORGANIZER;CN="Lincoln Park District":MAILTO:info@lincolnparkdistrict.com
END:VEVENT
BEGIN:VEVENT
DTSTART;TZID=America/Chicago:20251001T180000
DTEND;TZID=America/Chicago:20251001T235900
DTSTAMP:20260421T073516
CREATED:20250508T140922Z
LAST-MODIFIED:20250508T140922Z
UID:10020091-1759341600-1759363140@www.wlcnonline.com
SUMMARY:Bike night at The Rusty Rail Pub in Lincoln
DESCRIPTION:Bike Nights are back on Wednesdays through thru October 8. Enjoy drinks\, games\, contests\, prizes and of course bikes Wednesdays starting at 6 PM. \nEvent codes cclbep ccfb ccsoc
URL:https://www.wlcnonline.com/event/bike-night-at-the-rusty-rail-pub-in-lincoln/2025-10-01/
LOCATION:The Rusty Rail Pub in Lincoln\, 405 Pulaski Street\, Lincoln\, IL\, 62656\, United States
END:VEVENT
BEGIN:VEVENT
DTSTART;TZID=America/Chicago:20251001T180000
DTEND;TZID=America/Chicago:20251001T190000
DTSTAMP:20260421T073516
CREATED:20250227T221550Z
LAST-MODIFIED:20251231T171533Z
UID:10019577-1759341600-1759345200@www.wlcnonline.com
SUMMARY:Odds & Ends peer recovery support group meeting at Hardee's in Havana
DESCRIPTION:Meetings are free to attend and take place Wednesdays at 6 PM. \nEvent codes
URL:https://www.wlcnonline.com/event/odds-ends-peer-recovery-support-group-meeting-at-hardees-in-havana/2025-10-01/
LOCATION:Hardee’s in Havana\, 401 W. Dearborn Street\, Havana\, 62644\, United States
ORGANIZER;CN="Logan Mason Recovery Oriented Systems of Care (ROSC)":MAILTO:jedavis@chestnut.org
END:VEVENT
BEGIN:VEVENT
DTSTART;TZID=America/Chicago:20251001T180000
DTEND;TZID=America/Chicago:20251001T190000
DTSTAMP:20260421T073516
CREATED:20250227T220829Z
LAST-MODIFIED:20251231T164443Z
UID:10019403-1759341600-1759345200@www.wlcnonline.com
SUMMARY:Alcoholics Anonymous meetings at Trinity Episcopal Church in Lincoln
DESCRIPTION:Meetings are free to attend and take place at the following times: \n\nMondays at 7 PM\nWednesdays at 6 PM\nFridays at 11 AM\nSundays at 6 PM\n\nEvent codes
URL:https://www.wlcnonline.com/event/alcoholics-anonymous-meetings-at-trinity-episcopal-church-in-lincoln-2/2025-10-01/
LOCATION:Trinity Episcopal Church in Lincoln\, 402 Pekin Street\, Lincoln\, 62656\, United States
ORGANIZER;CN="Logan Mason Recovery Oriented Systems of Care (ROSC)":MAILTO:jedavis@chestnut.org
END:VEVENT
BEGIN:VEVENT
DTSTART;TZID=America/Chicago:20251001T180000
DTEND;TZID=America/Chicago:20251001T190000
DTSTAMP:20260421T073516
CREATED:20250227T214713Z
LAST-MODIFIED:20251231T161900Z
UID:10019037-1759341600-1759345200@www.wlcnonline.com
SUMMARY:Alcoholics Anonymous meetings by Land of Lincoln Recovery Group at Hope on 5th in Lincoln
DESCRIPTION:Meetings are free to attend and take place at 6 PM on Tuesdays\, Wednesdays\, Fridays and Saturdays as well as at 9 AM on Saturdays and Sundays. \nEvent codes
URL:https://www.wlcnonline.com/event/alcoholics-anonymous-meetings-by-land-of-lincoln-recovery-group-at-hope-on-5th-in-lincoln/2025-10-01/
LOCATION:Hope on 5th in Lincoln\, 200 5th Street\, Lincoln\, 62656\, United States
ORGANIZER;CN="Logan Mason Recovery Oriented Systems of Care (ROSC)":MAILTO:jedavis@chestnut.org
END:VEVENT
BEGIN:VEVENT
DTSTART;TZID=America/Chicago:20251001T100000
DTEND;TZID=America/Chicago:20251001T220000
DTSTAMP:20260421T073516
CREATED:20250829T031235Z
LAST-MODIFIED:20250829T031235Z
UID:10020714-1759312800-1759356000@www.wlcnonline.com
SUMMARY:Fundraiser for West Lincoln Broadwell School at Culver's of Lincoln
DESCRIPTION:Purchase food from Culver’s of Lincoln and help support a worthy cause whether dining in\, carrying out\, using the drive-thru or ordering through DoorDash. During the hours of the fundraiser\, a portion of all proceeds will be donated to the organization. Fundraisers for all schools run all day. Those making purchases during school fundraisers must fill out a slip to designate the class to which the donation is to be credited; those ordering via DoorDash can call Culver’s (217-732-7300) to designate how the donation from their purchase should be allocated. \nEvent codes ccfb\, ccfdd
URL:https://www.wlcnonline.com/event/fundraiser-for-west-lincoln-broadwell-school-at-culvers-of-lincoln/2025-10-01/
LOCATION:Culver’s of Lincoln\, 2530 Woodlawn Road\, Lincoln\, IL\, 62656\, United States
ORGANIZER;CN="Culver's of Lincoln":MAILTO:lincolnculvers@comcast.net
END:VEVENT
END:VCALENDAR