BEGIN:VCALENDAR
VERSION:2.0
PRODID:-//WLCN 96.3 FM - ECPv6.15.20//NONSGML v1.0//EN
CALSCALE:GREGORIAN
METHOD:PUBLISH
X-WR-CALNAME:WLCN 96.3 FM
X-ORIGINAL-URL:https://www.wlcnonline.com
X-WR-CALDESC:Events for WLCN 96.3 FM
REFRESH-INTERVAL;VALUE=DURATION:PT1H
X-Robots-Tag:noindex
X-PUBLISHED-TTL:PT1H
BEGIN:VTIMEZONE
TZID:America/Chicago
BEGIN:DAYLIGHT
TZOFFSETFROM:-0600
TZOFFSETTO:-0500
TZNAME:CDT
DTSTART:20250309T080000
END:DAYLIGHT
BEGIN:STANDARD
TZOFFSETFROM:-0500
TZOFFSETTO:-0600
TZNAME:CST
DTSTART:20251102T070000
END:STANDARD
BEGIN:DAYLIGHT
TZOFFSETFROM:-0600
TZOFFSETTO:-0500
TZNAME:CDT
DTSTART:20260308T080000
END:DAYLIGHT
BEGIN:STANDARD
TZOFFSETFROM:-0500
TZOFFSETTO:-0600
TZNAME:CST
DTSTART:20261101T070000
END:STANDARD
BEGIN:DAYLIGHT
TZOFFSETFROM:-0600
TZOFFSETTO:-0500
TZNAME:CDT
DTSTART:20270314T080000
END:DAYLIGHT
BEGIN:STANDARD
TZOFFSETFROM:-0500
TZOFFSETTO:-0600
TZNAME:CST
DTSTART:20271107T070000
END:STANDARD
END:VTIMEZONE
BEGIN:VEVENT
DTSTART;TZID=America/Chicago:20260201T180000
DTEND;TZID=America/Chicago:20260201T190000
DTSTAMP:20260420T031748
CREATED:20250227T221038Z
LAST-MODIFIED:20251231T162443Z
UID:10021690-1769968800-1769972400@www.wlcnonline.com
SUMMARY:Alcoholics Anonymous meetings at Trinity Episcopal Church in Lincoln
DESCRIPTION:Meetings are free to attend and take place at the following times: \n\nMondays at 7 PM\nWednesdays at 6 PM\nFridays at 11 AM\nSundays at 6 PM\n\nEvent codes
URL:https://www.wlcnonline.com/event/alcoholics-anonymous-meetings-at-trinity-episcopal-church-in-lincoln-4/2026-02-01/
LOCATION:Trinity Episcopal Church in Lincoln\, 402 Pekin Street\, Lincoln\, 62656\, United States
ORGANIZER;CN="Logan Mason Recovery Oriented Systems of Care (ROSC)":MAILTO:jedavis@chestnut.org
END:VEVENT
BEGIN:VEVENT
DTSTART;TZID=America/Chicago:20260201T170000
DTEND;TZID=America/Chicago:20260201T180000
DTSTAMP:20260420T031748
CREATED:20250227T215139Z
LAST-MODIFIED:20251231T162319Z
UID:10021664-1769965200-1769968800@www.wlcnonline.com
SUMMARY:Narcotics Anonymous meetings by Land of Lincoln Recovery Group at Hope on 5th in Lincoln
DESCRIPTION:Meetings are free to attend and take place at 6 PM Thursdays as well as at 5 PM on Sundays. \nEvent codes
URL:https://www.wlcnonline.com/event/narcotics-anonymous-meetings-by-land-of-lincoln-recovery-group-at-hope-on-5th-in-lincoln/2026-02-01/
LOCATION:Hope on 5th in Lincoln\, 200 5th Street\, Lincoln\, 62656\, United States
ORGANIZER;CN="Logan Mason Recovery Oriented Systems of Care (ROSC)":MAILTO:jedavis@chestnut.org
END:VEVENT
BEGIN:VEVENT
DTSTART;TZID=America/Chicago:20260201T140000
DTEND;TZID=America/Chicago:20260201T160000
DTSTAMP:20260420T031748
CREATED:20240607T073345Z
LAST-MODIFIED:20251231T163021Z
UID:10021749-1769954400-1769961600@www.wlcnonline.com
SUMMARY:Xtreme Bar Bingo at The Next Stop Saloon in Mt. Pulaski
DESCRIPTION:Games take place every Sunday from 2 PM to 4 PM. \nEvent codes ccfb ccbin
URL:https://www.wlcnonline.com/event/xtreme-bar-bingo-at-the-next-stop-saloon-in-mt-pulaski/2026-02-01/
LOCATION:The Next Stop Saloon in Mt. Pulaski\, 100 E. Cooke Street\, Mt. Pulaski\, IL\, 62548\, United States
END:VEVENT
BEGIN:VEVENT
DTSTART;TZID=America/Chicago:20260201T110000
DTEND;TZID=America/Chicago:20260201T140000
DTSTAMP:20260420T031748
CREATED:20260122T203602Z
LAST-MODIFIED:20260122T203602Z
UID:10022361-1769943600-1769954400@www.wlcnonline.com
SUMMARY:2nd Annual Candy Class at Ollie’s Diner and Candy Shoppe in New Holland
DESCRIPTION:The event is being offered during Valentine season this year. All ages are welcome\, but those 12 and under must be accompanied by an adult. \nCost is $40 per person and includes buffet style luncheon with  choice of Italian chicken or pulled pork. Attendees also get to take their handmade chocolates home. There will be milk\, white\, or dark chocolate options available. Call or text (217) 870-7880 or send an email to olliesdiner@hotmail.com reserve a spot; registration deadline is Jan 30. \nEvent codes ccfb ccsoc
URL:https://www.wlcnonline.com/event/2nd-annual-candy-class-at-ollies-diner-and-candy-shoppe-in-new-holland/
LOCATION:Ollie’s Diner and Sweet Shoppe in New Holland\, 103 W. Lincoln Street\, New Holland\, IL\, 62671\, United States
ORGANIZER;CN="Ollie's Diner and Sweet Shoppe in New Holland":MAILTO:Olliesdiner@hotmail.com
END:VEVENT
BEGIN:VEVENT
DTSTART;TZID=America/Chicago:20260201T090000
DTEND;TZID=America/Chicago:20260201T100000
DTSTAMP:20260420T031748
CREATED:20250227T214918Z
LAST-MODIFIED:20251231T162155Z
UID:10021617-1769936400-1769940000@www.wlcnonline.com
SUMMARY:Alcoholics Anonymous meetings by Land of Lincoln Recovery Group at Hope on 5th in Lincoln
DESCRIPTION:Meetings are free to attend and take place at 6 PM on Tuesdays\, Wednesdays\, Fridays and Saturdays as well as at 9 AM on Saturdays and Sundays. \nEvent codes
URL:https://www.wlcnonline.com/event/alcoholics-anonymous-meetings-by-land-of-lincoln-recovery-group-at-hope-on-5th-in-lincoln-2/2026-02-01/
LOCATION:Hope on 5th in Lincoln\, 200 5th Street\, Lincoln\, 62656\, United States
ORGANIZER;CN="Logan Mason Recovery Oriented Systems of Care (ROSC)":MAILTO:jedavis@chestnut.org
END:VEVENT
BEGIN:VEVENT
DTSTART;TZID=America/Chicago:20260131T200000
DTEND;TZID=America/Chicago:20260201T000000
DTSTAMP:20260420T031748
CREATED:20260128T230404Z
LAST-MODIFIED:20260128T230404Z
UID:10022367-1769889600-1769904000@www.wlcnonline.com
SUMMARY:Luau with karaoke at The Thirsty Rooster in Middletown
DESCRIPTION:Wear a favorite Hawaiian shirt and shades\, enjoy karaoke by Future Entertainment and help shake off the winter blues at this luau event. \nEvent codes cckar ccfb ccsoc ccent
URL:https://www.wlcnonline.com/event/luau-with-karaoke-at-the-thirsty-rooster-in-middletown/
LOCATION:The Thirsty Rooster in Middletown\, 104 South Madison Street\, Middletown\, IL\, 62666\, United States
ORGANIZER;CN="The Thirsty Rooster":MAILTO:thethirstyrooster@yahoo.com
END:VEVENT
BEGIN:VEVENT
DTSTART;TZID=America/Chicago:20260131T200000
DTEND;TZID=America/Chicago:20260201T000000
DTSTAMP:20260420T031748
CREATED:20251231T212300Z
LAST-MODIFIED:20260216T023148Z
UID:10022222-1769889600-1769904000@www.wlcnonline.com
SUMMARY:Classic country karaoke night (through January 2026) at The Next Stop Saloon in Mt. Pulaski
DESCRIPTION:The January events will feature classic country. \nEvent codes ccent cckar cclm
URL:https://www.wlcnonline.com/event/classic-country-karaoke-night-through-january-2026-at-the-next-stop-saloon-in-mt-pulaski/2026-01-31/
LOCATION:The Next Stop Saloon in Mt. Pulaski\, 100 E. Cooke Street\, Mt. Pulaski\, IL\, 62548\, United States
END:VEVENT
BEGIN:VEVENT
DTSTART;TZID=America/Chicago:20260131T190000
DTEND;TZID=America/Chicago:20260131T230000
DTSTAMP:20260420T031748
CREATED:20260128T230816Z
LAST-MODIFIED:20260128T230816Z
UID:10022368-1769886000-1769900400@www.wlcnonline.com
SUMMARY:Live music by Hillbilly High-Rise at the Rusty Rail Pub in Lincoln
DESCRIPTION:Hillbilly High-Rise features a wide variety of cover songs\, from artists such as Keith Urban\, Gretchen Wilson\, Jimmy Eat World\, Miranda Lambert and many more. \nEvent codes cclm ccent ccfb
URL:https://www.wlcnonline.com/event/live-music-by-hillbilly-high-rise-at-the-rusty-rail-pub-in-lincoln/
LOCATION:The Rusty Rail Pub in Lincoln\, 405 Pulaski Street\, Lincoln\, IL\, 62656\, United States
END:VEVENT
BEGIN:VEVENT
DTSTART;TZID=America/Chicago:20260131T180000
DTEND;TZID=America/Chicago:20260131T190000
DTSTAMP:20260420T031748
CREATED:20250227T214713Z
LAST-MODIFIED:20251231T161900Z
UID:10021522-1769882400-1769886000@www.wlcnonline.com
SUMMARY:Alcoholics Anonymous meetings by Land of Lincoln Recovery Group at Hope on 5th in Lincoln
DESCRIPTION:Meetings are free to attend and take place at 6 PM on Tuesdays\, Wednesdays\, Fridays and Saturdays as well as at 9 AM on Saturdays and Sundays. \nEvent codes
URL:https://www.wlcnonline.com/event/alcoholics-anonymous-meetings-by-land-of-lincoln-recovery-group-at-hope-on-5th-in-lincoln/2026-01-31/
LOCATION:Hope on 5th in Lincoln\, 200 5th Street\, Lincoln\, 62656\, United States
ORGANIZER;CN="Logan Mason Recovery Oriented Systems of Care (ROSC)":MAILTO:jedavis@chestnut.org
END:VEVENT
BEGIN:VEVENT
DTSTART;TZID=America/Chicago:20260131T163000
DTEND;TZID=America/Chicago:20260131T190000
DTSTAMP:20260420T031748
CREATED:20260122T210841Z
LAST-MODIFIED:20260122T210841Z
UID:10022364-1769877000-1769886000@www.wlcnonline.com
SUMMARY:Fish supper by Emden Sons of American Legion at Emden Community House
DESCRIPTION:The Sons of the American Legion Post 506 will host their annual Fish Fry on Saturday\, January 31 in the basement of the Emden Community House. Serving will be from 4:30-7:00. Carry outs will be available. Cost is a donation. You do not need to purchase tickets for the dinner. \nThe Sons of the American Legion will be selling 1 deck of playing cards (52) for a HENRY GOLDEN BOY 22 Cal. Rifle. Only 1 deck will be sold. Cards will be available to purchase the night of the Fish Fry. Cards cost $20.00 each until all are sold. Winner will be drawn and notified immediately. All Illinois gun laws and rules will apply. \nEvent codes ccfdd ccfb
URL:https://www.wlcnonline.com/event/fish-supper-by-emden-sons-of-american-legion-at-emden-community-house/
LOCATION:Emden Community House\, 301 Lincoln Street\, Emden\, IL\, 62635\, United States
ORGANIZER;CN="Emden Sons of American Legion Post #506":MAILTO:nickrohlfs@gmail.com
END:VEVENT
BEGIN:VEVENT
DTSTART;TZID=America/Chicago:20260131T100000
DTEND;TZID=America/Chicago:20260131T100000
DTSTAMP:20260420T031748
CREATED:20260128T225859Z
LAST-MODIFIED:20260312T155523Z
UID:10022366-1769853600-1769853600@www.wlcnonline.com
SUMMARY:"The Divine Feminine" women's group for self-discovery at Soulful Wellness Collective in Lincoln
DESCRIPTION:This group will hold recurring sessions for participants to come together and discuss different topics and explore vulnerable thoughts in a safe\, contained environment to empower and support each other. The group may also explore different modalities for energy healing such as reiki\, tarot readings\, meditation\, sound baths and gentle yoga stretches. \nTickets are available through the Wix Spaces interface. \nEvent codes cchwf
URL:https://www.wlcnonline.com/event/the-divine-feminine-womens-group-for-self-discovery-at-soulful-wellness-collective-in-lincoln-2/2026-01-31/
LOCATION:Soulful Wellness Collective in Lincoln\, 1555 5th Street\, Lincoln\, 62656\, United States
END:VEVENT
BEGIN:VEVENT
DTSTART;TZID=America/Chicago:20260131T090000
DTEND;TZID=America/Chicago:20260131T100000
DTSTAMP:20260420T031748
CREATED:20250227T214918Z
LAST-MODIFIED:20251231T162155Z
UID:10021616-1769850000-1769853600@www.wlcnonline.com
SUMMARY:Alcoholics Anonymous meetings by Land of Lincoln Recovery Group at Hope on 5th in Lincoln
DESCRIPTION:Meetings are free to attend and take place at 6 PM on Tuesdays\, Wednesdays\, Fridays and Saturdays as well as at 9 AM on Saturdays and Sundays. \nEvent codes
URL:https://www.wlcnonline.com/event/alcoholics-anonymous-meetings-by-land-of-lincoln-recovery-group-at-hope-on-5th-in-lincoln-2/2026-01-31/
LOCATION:Hope on 5th in Lincoln\, 200 5th Street\, Lincoln\, 62656\, United States
ORGANIZER;CN="Logan Mason Recovery Oriented Systems of Care (ROSC)":MAILTO:jedavis@chestnut.org
END:VEVENT
BEGIN:VEVENT
DTSTART;TZID=America/Chicago:20260130T190000
DTEND;TZID=America/Chicago:20260130T220000
DTSTAMP:20260420T031748
CREATED:20260122T203113Z
LAST-MODIFIED:20260122T203113Z
UID:10022360-1769799600-1769810400@www.wlcnonline.com
SUMMARY:Live music by The Blo-No Boogie Band at the Irish Circle in Wapella
DESCRIPTION:The Blo-No Boogie Band featuring Anastasia Shawback performs at the Irish Circle on January 30. \nEvent codes ccent cclm ccfb
URL:https://www.wlcnonline.com/event/live-music-by-the-blo-no-boogie-band-at-the-irish-circle-in-wapella/
LOCATION:The Irish Circle in Wapella\, 405 N Walnut Street\, Wapella\, IL\, 61777\, United States
END:VEVENT
BEGIN:VEVENT
DTSTART;TZID=America/Chicago:20260130T180000
DTEND;TZID=America/Chicago:20260130T190000
DTSTAMP:20260420T031748
CREATED:20250227T214713Z
LAST-MODIFIED:20251231T161900Z
UID:10021521-1769796000-1769799600@www.wlcnonline.com
SUMMARY:Alcoholics Anonymous meetings by Land of Lincoln Recovery Group at Hope on 5th in Lincoln
DESCRIPTION:Meetings are free to attend and take place at 6 PM on Tuesdays\, Wednesdays\, Fridays and Saturdays as well as at 9 AM on Saturdays and Sundays. \nEvent codes
URL:https://www.wlcnonline.com/event/alcoholics-anonymous-meetings-by-land-of-lincoln-recovery-group-at-hope-on-5th-in-lincoln/2026-01-30/
LOCATION:Hope on 5th in Lincoln\, 200 5th Street\, Lincoln\, 62656\, United States
ORGANIZER;CN="Logan Mason Recovery Oriented Systems of Care (ROSC)":MAILTO:jedavis@chestnut.org
END:VEVENT
BEGIN:VEVENT
DTSTART;TZID=America/Chicago:20260130T120000
DTEND;TZID=America/Chicago:20260130T133000
DTSTAMP:20260420T031748
CREATED:20250227T221857Z
LAST-MODIFIED:20251231T161051Z
UID:10021445-1769774400-1769779800@www.wlcnonline.com
SUMMARY:SMART (Self-Management and Recovery Training) recovery meetings at Hope on 5th in Lincoln
DESCRIPTION:Meetings are free to attend and take place Fridays from noon to 1:30 PM. \nEvent codes
URL:https://www.wlcnonline.com/event/smart-self-management-and-recovery-training-recovery-meetings-at-hope-on-5th-in-lincoln/2026-01-30/
LOCATION:Hope on 5th in Lincoln\, 200 5th Street\, Lincoln\, 62656\, United States
ORGANIZER;CN="Logan Mason Recovery Oriented Systems of Care (ROSC)":MAILTO:jedavis@chestnut.org
END:VEVENT
BEGIN:VEVENT
DTSTART;TZID=America/Chicago:20260130T110000
DTEND;TZID=America/Chicago:20260130T120000
DTSTAMP:20260420T031748
CREATED:20250227T220937Z
LAST-MODIFIED:20251231T160939Z
UID:10021419-1769770800-1769774400@www.wlcnonline.com
SUMMARY:Alcoholics Anonymous meetings at Trinity Episcopal Church in Lincoln
DESCRIPTION:Meetings are free to attend and take place at the following times: \n\nMondays at 7 PM\nWednesdays at 6 PM\nFridays at 11 AM\nSundays at 6 PM\n\nEvent codes
URL:https://www.wlcnonline.com/event/alcoholics-anonymous-meetings-at-trinity-episcopal-church-in-lincoln-3/2026-01-30/
LOCATION:Trinity Episcopal Church in Lincoln\, 402 Pekin Street\, Lincoln\, 62656\, United States
ORGANIZER;CN="Logan Mason Recovery Oriented Systems of Care (ROSC)":MAILTO:jedavis@chestnut.org
END:VEVENT
BEGIN:VEVENT
DTSTART;TZID=America/Chicago:20260129T190000
DTEND;TZID=America/Chicago:20260129T220000
DTSTAMP:20260420T031748
CREATED:20250710T225735Z
LAST-MODIFIED:20251231T171651Z
UID:10022117-1769713200-1769724000@www.wlcnonline.com
SUMMARY:Open mic night at Spirited Republic in Lincoln
DESCRIPTION:Spirited Republic open mic nights are a solo acoustic musical experiment with the goal of cultivating friendship\, support and good times amongst musicians\, comedians\, poets and artists of all kinds. Performers are asked to bring their own instruments (no drum sets; hand drums and percussion equipment only). \nEvent codes: ccent\, ccfb\, cclm\, ccsoc
URL:https://www.wlcnonline.com/event/open-mic-night-at-spirited-republic-in-lincoln-2/2026-01-29/
LOCATION:Spirited Republic in Lincoln\, 509 Pulaski Street\, Lincoln\, IL\, 62656\, United States
ORGANIZER;CN="Spirited Republic/Limerick Brewing Company":MAILTO:spiritedrepublic@gmail.com
END:VEVENT
BEGIN:VEVENT
DTSTART;TZID=America/Chicago:20260129T190000
DTEND;TZID=America/Chicago:20260129T200000
DTSTAMP:20260420T031748
CREATED:20250227T221223Z
LAST-MODIFIED:20251231T171824Z
UID:10022143-1769713200-1769716800@www.wlcnonline.com
SUMMARY:Alcoholics Anonymous meetings at Atlanta Community House in Atlanta
DESCRIPTION:Meetings are free to attend and take place Thursdays at 7 PM. \nEvent codes
URL:https://www.wlcnonline.com/event/alcoholics-anonymous-meetings-at-atlanta-community-house-in-atlanta/2026-01-29/
LOCATION:Atlanta Memorial Community House\, 106 SW 6th Street\, Atlanta\, IL\, 61723\, United States
ORGANIZER;CN="Logan Mason Recovery Oriented Systems of Care (ROSC)":MAILTO:jedavis@chestnut.org
END:VEVENT
BEGIN:VEVENT
DTSTART;TZID=America/Chicago:20260129T190000
DTEND;TZID=America/Chicago:20260129T200000
DTSTAMP:20260420T031748
CREATED:20250227T220255Z
LAST-MODIFIED:20251231T170522Z
UID:10021985-1769713200-1769716800@www.wlcnonline.com
SUMMARY:Celebrate recovery events at Open Arms Christian Fellowship in Lincoln
DESCRIPTION:Events take place on Thursday evenings with snacks served at 6 PM and the meeting starting at 7 PM.
URL:https://www.wlcnonline.com/event/celebrate-recovery-events-at-open-arms-christian-fellowship-in-lincoln/2026-01-29/
LOCATION:Open Arms Christian Fellowship\, 1321 State Route 10\, Lincoln\, IL\, 62656\, United States
ORGANIZER;CN="Hope on 5th":MAILTO:rhss2005th@gmail.com
END:VEVENT
BEGIN:VEVENT
DTSTART;TZID=America/Chicago:20260129T190000
DTEND;TZID=America/Chicago:20260129T190000
DTSTAMP:20260420T031748
CREATED:20240329T042327Z
LAST-MODIFIED:20251231T163130Z
UID:10021775-1769713200-1769713200@www.wlcnonline.com
SUMMARY:Xtreme Bar Bingo at The Rusty Rail in Lincoln
DESCRIPTION:Xtreme Bar Bingo is bingo game with awesome prizes. The Rusty Rail features Xtreme Bar Bingo on Thursday nights beginning at 7 PM. \nEvent codes: ccgc\, ccsoc ccbin
URL:https://www.wlcnonline.com/event/xtreme-bar-bingo-at-the-rusty-rail-in-lincoln/2026-01-29/
LOCATION:The Rusty Rail Pub in Lincoln\, 405 Pulaski Street\, Lincoln\, IL\, 62656\, United States
END:VEVENT
BEGIN:VEVENT
DTSTART;TZID=America/Chicago:20260129T180000
DTEND;TZID=America/Chicago:20260129T190000
DTSTAMP:20260420T031748
CREATED:20250227T215251Z
LAST-MODIFIED:20251231T170747Z
UID:10022011-1769709600-1769713200@www.wlcnonline.com
SUMMARY:Narcotics Anonymous meetings by Land of Lincoln Recovery Group at Hope on 5th in Lincoln
DESCRIPTION:Meetings are free to attend and take place at 6 PM Thursdays as well as at 5 PM on Sundays. \nEvent codes
URL:https://www.wlcnonline.com/event/narcotics-anonymous-meetings-by-land-of-lincoln-recovery-group-at-hope-on-5th-in-lincoln-2/2026-01-29/
LOCATION:Hope on 5th in Lincoln\, 200 5th Street\, Lincoln\, 62656\, United States
ORGANIZER;CN="Logan Mason Recovery Oriented Systems of Care (ROSC)":MAILTO:jedavis@chestnut.org
END:VEVENT
BEGIN:VEVENT
DTSTART;TZID=America/Chicago:20260129T170000
DTEND;TZID=America/Chicago:20260129T210000
DTSTAMP:20260420T031748
CREATED:20250717T215744Z
LAST-MODIFIED:20251231T171425Z
UID:10022038-1769706000-1769720400@www.wlcnonline.com
SUMMARY:Thursday night bingo (meal @ 5 PM\, bingo @ 6:30 PM) at Eagles Lodge in Lincoln﻿
DESCRIPTION:Doors open at 5 PM with food being served. Bingo starts at 6:30 PM and includes cash prizes\, jackpots as well as jar balls. Open to the public. \nEvent codes ccfb ccgc ccsoc ccbin
URL:https://www.wlcnonline.com/event/thursday-night-bingo-meal-5-pm-bingo-630-pm-at-eagles-lodge-in-lincoln/2026-01-29/
LOCATION:Fraternal Order Of Eagles #2708 in Lincoln\, 1621 N. Kickapoo Street\, Lincoln\, IL\, 62656\, United States
END:VEVENT
BEGIN:VEVENT
DTSTART;TZID=America/Chicago:20260129T170000
DTEND;TZID=America/Chicago:20260129T200000
DTSTAMP:20260420T031748
CREATED:20250130T145439Z
LAST-MODIFIED:20260108T204109Z
UID:10022244-1769706000-1769716800@www.wlcnonline.com
SUMMARY:Fundraiser for Carroll Catholic School at Culver's of Lincoln
DESCRIPTION:Purchase food from Culver’s of Lincoln and help support a worthy cause whether dining in\, carrying out\, using the drive-thru or ordering through DoorDash. During the hours of the fundraiser\, a portion of all proceeds will be donated to the organization. Fundraisers for all schools run all day. Those making purchases during school fundraisers must fill out a slip to designate the class to which the donation is to be credited; those ordering via DoorDash can call Culver’s (217-732-7300) to designate how the donation from their purchase should be allocated. \nEvent codes ccfb\, ccfdd
URL:https://www.wlcnonline.com/event/fundraiser-for-carroll-catholic-school-at-culvers-of-lincoln-2/2026-01-29/
LOCATION:Culver’s of Lincoln\, 2530 Woodlawn Road\, Lincoln\, IL\, 62656\, United States
ORGANIZER;CN="Culver's of Lincoln":MAILTO:lincolnculvers@comcast.net
END:VEVENT
BEGIN:VEVENT
DTSTART;TZID=America/Chicago:20260129T170000
DTEND;TZID=America/Chicago:20260129T190000
DTSTAMP:20260420T031748
CREATED:20260122T202750Z
LAST-MODIFIED:20260122T202750Z
UID:10022359-1769706000-1769713200@www.wlcnonline.com
SUMMARY:Card-making class at Mount Hope Funks Grove Library in McLean
DESCRIPTION:Participants can decorate a fun Valentine’s Day card for $2.50 per participant. Those planning to attend should sign up and pay at the library before the 21st; class is limited to 10 people. The class is intended for adults\, but older children supervised by an adult are welcomed. \nEvent codes ccaca ccsoc
URL:https://www.wlcnonline.com/event/card-making-class-at-mount-hope-funks-grove-library-in-mclean/
LOCATION:Mt. Hope Funks Grove Library\, 111 S. Hamilton Street\, McLean\, IL\, 61754\, United States
ORGANIZER;CN="Mt. Hope Funks Grove Library":MAILTO:mhfglibrary1@hotmail.com
END:VEVENT
BEGIN:VEVENT
DTSTART;TZID=America/Chicago:20260129T160000
DTEND;TZID=America/Chicago:20260129T164500
DTSTAMP:20260420T031748
CREATED:20260115T212533Z
LAST-MODIFIED:20260115T212533Z
UID:10022303-1769702400-1769705100@www.wlcnonline.com
SUMMARY:EnerChi class by Silver Fox Fitness at Oasis Senior Center in Lincoln
DESCRIPTION:The forms and stances learned and practiced in this class help build strength and balance. As always\, this class is adaptable to ALL ability levels; a chair is always close by to assist in balance or to sit if needed. \nEvent codes: ccfs\, cchwf
URL:https://www.wlcnonline.com/event/enerchi-class-by-silver-fox-fitness-at-oasis-senior-center-in-lincoln/2026-01-29/
LOCATION:Oasis Senior Center\, 2810 Woodlawn Road\, Lincoln\, IL\, 62656\, United States
END:VEVENT
BEGIN:VEVENT
DTSTART;TZID=America/Chicago:20260129T100000
DTEND;TZID=America/Chicago:20260129T104500
DTSTAMP:20260420T031748
CREATED:20250904T214858Z
LAST-MODIFIED:20260115T211934Z
UID:10022066-1769680800-1769683500@www.wlcnonline.com
SUMMARY:Fall prevention/balance building class by Silver Fox Fitness at Villas of Lincoln
DESCRIPTION:This class is designed for participants to build strength and endurance to help with building balance and preventing falls. \nEvent codes cchwf ccsen
URL:https://www.wlcnonline.com/event/fall-prevention-balance-building-class-by-silver-fox-fitness-at-villas-of-lincoln/2026-01-29/
LOCATION:Villas at Lincoln (formerly The Christian Village) in Lincoln\, 1507 7th Street\, Lincoln\, IL\, 62656\, United States
END:VEVENT
BEGIN:VEVENT
DTSTART;TZID=America/Chicago:20260128T190000
DTEND;TZID=America/Chicago:20260128T210000
DTSTAMP:20260420T031748
CREATED:20251231T172026Z
LAST-MODIFIED:20260220T140551Z
UID:10022170-1769626800-1769634000@www.wlcnonline.com
SUMMARY:Wednesday night trivia at Spirited Republic in Lincoln
DESCRIPTION:Each week features 7 rounds of trivia designed to challenge participants. \nEvent codes: ccgc\, ccsoc\, cctri
URL:https://www.wlcnonline.com/event/wednesday-night-trivia-at-spirited-republic-in-lincoln/2026-01-28/
LOCATION:Spirited Republic in Lincoln\, 509 Pulaski Street\, Lincoln\, IL\, 62656\, United States
ORGANIZER;CN="Spirited Republic/Limerick Brewing Company":MAILTO:spiritedrepublic@gmail.com
END:VEVENT
BEGIN:VEVENT
DTSTART;TZID=America/Chicago:20260128T190000
DTEND;TZID=America/Chicago:20260128T210000
DTSTAMP:20260420T031748
CREATED:20251120T195923Z
LAST-MODIFIED:20251120T200605Z
UID:10021090-1769626800-1769634000@www.wlcnonline.com
SUMMARY:Wednesday night trivia at Minier Tap in Minier
DESCRIPTION:Each weekly event features 7 rounds of trivia designed to challenge participants. \nEvent codes: ccgc\, ccsoc
URL:https://www.wlcnonline.com/event/wednesday-night-trivia-at-minier-tap-in-minier/2026-01-28/
LOCATION:Minier Tap\, 121 S. Main Avenue\, Minier\, IL\, 61759\, United States
END:VEVENT
BEGIN:VEVENT
DTSTART;TZID=America/Chicago:20260128T180000
DTEND;TZID=America/Chicago:20260128T190000
DTSTAMP:20260420T031748
CREATED:20250227T221550Z
LAST-MODIFIED:20251231T171533Z
UID:10022091-1769623200-1769626800@www.wlcnonline.com
SUMMARY:Odds & Ends peer recovery support group meeting at Hardee's in Havana
DESCRIPTION:Meetings are free to attend and take place Wednesdays at 6 PM. \nEvent codes
URL:https://www.wlcnonline.com/event/odds-ends-peer-recovery-support-group-meeting-at-hardees-in-havana/2026-01-28/
LOCATION:Hardee’s in Havana\, 401 W. Dearborn Street\, Havana\, 62644\, United States
ORGANIZER;CN="Logan Mason Recovery Oriented Systems of Care (ROSC)":MAILTO:jedavis@chestnut.org
END:VEVENT
BEGIN:VEVENT
DTSTART;TZID=America/Chicago:20260128T180000
DTEND;TZID=America/Chicago:20260128T190000
DTSTAMP:20260420T031748
CREATED:20250227T220829Z
LAST-MODIFIED:20251231T164443Z
UID:10021959-1769623200-1769626800@www.wlcnonline.com
SUMMARY:Alcoholics Anonymous meetings at Trinity Episcopal Church in Lincoln
DESCRIPTION:Meetings are free to attend and take place at the following times: \n\nMondays at 7 PM\nWednesdays at 6 PM\nFridays at 11 AM\nSundays at 6 PM\n\nEvent codes
URL:https://www.wlcnonline.com/event/alcoholics-anonymous-meetings-at-trinity-episcopal-church-in-lincoln-2/2026-01-28/
LOCATION:Trinity Episcopal Church in Lincoln\, 402 Pekin Street\, Lincoln\, 62656\, United States
ORGANIZER;CN="Logan Mason Recovery Oriented Systems of Care (ROSC)":MAILTO:jedavis@chestnut.org
END:VEVENT
END:VCALENDAR