BEGIN:VCALENDAR
VERSION:2.0
PRODID:-//WLCN 96.3 FM - ECPv6.15.20//NONSGML v1.0//EN
CALSCALE:GREGORIAN
METHOD:PUBLISH
X-WR-CALNAME:WLCN 96.3 FM
X-ORIGINAL-URL:https://www.wlcnonline.com
X-WR-CALDESC:Events for WLCN 96.3 FM
REFRESH-INTERVAL;VALUE=DURATION:PT1H
X-Robots-Tag:noindex
X-PUBLISHED-TTL:PT1H
BEGIN:VTIMEZONE
TZID:America/Chicago
BEGIN:DAYLIGHT
TZOFFSETFROM:-0600
TZOFFSETTO:-0500
TZNAME:CDT
DTSTART:20240310T080000
END:DAYLIGHT
BEGIN:STANDARD
TZOFFSETFROM:-0500
TZOFFSETTO:-0600
TZNAME:CST
DTSTART:20241103T070000
END:STANDARD
BEGIN:DAYLIGHT
TZOFFSETFROM:-0600
TZOFFSETTO:-0500
TZNAME:CDT
DTSTART:20250309T080000
END:DAYLIGHT
BEGIN:STANDARD
TZOFFSETFROM:-0500
TZOFFSETTO:-0600
TZNAME:CST
DTSTART:20251102T070000
END:STANDARD
BEGIN:DAYLIGHT
TZOFFSETFROM:-0600
TZOFFSETTO:-0500
TZNAME:CDT
DTSTART:20260308T080000
END:DAYLIGHT
BEGIN:STANDARD
TZOFFSETFROM:-0500
TZOFFSETTO:-0600
TZNAME:CST
DTSTART:20261101T070000
END:STANDARD
END:VTIMEZONE
BEGIN:VEVENT
DTSTART;TZID=America/Chicago:20251218T190000
DTEND;TZID=America/Chicago:20251218T200000
DTSTAMP:20260420T232828
CREATED:20250227T220255Z
LAST-MODIFIED:20251231T170522Z
UID:10019327-1766084400-1766088000@www.wlcnonline.com
SUMMARY:Celebrate recovery events at Open Arms Christian Fellowship in Lincoln
DESCRIPTION:Events take place on Thursday evenings with snacks served at 6 PM and the meeting starting at 7 PM.
URL:https://www.wlcnonline.com/event/celebrate-recovery-events-at-open-arms-christian-fellowship-in-lincoln/2025-12-18/
LOCATION:Open Arms Christian Fellowship\, 1321 State Route 10\, Lincoln\, IL\, 62656\, United States
ORGANIZER;CN="Hope on 5th":MAILTO:rhss2005th@gmail.com
END:VEVENT
BEGIN:VEVENT
DTSTART;TZID=America/Chicago:20251218T190000
DTEND;TZID=America/Chicago:20251218T200000
DTSTAMP:20260420T232828
CREATED:20250227T221223Z
LAST-MODIFIED:20251231T171824Z
UID:10019545-1766084400-1766088000@www.wlcnonline.com
SUMMARY:Alcoholics Anonymous meetings at Atlanta Community House in Atlanta
DESCRIPTION:Meetings are free to attend and take place Thursdays at 7 PM. \nEvent codes
URL:https://www.wlcnonline.com/event/alcoholics-anonymous-meetings-at-atlanta-community-house-in-atlanta/2025-12-18/
LOCATION:Atlanta Memorial Community House\, 106 SW 6th Street\, Atlanta\, IL\, 61723\, United States
ORGANIZER;CN="Logan Mason Recovery Oriented Systems of Care (ROSC)":MAILTO:jedavis@chestnut.org
END:VEVENT
BEGIN:VEVENT
DTSTART;TZID=America/Chicago:20251218T190000
DTEND;TZID=America/Chicago:20251218T220000
DTSTAMP:20260420T232828
CREATED:20250710T225735Z
LAST-MODIFIED:20251231T171651Z
UID:10018397-1766084400-1766095200@www.wlcnonline.com
SUMMARY:Open mic night at Spirited Republic in Lincoln
DESCRIPTION:Spirited Republic open mic nights are a solo acoustic musical experiment with the goal of cultivating friendship\, support and good times amongst musicians\, comedians\, poets and artists of all kinds. Performers are asked to bring their own instruments (no drum sets; hand drums and percussion equipment only). \nEvent codes: ccent\, ccfb\, cclm\, ccsoc
URL:https://www.wlcnonline.com/event/open-mic-night-at-spirited-republic-in-lincoln-2/2025-12-18/
LOCATION:Spirited Republic in Lincoln\, 509 Pulaski Street\, Lincoln\, IL\, 62656\, United States
ORGANIZER;CN="Spirited Republic/Limerick Brewing Company":MAILTO:spiritedrepublic@gmail.com
END:VEVENT
BEGIN:VEVENT
DTSTART;TZID=America/Chicago:20251219T110000
DTEND;TZID=America/Chicago:20251219T120000
DTSTAMP:20260420T232828
CREATED:20250227T220937Z
LAST-MODIFIED:20251231T160939Z
UID:10019458-1766142000-1766145600@www.wlcnonline.com
SUMMARY:Alcoholics Anonymous meetings at Trinity Episcopal Church in Lincoln
DESCRIPTION:Meetings are free to attend and take place at the following times: \n\nMondays at 7 PM\nWednesdays at 6 PM\nFridays at 11 AM\nSundays at 6 PM\n\nEvent codes
URL:https://www.wlcnonline.com/event/alcoholics-anonymous-meetings-at-trinity-episcopal-church-in-lincoln-3/2025-12-19/
LOCATION:Trinity Episcopal Church in Lincoln\, 402 Pekin Street\, Lincoln\, 62656\, United States
ORGANIZER;CN="Logan Mason Recovery Oriented Systems of Care (ROSC)":MAILTO:jedavis@chestnut.org
END:VEVENT
BEGIN:VEVENT
DTSTART;TZID=America/Chicago:20251219T114500
DTEND;TZID=America/Chicago:20251219T130000
DTSTAMP:20260420T232828
CREATED:20251212T052934Z
LAST-MODIFIED:20251212T052934Z
UID:10021236-1766144700-1766149200@www.wlcnonline.com
SUMMARY:Christmas story time at Mt. Pulaski Public Library
DESCRIPTION:This event is being offered at this time due to early school dismissal. \nEvent codes ccfk ccedu ccchr ccsoc
URL:https://www.wlcnonline.com/event/christmas-story-time-at-mt-pulaski-public-library/
LOCATION:Mt. Pulaski Public Library\, 320 N. Washington Street\, Mt. Pulaski\, IL\, 62548\, United States
ORGANIZER;CN="Mt. Pulaski Public Library District":MAILTO:mtpulaskipubliclibrary@gmail.com
END:VEVENT
BEGIN:VEVENT
DTSTART;TZID=America/Chicago:20251219T120000
DTEND;TZID=America/Chicago:20251219T133000
DTSTAMP:20260420T232828
CREATED:20250227T221857Z
LAST-MODIFIED:20251231T161051Z
UID:10019633-1766145600-1766151000@www.wlcnonline.com
SUMMARY:SMART (Self-Management and Recovery Training) recovery meetings at Hope on 5th in Lincoln
DESCRIPTION:Meetings are free to attend and take place Fridays from noon to 1:30 PM. \nEvent codes
URL:https://www.wlcnonline.com/event/smart-self-management-and-recovery-training-recovery-meetings-at-hope-on-5th-in-lincoln/2025-12-19/
LOCATION:Hope on 5th in Lincoln\, 200 5th Street\, Lincoln\, 62656\, United States
ORGANIZER;CN="Logan Mason Recovery Oriented Systems of Care (ROSC)":MAILTO:jedavis@chestnut.org
END:VEVENT
BEGIN:VEVENT
DTSTART;TZID=America/Chicago:20251219T170000
DTEND;TZID=America/Chicago:20251219T200000
DTSTAMP:20260420T232828
CREATED:20251120T225746Z
LAST-MODIFIED:20251120T225746Z
UID:10021155-1766163600-1766174400@www.wlcnonline.com
SUMMARY:2025 horse-drawn carriage rides around the square in downtown Lincoln
DESCRIPTION:Get into the holiday spirit with a *free* ride around the historic Logan County Courthouse on the square in downtown Lincoln. \nPick up and drop off will be in front of the Arcade on Pulaski Street. A sign-up sheet will be available at the pick-up and drop-off location. Once checked in\, you can shop local downtown businesses and enjoy the decorated trees on the square until their scheduled ride time. click here to learn more. \nEvent codes ccchr ccfre ccff
URL:https://www.wlcnonline.com/event/2025-horse-drawn-carriage-rides-around-the-square-in-downtown-lincoln/2025-12-19/
LOCATION:In front of the Arcade Building in Downtown Lincoln\, 513 Pulaski Street\, Lincoln\, IL\, 62656\, United States
ORGANIZER;CN="Downtown Lincoln Illinois":MAILTO:info@downtownlincolnillinois.com
END:VEVENT
BEGIN:VEVENT
DTSTART;TZID=America/Chicago:20251219T180000
DTEND;TZID=America/Chicago:20251219T190000
DTSTAMP:20260420T232828
CREATED:20250227T214713Z
LAST-MODIFIED:20251231T161900Z
UID:10019082-1766167200-1766170800@www.wlcnonline.com
SUMMARY:Alcoholics Anonymous meetings by Land of Lincoln Recovery Group at Hope on 5th in Lincoln
DESCRIPTION:Meetings are free to attend and take place at 6 PM on Tuesdays\, Wednesdays\, Fridays and Saturdays as well as at 9 AM on Saturdays and Sundays. \nEvent codes
URL:https://www.wlcnonline.com/event/alcoholics-anonymous-meetings-by-land-of-lincoln-recovery-group-at-hope-on-5th-in-lincoln/2025-12-19/
LOCATION:Hope on 5th in Lincoln\, 200 5th Street\, Lincoln\, 62656\, United States
ORGANIZER;CN="Logan Mason Recovery Oriented Systems of Care (ROSC)":MAILTO:jedavis@chestnut.org
END:VEVENT
BEGIN:VEVENT
DTSTART;TZID=America/Chicago:20251219T180000
DTEND;TZID=America/Chicago:20251219T190000
DTSTAMP:20260420T232828
CREATED:20250227T220016Z
LAST-MODIFIED:20250227T220016Z
UID:10019285-1766167200-1766170800@www.wlcnonline.com
SUMMARY:Veterans recovery group meetings by Never Alone at Hope on 5th in Lincoln
DESCRIPTION:Meetings are free to attend and take place at 6 PM on the first and third Fridays of the month. \nEvent codes
URL:https://www.wlcnonline.com/event/veterans-recovery-group-meetings-by-never-alone-at-hope-on-5th-in-lincoln-2/2025-12-19/
LOCATION:Hope on 5th in Lincoln\, 200 5th Street\, Lincoln\, 62656\, United States
ORGANIZER;CN="Logan Mason Recovery Oriented Systems of Care (ROSC)":MAILTO:jedavis@chestnut.org
END:VEVENT
BEGIN:VEVENT
DTSTART;TZID=America/Chicago:20251219T180000
DTEND;TZID=America/Chicago:20251219T190000
DTSTAMP:20260420T232828
CREATED:20251231T161511Z
LAST-MODIFIED:20251231T161511Z
UID:10021498-1766167200-1766170800@www.wlcnonline.com
SUMMARY:Veterans recovery group meetings by Never Alone at Hope on 5th in Lincoln
DESCRIPTION:Meetings are free to attend and take place at 6 PM on the first and third Fridays of the month. \nEvent codes
URL:https://www.wlcnonline.com/event/veterans-recovery-group-meetings-by-never-alone-at-hope-on-5th-in-lincoln-3/2025-12-19/
LOCATION:Hope on 5th in Lincoln\, 200 5th Street\, Lincoln\, 62656\, United States
ORGANIZER;CN="Logan Mason Recovery Oriented Systems of Care (ROSC)":MAILTO:jedavis@chestnut.org
END:VEVENT
BEGIN:VEVENT
DTSTART;TZID=America/Chicago:20251219T200000
DTEND;TZID=America/Chicago:20251219T230000
DTSTAMP:20260420T232828
CREATED:20251212T052619Z
LAST-MODIFIED:20251219T024810Z
UID:10021235-1766174400-1766185200@www.wlcnonline.com
SUMMARY:Live music by Jon Rapp\, Kyle Ripsch & Melanie Finley of Next Thing Smokin' at Minier Tap in Minier
DESCRIPTION:The trio will bring a special performance to the Minier Tap. \nEvent codes ccent cclm ccfb
URL:https://www.wlcnonline.com/event/live-music-by-jon-rapp-kyle-ripsch-melanie-finley-of-next-thing-smokin-at-minier-tap-in-minier/
LOCATION:Minier Tap\, 121 S. Main Avenue\, Minier\, IL\, 61759\, United States
END:VEVENT
BEGIN:VEVENT
DTSTART;TZID=America/Chicago:20251220T090000
DTEND;TZID=America/Chicago:20251220T100000
DTSTAMP:20260420T232828
CREATED:20250227T214918Z
LAST-MODIFIED:20251231T162155Z
UID:10019174-1766221200-1766224800@www.wlcnonline.com
SUMMARY:Alcoholics Anonymous meetings by Land of Lincoln Recovery Group at Hope on 5th in Lincoln
DESCRIPTION:Meetings are free to attend and take place at 6 PM on Tuesdays\, Wednesdays\, Fridays and Saturdays as well as at 9 AM on Saturdays and Sundays. \nEvent codes
URL:https://www.wlcnonline.com/event/alcoholics-anonymous-meetings-by-land-of-lincoln-recovery-group-at-hope-on-5th-in-lincoln-2/2025-12-20/
LOCATION:Hope on 5th in Lincoln\, 200 5th Street\, Lincoln\, 62656\, United States
ORGANIZER;CN="Logan Mason Recovery Oriented Systems of Care (ROSC)":MAILTO:jedavis@chestnut.org
END:VEVENT
BEGIN:VEVENT
DTSTART;TZID=America/Chicago:20251220T100000
DTEND;TZID=America/Chicago:20251220T103000
DTSTAMP:20260420T232828
CREATED:20251212T053909Z
LAST-MODIFIED:20251212T053909Z
UID:10021240-1766224800-1766226600@www.wlcnonline.com
SUMMARY:Story time with Santa at Ink & Imprint Books in Lincoln
DESCRIPTION:Stories and treats with Santa will take place from 10 AM to 10:30 AM. \nEvent codes cclbep ccfk ccchr
URL:https://www.wlcnonline.com/event/story-time-with-santa-at-ink-imprint-books-in-lincoln/
LOCATION:Ink & Imprint Books in Lincoln\, 125 N Kickapoo Street\, Lincoln\, 62656\, United States
ORGANIZER;CN="Ink & Imprint Books":MAILTO:inkandimprintbooks@gmail.com
END:VEVENT
BEGIN:VEVENT
DTSTART;TZID=America/Chicago:20251220T100000
DTEND;TZID=America/Chicago:20251220T140000
DTSTAMP:20260420T232829
CREATED:20251219T012650Z
LAST-MODIFIED:20251219T012821Z
UID:10021290-1766224800-1766239200@www.wlcnonline.com
SUMMARY:Last minute holiday shopping vendor market at Perfect Pair Boutique in Warrensburg
DESCRIPTION:Attendees can browse the holiday inventory at this event featuring a variety of local vendors. \nThe event runs from 10 AM to 2 PM. \nEvent codes cclbep ccchr ccvs
URL:https://www.wlcnonline.com/event/last-minute-holiday-shopping-vendor-market-at-perfect-pair-boutique-in-warrensburg/
LOCATION:Perfect Pair Boutique in Warrensburg\, 266 N\, State Route 121\, Warrensburg\, 62573\, United States
ORGANIZER;CN="Perfect Pair Boutique":MAILTO:theperfectpair04@gmail.com
END:VEVENT
BEGIN:VEVENT
DTSTART;TZID=America/Chicago:20251220T120000
DTEND;TZID=America/Chicago:20251220T150000
DTSTAMP:20260420T232829
CREATED:20251120T225746Z
LAST-MODIFIED:20251120T225746Z
UID:10021156-1766232000-1766242800@www.wlcnonline.com
SUMMARY:2025 horse-drawn carriage rides around the square in downtown Lincoln
DESCRIPTION:Get into the holiday spirit with a *free* ride around the historic Logan County Courthouse on the square in downtown Lincoln. \nPick up and drop off will be in front of the Arcade on Pulaski Street. A sign-up sheet will be available at the pick-up and drop-off location. Once checked in\, you can shop local downtown businesses and enjoy the decorated trees on the square until their scheduled ride time. click here to learn more. \nEvent codes ccchr ccfre ccff
URL:https://www.wlcnonline.com/event/2025-horse-drawn-carriage-rides-around-the-square-in-downtown-lincoln/2025-12-20/
LOCATION:In front of the Arcade Building in Downtown Lincoln\, 513 Pulaski Street\, Lincoln\, IL\, 62656\, United States
ORGANIZER;CN="Downtown Lincoln Illinois":MAILTO:info@downtownlincolnillinois.com
END:VEVENT
BEGIN:VEVENT
DTSTART;TZID=America/Chicago:20251220T173000
DTEND;TZID=America/Chicago:20251220T213000
DTSTAMP:20260420T232829
CREATED:20251219T011751Z
LAST-MODIFIED:20251219T011836Z
UID:10021286-1766251800-1766266200@www.wlcnonline.com
SUMMARY:First annual kids Christmas ornament decorating & movie night at BB's BFE Bar & Grill in Latham
DESCRIPTION:This magical Christmas evening at BBs BFE will include:\n• One Christmas ornament to decorate (all paint and supplies provided)\n• Choice of kids meal\n• Christmas treats and sweets\n• A Christmas movie playing during the event and Christmas tunes throughout the night \nLimited spots are available; send a message through the BB’s BFE Facebook page or stop in to reserve your child’s spot today! \nCost is $15 per child. \nEvent codes ccchr ccff ccfk ccfb ccent ccaca cckar ccdan
URL:https://www.wlcnonline.com/event/first-annual-kids-christmas-ornament-decorating-movie-night-at-bbs-bfe-bar-grill-in-latham/
LOCATION:BB’s BFE in Latham\, 2371 N Route 121\, Latham\, 62543\, United States
ORGANIZER;CN="BB's BFE":MAILTO:BBS.BFE.2025@gmail.com
END:VEVENT
BEGIN:VEVENT
DTSTART;TZID=America/Chicago:20251220T180000
DTEND;TZID=America/Chicago:20251220T190000
DTSTAMP:20260420T232829
CREATED:20250227T214713Z
LAST-MODIFIED:20251231T161900Z
UID:10019083-1766253600-1766257200@www.wlcnonline.com
SUMMARY:Alcoholics Anonymous meetings by Land of Lincoln Recovery Group at Hope on 5th in Lincoln
DESCRIPTION:Meetings are free to attend and take place at 6 PM on Tuesdays\, Wednesdays\, Fridays and Saturdays as well as at 9 AM on Saturdays and Sundays. \nEvent codes
URL:https://www.wlcnonline.com/event/alcoholics-anonymous-meetings-by-land-of-lincoln-recovery-group-at-hope-on-5th-in-lincoln/2025-12-20/
LOCATION:Hope on 5th in Lincoln\, 200 5th Street\, Lincoln\, 62656\, United States
ORGANIZER;CN="Logan Mason Recovery Oriented Systems of Care (ROSC)":MAILTO:jedavis@chestnut.org
END:VEVENT
BEGIN:VEVENT
DTSTART;TZID=America/Chicago:20251220T180000
DTEND;TZID=America/Chicago:20251220T193000
DTSTAMP:20260420T232829
CREATED:20251219T012436Z
LAST-MODIFIED:20251219T012436Z
UID:10021289-1766253600-1766259000@www.wlcnonline.com
SUMMARY:Village of Warrensburg Christmas tree lighting event
DESCRIPTION:This family friendly event will feature something for everyone in addition to lighting the town Christmas tree. Activities take place in front of the stage by the village hall\, where children decorate a gingerbread house inside the village hall and enjoy some yummy sugar cookies and hot chocolate. Attendees are invited to enjoy a wagon ride around town and say hello to Mr. and Mrs. Claus. \nWarrensburg residents are invited to bring an ornament that represents themselves or their family to put on the tree. \nEvent codes ccsoc ccchr ccff ccfb ccaca
URL:https://www.wlcnonline.com/event/village-of-warrensburg-christmas-tree-lighting-event/
LOCATION:Village of Warrensburg\, Illinois\, Warrensburg\, IL\, 62573\, United States
ORGANIZER;CN="Village of Warrensburg":MAILTO:warrensburgcornfest@gmail.com
END:VEVENT
BEGIN:VEVENT
DTSTART;TZID=America/Chicago:20251220T180000
DTEND;TZID=America/Chicago:20251220T210000
DTSTAMP:20260420T232829
CREATED:20251219T002328Z
LAST-MODIFIED:20251219T002328Z
UID:10021257-1766253600-1766264400@www.wlcnonline.com
SUMMARY:Live music by Thomas G at Spirited Republic in Lincoln
DESCRIPTION:Enjoy your favorite beverages while listening to acoustic music by Thomas G. \nEvent codes ccsoc ccfb ccent cclm
URL:https://www.wlcnonline.com/event/live-music-by-thomas-g-at-spirited-republic-in-lincoln-2/
LOCATION:Spirited Republic in Lincoln\, 509 Pulaski Street\, Lincoln\, IL\, 62656\, United States
ORGANIZER;CN="Spirited Republic/Limerick Brewing Company":MAILTO:spiritedrepublic@gmail.com
END:VEVENT
BEGIN:VEVENT
DTSTART;TZID=America/Chicago:20251220T200000
DTEND;TZID=America/Chicago:20251220T230000
DTSTAMP:20260420T232829
CREATED:20251212T052334Z
LAST-MODIFIED:20251212T052334Z
UID:10021234-1766260800-1766271600@www.wlcnonline.com
SUMMARY:2025 Ugly Christmas Sweater/Christmas Pajamas Karaoke at The Thirsty Rooster in Middletown
DESCRIPTION:Enjoy a karaoke night in your favorite ugly Christmas sweater or Christmas pajamas. \nEvent codes ccchr cclm cckar
URL:https://www.wlcnonline.com/event/2025-ugly-christmas-sweater-christmas-pajamas-karaoke-at-the-thirsty-rooster-in-middletown/
LOCATION:The Thirsty Rooster in Middletown\, 104 South Madison Street\, Middletown\, IL\, 62666\, United States
ORGANIZER;CN="The Thirsty Rooster":MAILTO:thethirstyrooster@yahoo.com
END:VEVENT
BEGIN:VEVENT
DTSTART;TZID=America/Chicago:20251220T200000
DTEND;TZID=America/Chicago:20251221T000000
DTSTAMP:20260420T232829
CREATED:20251212T052145Z
LAST-MODIFIED:20251212T052145Z
UID:10021233-1766260800-1766275200@www.wlcnonline.com
SUMMARY:Ugly Christmas sweater karaoke night at The Next Stop Saloon in Mt. Pulaski
DESCRIPTION:This event will feature Christmas karaoke; attendees are invited and encouraged to attend in their best ugly Christmas sweater. \nEvent codes ccent cckar ccchr
URL:https://www.wlcnonline.com/event/ugly-christmas-sweater-karaoke-night-at-the-next-stop-saloon-in-mt-pulaski/
LOCATION:The Next Stop Saloon in Mt. Pulaski\, 100 E. Cooke Street\, Mt. Pulaski\, IL\, 62548\, United States
END:VEVENT
BEGIN:VEVENT
DTSTART;TZID=America/Chicago:20251220T200000
DTEND;TZID=America/Chicago:20251221T000000
DTSTAMP:20260420T232829
CREATED:20251219T002746Z
LAST-MODIFIED:20251219T002746Z
UID:10021258-1766260800-1766275200@www.wlcnonline.com
SUMMARY:Live music by Green Diamond Express at Clinton Eagles #593 Lodge in Clinton
DESCRIPTION:Join Green Diamond Express at the Clinton Eagles Lodge\, located at 220 N. Center Street in Clinton. \nEvent codes ccfb ccent cclm
URL:https://www.wlcnonline.com/event/live-music-by-green-diamond-express-at-clinton-eagles-593-lodge-in-clinton-2/
LOCATION:Eagles Lodge in Clinton\, 220 N Center Street\, Clinton\, IL\, 61727\, United States
END:VEVENT
BEGIN:VEVENT
DTSTART;TZID=America/Chicago:20251221T090000
DTEND;TZID=America/Chicago:20251221T100000
DTSTAMP:20260420T232829
CREATED:20250227T214918Z
LAST-MODIFIED:20251231T162155Z
UID:10019175-1766307600-1766311200@www.wlcnonline.com
SUMMARY:Alcoholics Anonymous meetings by Land of Lincoln Recovery Group at Hope on 5th in Lincoln
DESCRIPTION:Meetings are free to attend and take place at 6 PM on Tuesdays\, Wednesdays\, Fridays and Saturdays as well as at 9 AM on Saturdays and Sundays. \nEvent codes
URL:https://www.wlcnonline.com/event/alcoholics-anonymous-meetings-by-land-of-lincoln-recovery-group-at-hope-on-5th-in-lincoln-2/2025-12-21/
LOCATION:Hope on 5th in Lincoln\, 200 5th Street\, Lincoln\, 62656\, United States
ORGANIZER;CN="Logan Mason Recovery Oriented Systems of Care (ROSC)":MAILTO:jedavis@chestnut.org
END:VEVENT
BEGIN:VEVENT
DTSTART;TZID=America/Chicago:20251221T140000
DTEND;TZID=America/Chicago:20251221T160000
DTSTAMP:20260420T232829
CREATED:20240607T073345Z
LAST-MODIFIED:20251231T163021Z
UID:10020368-1766325600-1766332800@www.wlcnonline.com
SUMMARY:Xtreme Bar Bingo at The Next Stop Saloon in Mt. Pulaski
DESCRIPTION:Games take place every Sunday from 2 PM to 4 PM. \nEvent codes ccfb ccbin
URL:https://www.wlcnonline.com/event/xtreme-bar-bingo-at-the-next-stop-saloon-in-mt-pulaski/2025-12-21/
LOCATION:The Next Stop Saloon in Mt. Pulaski\, 100 E. Cooke Street\, Mt. Pulaski\, IL\, 62548\, United States
END:VEVENT
BEGIN:VEVENT
DTSTART;TZID=America/Chicago:20251221T170000
DTEND;TZID=America/Chicago:20251221T180000
DTSTAMP:20260420T232829
CREATED:20250227T215139Z
LAST-MODIFIED:20251231T162319Z
UID:10019677-1766336400-1766340000@www.wlcnonline.com
SUMMARY:Narcotics Anonymous meetings by Land of Lincoln Recovery Group at Hope on 5th in Lincoln
DESCRIPTION:Meetings are free to attend and take place at 6 PM Thursdays as well as at 5 PM on Sundays. \nEvent codes
URL:https://www.wlcnonline.com/event/narcotics-anonymous-meetings-by-land-of-lincoln-recovery-group-at-hope-on-5th-in-lincoln/2025-12-21/
LOCATION:Hope on 5th in Lincoln\, 200 5th Street\, Lincoln\, 62656\, United States
ORGANIZER;CN="Logan Mason Recovery Oriented Systems of Care (ROSC)":MAILTO:jedavis@chestnut.org
END:VEVENT
BEGIN:VEVENT
DTSTART;TZID=America/Chicago:20251221T180000
DTEND;TZID=America/Chicago:20251221T190000
DTSTAMP:20260420T232829
CREATED:20250227T221038Z
LAST-MODIFIED:20251231T162443Z
UID:10019502-1766340000-1766343600@www.wlcnonline.com
SUMMARY:Alcoholics Anonymous meetings at Trinity Episcopal Church in Lincoln
DESCRIPTION:Meetings are free to attend and take place at the following times: \n\nMondays at 7 PM\nWednesdays at 6 PM\nFridays at 11 AM\nSundays at 6 PM\n\nEvent codes
URL:https://www.wlcnonline.com/event/alcoholics-anonymous-meetings-at-trinity-episcopal-church-in-lincoln-4/2025-12-21/
LOCATION:Trinity Episcopal Church in Lincoln\, 402 Pekin Street\, Lincoln\, 62656\, United States
ORGANIZER;CN="Logan Mason Recovery Oriented Systems of Care (ROSC)":MAILTO:jedavis@chestnut.org
END:VEVENT
BEGIN:VEVENT
DTSTART;TZID=America/Chicago:20251221T180000
DTEND;TZID=America/Chicago:20251221T190000
DTSTAMP:20260420T232829
CREATED:20251212T052020Z
LAST-MODIFIED:20251212T052020Z
UID:10021232-1766340000-1766343600@www.wlcnonline.com
SUMMARY:Holiday sound bath event by Nikki Chapman Yoga and Holistic Healing at Soulful Wellness Collective in Lincoln
DESCRIPTION:Immerse into a stress releasing sound bath just before the busy holiday week. The week of Christmas can be stressful. The sounds and healing vibrations of crystal sound bowls can help guide you back to center. Attendees can be there for the whole hour or stay as long as you would like. The bowls and other healing instruments will be played for an hour; participants can enter the space in silence and leave filled with peace. \nThose interested in participating can click here to download the Wix Events app and RSVP for the event. \nEvent codes cchwf
URL:https://www.wlcnonline.com/event/holiday-sound-bath-event-by-nikki-chapman-yoga-and-holistic-healing-at-soulful-wellness-collective-in-lincoln/
LOCATION:Soulful Wellness Collective in Lincoln\, 1555 5th Street\, Lincoln\, 62656\, United States
END:VEVENT
BEGIN:VEVENT
DTSTART;TZID=America/Chicago:20251221T180000
DTEND;TZID=America/Chicago:20251221T200000
DTSTAMP:20260420T232829
CREATED:20251212T051608Z
LAST-MODIFIED:20251212T051608Z
UID:10021231-1766340000-1766347200@www.wlcnonline.com
SUMMARY:Christmas movie trivia night at Spirited Republic in Lincoln
DESCRIPTION:The event will heavily focus on Home Alone\, Elf\, Christmas Vacation\, and A Christmas Story\, but will throw in a few other movies this year as well! \n*Reservations are required*\nTickets are $5/person\nUp to 6 people per table.\nTo reserve your spot\, e-mail TwinCityTrivia@gmail.com \nEvent codes ccfb ccchr ccgc
URL:https://www.wlcnonline.com/event/christmas-movie-trivia-night-at-spirited-republic-in-lincoln/
LOCATION:Spirited Republic in Lincoln\, 509 Pulaski Street\, Lincoln\, IL\, 62656\, United States
ORGANIZER;CN="Twin City Trivia":MAILTO:twincitytrivia@gmail.com
END:VEVENT
BEGIN:VEVENT
DTSTART;TZID=America/Chicago:20251222T100000
DTEND;TZID=America/Chicago:20251222T104500
DTSTAMP:20260420T232829
CREATED:20250814T215225Z
LAST-MODIFIED:20260115T152229Z
UID:10021798-1766397600-1766400300@www.wlcnonline.com
SUMMARY:Chair yoga by Silver Fox Fitness at The Villas at Lincoln﻿
DESCRIPTION:Seated and standing poses will be utilized with the goal of increasing flexibility\, balance and strength along with providing relaxation. Participants never get down on the floor. \nEvent codes: ccfs\, cchwf
URL:https://www.wlcnonline.com/event/chair-yoga-by-silver-fox-fitness-at-the-villas-at-lincoln/2025-12-22/
LOCATION:Villas at Lincoln (formerly The Christian Village) in Lincoln\, 1507 7th Street\, Lincoln\, IL\, 62656\, United States
END:VEVENT
BEGIN:VEVENT
DTSTART;TZID=America/Chicago:20251222T130000
DTEND;TZID=America/Chicago:20251222T160000
DTSTAMP:20260420T232829
CREATED:20251212T051348Z
LAST-MODIFIED:20251212T051348Z
UID:10021230-1766408400-1766419200@www.wlcnonline.com
SUMMARY:Activity making Christmas cards (for residents of Vonderleith Living Center) at Mt. Pulaski Public Library
DESCRIPTION:With school not in session\, children and persons of all ages are welcome to stop in and create Christmas cards for the residents at Vonderleith Living Center. \nEvent codes ccaca ccchr ccsoc ccfk ccff
URL:https://www.wlcnonline.com/event/activity-making-christmas-cards-for-residents-of-vonderleith-living-center-at-mt-pulaski-public-library/
LOCATION:Mt. Pulaski Public Library\, 320 N. Washington Street\, Mt. Pulaski\, IL\, 62548\, United States
ORGANIZER;CN="Mt. Pulaski Public Library District":MAILTO:mtpulaskipubliclibrary@gmail.com
END:VEVENT
END:VCALENDAR