BEGIN:VCALENDAR
VERSION:2.0
PRODID:-//WLCN 96.3 FM - ECPv6.15.20//NONSGML v1.0//EN
CALSCALE:GREGORIAN
METHOD:PUBLISH
X-WR-CALNAME:WLCN 96.3 FM
X-ORIGINAL-URL:https://www.wlcnonline.com
X-WR-CALDESC:Events for WLCN 96.3 FM
REFRESH-INTERVAL;VALUE=DURATION:PT1H
X-Robots-Tag:noindex
X-PUBLISHED-TTL:PT1H
BEGIN:VTIMEZONE
TZID:America/Chicago
BEGIN:DAYLIGHT
TZOFFSETFROM:-0600
TZOFFSETTO:-0500
TZNAME:CDT
DTSTART:20240310T080000
END:DAYLIGHT
BEGIN:STANDARD
TZOFFSETFROM:-0500
TZOFFSETTO:-0600
TZNAME:CST
DTSTART:20241103T070000
END:STANDARD
BEGIN:DAYLIGHT
TZOFFSETFROM:-0600
TZOFFSETTO:-0500
TZNAME:CDT
DTSTART:20250309T080000
END:DAYLIGHT
BEGIN:STANDARD
TZOFFSETFROM:-0500
TZOFFSETTO:-0600
TZNAME:CST
DTSTART:20251102T070000
END:STANDARD
BEGIN:DAYLIGHT
TZOFFSETFROM:-0600
TZOFFSETTO:-0500
TZNAME:CDT
DTSTART:20260308T080000
END:DAYLIGHT
BEGIN:STANDARD
TZOFFSETFROM:-0500
TZOFFSETTO:-0600
TZNAME:CST
DTSTART:20261101T070000
END:STANDARD
END:VTIMEZONE
BEGIN:VEVENT
DTSTART;TZID=America/Chicago:20251115T090000
DTEND;TZID=America/Chicago:20251115T090000
DTSTAMP:20260421T010226
CREATED:20251106T221549Z
LAST-MODIFIED:20251106T221549Z
UID:10021063-1763197200-1763197200@www.wlcnonline.com
SUMMARY:9th annual Mia's Vintage Restorations Christmas event in Mason City
DESCRIPTION:Attendees can get an early start on Christmas shopping\, as the shop will be stuffed full of everything Christmas from vintage treasures to new decor. There will be hourly drawings\, local vendors and the Udderly Delicious food truck will be on site. \nEvent codes ccchr cclbep
URL:https://www.wlcnonline.com/event/9th-annual-mias-vintage-restorations-christmas-event-in-mason-city/
LOCATION:Mia’s Vintage Restorations in Mason City\, 109 W. Elm Street\, Mason City\, IL\, 62664\, United States
ORGANIZER;CN="Vintage Restorations by Mia in Mason City":MAILTO:miacook55@yahoo.com
END:VEVENT
BEGIN:VEVENT
DTSTART;TZID=America/Chicago:20251115T090000
DTEND;TZID=America/Chicago:20251115T100000
DTSTAMP:20260421T010226
CREATED:20250227T214918Z
LAST-MODIFIED:20251231T162155Z
UID:10019164-1763197200-1763200800@www.wlcnonline.com
SUMMARY:Alcoholics Anonymous meetings by Land of Lincoln Recovery Group at Hope on 5th in Lincoln
DESCRIPTION:Meetings are free to attend and take place at 6 PM on Tuesdays\, Wednesdays\, Fridays and Saturdays as well as at 9 AM on Saturdays and Sundays. \nEvent codes
URL:https://www.wlcnonline.com/event/alcoholics-anonymous-meetings-by-land-of-lincoln-recovery-group-at-hope-on-5th-in-lincoln-2/2025-11-15/
LOCATION:Hope on 5th in Lincoln\, 200 5th Street\, Lincoln\, 62656\, United States
ORGANIZER;CN="Logan Mason Recovery Oriented Systems of Care (ROSC)":MAILTO:jedavis@chestnut.org
END:VEVENT
BEGIN:VEVENT
DTSTART;TZID=America/Chicago:20251115T090000
DTEND;TZID=America/Chicago:20251115T110000
DTSTAMP:20260421T010226
CREATED:20251113T203458Z
LAST-MODIFIED:20251113T203458Z
UID:10021067-1763197200-1763204400@www.wlcnonline.com
SUMMARY:Touch-a-truck event at Eddie's Rise N' Dine in Williamsville
DESCRIPTION:Kids can climb\, explore and honk the horns on all kinds of awesome trucks and vehicles\, including fire trucks\, tractors and many others\, all for free. \nEvent codes ccff ccfk ccfb
URL:https://www.wlcnonline.com/event/touch-a-truck-event-at-eddies-rise-n-dine-in-williamsville/
LOCATION:Eddie’s Rise ‘n’ Dine in Williamsville\, 994 Ann Rutledge Drive\, Williamsville\, 62693\, United States
ORGANIZER;CN="Eddie's Rise 'n' Dine":MAILTO:info@eddiesrd.com
END:VEVENT
BEGIN:VEVENT
DTSTART;TZID=America/Chicago:20251115T090000
DTEND;TZID=America/Chicago:20251115T130000
DTSTAMP:20260421T010226
CREATED:20251023T205432Z
LAST-MODIFIED:20251023T205432Z
UID:10020992-1763197200-1763211600@www.wlcnonline.com
SUMMARY:2025 Logan County pumpkin smash & splash event at parks around Lincoln
DESCRIPTION:Join the Logan County Parks Coalition for a fun way to recycle your pumpkins and help the environment. Pumpkins can be dropped off between November 1 and November 14 from noon to 1 PM at Kickapoo Creek Park\, Madigan State Park\, the David W. Schroder Memorial Community Garden or the Lincoln Park District. Then on November 15\, pumpkins will be smashed from 9 AM to noon at the Schroder Memorial Garden\, and they’ll be “splashed” from 11 AM to 1 PM at Kickapoo Creek Park. \nEvent codes cchwf ccfre cchall
URL:https://www.wlcnonline.com/event/2025-logan-county-pumpkin-smash-splash-event-at-parks-around-lincoln/2025-11-15/
LOCATION:Kickapoo Creek Park in Lincoln\, 2000 Jefferson Street\, Lincoln\, IL\, 62656\, United States
END:VEVENT
BEGIN:VEVENT
DTSTART;TZID=America/Chicago:20251115T100000
DTEND;TZID=America/Chicago:20251115T103000
DTSTAMP:20260421T010226
CREATED:20251113T203916Z
LAST-MODIFIED:20251113T203916Z
UID:10021068-1763200800-1763202600@www.wlcnonline.com
SUMMARY:Christmas Kindness Kids storytime with local author Elizabeth Wrage at Ink & Imprint Books in Lincoln
DESCRIPTION:Local author Elizabeth Wrage shares The Christmas Kindness Kids for November’s story time. Parents can also purchase the book and activity book so your kids can complete the activities in December. \nEvent codes ccff ccfk cclbep
URL:https://www.wlcnonline.com/event/christmas-kindness-kids-storytime-with-local-author-elizabeth-wrage-at-ink-imprint-books-in-lincoln/
LOCATION:Ink & Imprint Books in Lincoln\, 125 N Kickapoo Street\, Lincoln\, 62656\, United States
ORGANIZER;CN="Ink & Imprint Books":MAILTO:inkandimprintbooks@gmail.com
END:VEVENT
BEGIN:VEVENT
DTSTART;TZID=America/Chicago:20251115T150000
DTEND;TZID=America/Chicago:20251115T180000
DTSTAMP:20260421T010227
CREATED:20251106T221104Z
LAST-MODIFIED:20251106T221104Z
UID:10021062-1763218800-1763229600@www.wlcnonline.com
SUMMARY:Veterans appreciation party with live music from Dick & Brad (3-6PM) at LargeCar Lounge in Lincoln
DESCRIPTION:Civilians and veterans alike are invited to this celebration of America’s veterans. Food will be provided\, and Dick & Brad will play live music from 3 PM to 6 PM. \nEvent codes ccsoc ccfb
URL:https://www.wlcnonline.com/event/veterans-appreciation-party-with-live-music-from-dick-brad-3-6pm-at-largecar-lounge-in-lincoln/
LOCATION:LargeCar Lounge in Lincoln\, 2821 Woodlawn Road\, Lincoln\, IL\, 62656\, United States
END:VEVENT
BEGIN:VEVENT
DTSTART;TZID=America/Chicago:20251115T180000
DTEND;TZID=America/Chicago:20251115T190000
DTSTAMP:20260421T010227
CREATED:20250227T214713Z
LAST-MODIFIED:20251231T161900Z
UID:10019063-1763229600-1763233200@www.wlcnonline.com
SUMMARY:Alcoholics Anonymous meetings by Land of Lincoln Recovery Group at Hope on 5th in Lincoln
DESCRIPTION:Meetings are free to attend and take place at 6 PM on Tuesdays\, Wednesdays\, Fridays and Saturdays as well as at 9 AM on Saturdays and Sundays. \nEvent codes
URL:https://www.wlcnonline.com/event/alcoholics-anonymous-meetings-by-land-of-lincoln-recovery-group-at-hope-on-5th-in-lincoln/2025-11-15/
LOCATION:Hope on 5th in Lincoln\, 200 5th Street\, Lincoln\, 62656\, United States
ORGANIZER;CN="Logan Mason Recovery Oriented Systems of Care (ROSC)":MAILTO:jedavis@chestnut.org
END:VEVENT
BEGIN:VEVENT
DTSTART;TZID=America/Chicago:20251115T190000
DTEND;TZID=America/Chicago:20251115T220000
DTSTAMP:20260421T010227
CREATED:20251106T220743Z
LAST-MODIFIED:20251106T220743Z
UID:10021061-1763233200-1763244000@www.wlcnonline.com
SUMMARY:PrimeTime Country Opry Show featuring Steve Hargis at Olympia High School in rural Stanford
DESCRIPTION:Enjoy the country music and comedy of the PrimeTime Country Opry in its final performance for the year and featuring special guest Steve Hargis. Show begins at 7 PM with doors opening at 6 PM. The main doors of the high school should be used for entry into the school. \nConcessions will be available for purchase. \nEvent codes ccent cclm
URL:https://www.wlcnonline.com/event/primetime-country-opry-show-featuring-steve-hargis-at-olympia-high-school-in-rural-stanford/
LOCATION:Olympia High School in rural Stanford\, 7832 North 100 East Road\, Stanford\, IL\, 61774\, United States
END:VEVENT
BEGIN:VEVENT
DTSTART;TZID=America/Chicago:20251115T193000
DTEND;TZID=America/Chicago:20251115T213000
DTSTAMP:20260421T010227
CREATED:20251113T205802Z
LAST-MODIFIED:20251113T205802Z
UID:10021069-1763235000-1763242200@www.wlcnonline.com
SUMMARY:Music trivia night at Down the Street in Mason City
DESCRIPTION:Proceeds from this music trivia event will benefit the Angel Tree. Teams of up to 6 persons can play; cost is $20 per person. Contact Down the Street to reserve a spot for your team. \nEvent codes ccfdd ccgc ccfb cctriv
URL:https://www.wlcnonline.com/event/music-trivia-night-at-down-the-street-in-mason-city/
LOCATION:Down the Street in Mason City\, 122 N Tonica Street\, Mason City\, 62664\, United States
END:VEVENT
BEGIN:VEVENT
DTSTART;TZID=America/Chicago:20251115T200000
DTEND;TZID=America/Chicago:20251115T213000
DTSTAMP:20260421T010227
CREATED:20251106T214922Z
LAST-MODIFIED:20251106T214945Z
UID:10021056-1763236800-1763242200@www.wlcnonline.com
SUMMARY:Headline comedy performance by Mandee McKelvey at Mason City Limits Comedy Club in Mason City
DESCRIPTION:Mandee McKelvey was recently named one of the 50 best undiscovered comics in the country by Thrillist.  She is revered for her ability to spin tragedy into comedy\, from growing up poor in South Carolina to becoming a widow in her 20s. She was named a breakout performer at Limestone Comedy Festival and the Memphis Comedy Festival. \nTickets are general admission and cost $22.50; click here to purchase tickets online. \nEvent codes: ccent\, cclc
URL:https://www.wlcnonline.com/event/headline-comedy-performance-by-mandee-mckelvey-at-mason-city-limits-comedy-club-in-mason-city/2025-11-15/
LOCATION:Mason City Limits Comedy Club\, 114 E. Chestnut Street\, Mason City\, IL\, 62664\, United States
ORGANIZER;CN="Mason City Limits Comedy Club":MAILTO:mclimits@hotmail.com
END:VEVENT
BEGIN:VEVENT
DTSTART;TZID=America/Chicago:20251116T090000
DTEND;TZID=America/Chicago:20251116T100000
DTSTAMP:20260421T010227
CREATED:20250227T214918Z
LAST-MODIFIED:20251231T162155Z
UID:10019165-1763283600-1763287200@www.wlcnonline.com
SUMMARY:Alcoholics Anonymous meetings by Land of Lincoln Recovery Group at Hope on 5th in Lincoln
DESCRIPTION:Meetings are free to attend and take place at 6 PM on Tuesdays\, Wednesdays\, Fridays and Saturdays as well as at 9 AM on Saturdays and Sundays. \nEvent codes
URL:https://www.wlcnonline.com/event/alcoholics-anonymous-meetings-by-land-of-lincoln-recovery-group-at-hope-on-5th-in-lincoln-2/2025-11-16/
LOCATION:Hope on 5th in Lincoln\, 200 5th Street\, Lincoln\, 62656\, United States
ORGANIZER;CN="Logan Mason Recovery Oriented Systems of Care (ROSC)":MAILTO:jedavis@chestnut.org
END:VEVENT
BEGIN:VEVENT
DTSTART;TZID=America/Chicago:20251116T130000
DTEND;TZID=America/Chicago:20251116T153000
DTSTAMP:20260421T010227
CREATED:20251106T221831Z
LAST-MODIFIED:20251113T214319Z
UID:10021064-1763298000-1763307000@www.wlcnonline.com
SUMMARY:Paint event ("Gingerbread house") by Joyful Painting at Spirited Republic in Lincoln
DESCRIPTION:Due to this 11/16 event being full\, a second session was added Sunday 11/30 from 1 PM to 3:30 PM.click here for information and information about signing up for that event. \nCanvases will be pre-sketched and available with a gingerbread house design; participants can choose their own colors. \nCost is $35 per person. To register\, send a direct message through the Joyful Painting Facebook page or send a text to (217) 871-9100. \nEvent codes ccfb ccsoc ccpai
URL:https://www.wlcnonline.com/event/paint-event-gingerbread-house-by-joyful-painting-at-spirited-republic-in-lincoln/
LOCATION:Spirited Republic in Lincoln\, 509 Pulaski Street\, Lincoln\, IL\, 62656\, United States
END:VEVENT
BEGIN:VEVENT
DTSTART;TZID=America/Chicago:20251116T130000
DTEND;TZID=America/Chicago:20251116T170000
DTSTAMP:20260421T010227
CREATED:20251106T215731Z
LAST-MODIFIED:20251106T215731Z
UID:10021058-1763298000-1763312400@www.wlcnonline.com
SUMMARY:Quarter auction by San Jose Quarter Frenzy raising funds for the San Jose Fire & Rescue "Breakfast with Santa" event at San Jose United Methodist Church﻿
DESCRIPTION:Each vendor will have 4 items (one is a donation item) to be placed in the frenzy. Each item will be raffled off one at a time. A listing of all items up for bid for the afternoon will be provided and will include the number of quarters necessary to try to win. \nThose arriving will purchase a paddle(s) that will have numbers on them. The paddles are $1 each and individuals may purchase as many as they like. \nAll proceeds from the paddle sales\, donation item quarters and vendor fees go to a different charity/cause each month! This month\, proceeds will benefit the San Jose Fire & Rescue’s Breakfast with Santa. This long-running annual free breakfast has been hosted by the San Jose Fire & Rescue for many years to allow families skip the long lines to see Santa\, take pictures and drop off Christmas lists. \nDoors open at noon; attendees can buy lunch and chat with vendors. The frenzy event starts at 1 PM. \nProceeds from lunch go to Team Matthew. \nEvent codes ccfb ccfdd
URL:https://www.wlcnonline.com/event/quarter-auction-by-san-jose-quarter-frenzy-raising-funds-for-the-san-jose-fire-rescue-breakfast-with-santa-event-at-san-jose-united-methodist-church/
LOCATION:San Jose United Methodist Church\, 600 S. First Street\, San Jose\, IL\, 62682\, United States
ORGANIZER;CN="Nancy Martin/San Jose Quarter Frenzy":MAILTO:nmartin23@gmail.com
END:VEVENT
BEGIN:VEVENT
DTSTART;TZID=America/Chicago:20251116T140000
DTEND;TZID=America/Chicago:20251116T160000
DTSTAMP:20260421T010227
CREATED:20240607T073345Z
LAST-MODIFIED:20251231T163021Z
UID:10020363-1763301600-1763308800@www.wlcnonline.com
SUMMARY:Xtreme Bar Bingo at The Next Stop Saloon in Mt. Pulaski
DESCRIPTION:Games take place every Sunday from 2 PM to 4 PM. \nEvent codes ccfb ccbin
URL:https://www.wlcnonline.com/event/xtreme-bar-bingo-at-the-next-stop-saloon-in-mt-pulaski/2025-11-16/
LOCATION:The Next Stop Saloon in Mt. Pulaski\, 100 E. Cooke Street\, Mt. Pulaski\, IL\, 62548\, United States
END:VEVENT
BEGIN:VEVENT
DTSTART;TZID=America/Chicago:20251116T150000
DTEND;TZID=America/Chicago:20251116T180000
DTSTAMP:20260421T010227
CREATED:20251113T210457Z
LAST-MODIFIED:20251113T210457Z
UID:10021070-1763305200-1763316000@www.wlcnonline.com
SUMMARY:Sunday funday with live music by Taylor Bruninga and the Bandits at Gracie's Sports Bar in Green Valley
DESCRIPTION:Enjoy an afternoon of original music and covers ranging from ’90s to outlaw country and southern rock with Taylor Bruninga and the Bandits. Bruninga has shared the stage with numerous artists\, including Chris Cagle\, Bryan Martin\, Creed Fisher and Southall. \nEvent codes ccfb cclm ccent
URL:https://www.wlcnonline.com/event/sunday-funday-with-live-music-by-taylor-bruninga-and-the-bandits-at-gracies-sports-bar-in-green-valley/
LOCATION:Gracie’s Sports Bar in Green Valley\, 6031 IL Route 29\, Green Valley\, IL\, 61534\, United States
ORGANIZER;CN="Gracie's Sports Bar":MAILTO:bobnbec@yahoo.com
END:VEVENT
BEGIN:VEVENT
DTSTART;TZID=America/Chicago:20251116T170000
DTEND;TZID=America/Chicago:20251116T180000
DTSTAMP:20260421T010227
CREATED:20250227T215139Z
LAST-MODIFIED:20251231T162319Z
UID:10019672-1763312400-1763316000@www.wlcnonline.com
SUMMARY:Narcotics Anonymous meetings by Land of Lincoln Recovery Group at Hope on 5th in Lincoln
DESCRIPTION:Meetings are free to attend and take place at 6 PM Thursdays as well as at 5 PM on Sundays. \nEvent codes
URL:https://www.wlcnonline.com/event/narcotics-anonymous-meetings-by-land-of-lincoln-recovery-group-at-hope-on-5th-in-lincoln/2025-11-16/
LOCATION:Hope on 5th in Lincoln\, 200 5th Street\, Lincoln\, 62656\, United States
ORGANIZER;CN="Logan Mason Recovery Oriented Systems of Care (ROSC)":MAILTO:jedavis@chestnut.org
END:VEVENT
BEGIN:VEVENT
DTSTART;TZID=America/Chicago:20251116T180000
DTEND;TZID=America/Chicago:20251116T190000
DTSTAMP:20260421T010227
CREATED:20250227T221038Z
LAST-MODIFIED:20251231T162443Z
UID:10019497-1763316000-1763319600@www.wlcnonline.com
SUMMARY:Alcoholics Anonymous meetings at Trinity Episcopal Church in Lincoln
DESCRIPTION:Meetings are free to attend and take place at the following times: \n\nMondays at 7 PM\nWednesdays at 6 PM\nFridays at 11 AM\nSundays at 6 PM\n\nEvent codes
URL:https://www.wlcnonline.com/event/alcoholics-anonymous-meetings-at-trinity-episcopal-church-in-lincoln-4/2025-11-16/
LOCATION:Trinity Episcopal Church in Lincoln\, 402 Pekin Street\, Lincoln\, 62656\, United States
ORGANIZER;CN="Logan Mason Recovery Oriented Systems of Care (ROSC)":MAILTO:jedavis@chestnut.org
END:VEVENT
BEGIN:VEVENT
DTSTART;TZID=America/Chicago:20251117T100000
DTEND;TZID=America/Chicago:20251117T104500
DTSTAMP:20260421T010227
CREATED:20250814T215225Z
LAST-MODIFIED:20260115T152229Z
UID:10020634-1763373600-1763376300@www.wlcnonline.com
SUMMARY:Chair yoga by Silver Fox Fitness at The Villas at Lincoln﻿
DESCRIPTION:Seated and standing poses will be utilized with the goal of increasing flexibility\, balance and strength along with providing relaxation. Participants never get down on the floor. \nEvent codes: ccfs\, cchwf
URL:https://www.wlcnonline.com/event/chair-yoga-by-silver-fox-fitness-at-the-villas-at-lincoln/2025-11-17/
LOCATION:Villas at Lincoln (formerly The Christian Village) in Lincoln\, 1507 7th Street\, Lincoln\, IL\, 62656\, United States
END:VEVENT
BEGIN:VEVENT
DTSTART;TZID=America/Chicago:20251117T133000
DTEND;TZID=America/Chicago:20251117T173000
DTSTAMP:20260421T010227
CREATED:20240808T140430Z
LAST-MODIFIED:20260212T210056Z
UID:10021039-1763386200-1763400600@www.wlcnonline.com
SUMMARY:Community blood drive at Knights of Columbus Hall in Lincoln
DESCRIPTION:Click here to schedule a donation appointment time. \nEvent codes: ccbld\, ccserv
URL:https://www.wlcnonline.com/event/community-blood-drive-at-knights-of-columbus-hall-in-lincoln-5/2025-11-17/
LOCATION:Lincoln Knights of Columbus Hall\, 217 Limit Street\, Lincoln\, IL\, 62656\, United States
END:VEVENT
BEGIN:VEVENT
DTSTART;TZID=America/Chicago:20251117T170000
DTEND;TZID=America/Chicago:20251117T200000
DTSTAMP:20260421T010227
CREATED:20250130T145000Z
LAST-MODIFIED:20260417T032605Z
UID:10018116-1763398800-1763409600@www.wlcnonline.com
SUMMARY:Fundraiser for Habitat for Humanity of Logan County at Culver's of Lincoln
DESCRIPTION:Purchase food from Culver’s of Lincoln and help support a worthy cause whether dining in\, carrying out\, using the drive-thru or ordering through DoorDash. During the hours of the fundraiser\, a portion of all proceeds will be donated to the organization. \nEvent codes ccfb\, ccfdd
URL:https://www.wlcnonline.com/event/fundraiser-for-habitat-for-humanity-of-logan-county-at-culvers-of-lincoln-8/2025-11-17/
LOCATION:Culver’s of Lincoln\, 2530 Woodlawn Road\, Lincoln\, IL\, 62656\, United States
ORGANIZER;CN="Culver's of Lincoln":MAILTO:lincolnculvers@comcast.net
END:VEVENT
BEGIN:VEVENT
DTSTART;TZID=America/Chicago:20251117T180000
DTEND;TZID=America/Chicago:20251117T190000
DTSTAMP:20260421T010227
CREATED:20250227T215503Z
LAST-MODIFIED:20251231T163530Z
UID:10019259-1763402400-1763406000@www.wlcnonline.com
SUMMARY:Co-Dependents Anonymous (CoDA) meetings by Land of Lincoln Recovery Group at Hope on 5th in Lincoln
DESCRIPTION:Meetings are free to attend and take place at 6 PM Mondays. \nEvent codes
URL:https://www.wlcnonline.com/event/co-dependents-anonymous-coda-meetings-by-land-of-lincoln-recovery-group-at-hope-on-5th-in-lincoln/2025-11-17/
LOCATION:Hope on 5th in Lincoln\, 200 5th Street\, Lincoln\, 62656\, United States
ORGANIZER;CN="Logan Mason Recovery Oriented Systems of Care (ROSC)":MAILTO:jedavis@chestnut.org
END:VEVENT
BEGIN:VEVENT
DTSTART;TZID=America/Chicago:20251117T180000
DTEND;TZID=America/Chicago:20251117T200000
DTSTAMP:20260421T010227
CREATED:20250725T024845Z
LAST-MODIFIED:20251231T163623Z
UID:10020584-1763402400-1763409600@www.wlcnonline.com
SUMMARY:Music bingo at Copper & Oak Bourbon & Craft Beer Bar in Lincoln
DESCRIPTION:Music bingo is like regular bingo\, except of numbers being called\, segments of songs are played; if you can identify the song played and it is on your bingo card\, cross it off and continue doing so until someone gets bingo. \nMusic bingo is free to play. \nEvent codes ccbin ccsoc ccfb
URL:https://www.wlcnonline.com/event/music-bingo-at-copper-oak-bourbon-craft-beer-bar-in-lincoln/2025-11-17/
LOCATION:Copper & Oak in Lincoln\, 227 N. Kickapoo Street\, Lincoln\, IL\, 62656\, United States
END:VEVENT
BEGIN:VEVENT
DTSTART;TZID=America/Chicago:20251117T190000
DTEND;TZID=America/Chicago:20251117T200000
DTSTAMP:20260421T010227
CREATED:20250227T220659Z
LAST-MODIFIED:20251231T163725Z
UID:10019366-1763406000-1763409600@www.wlcnonline.com
SUMMARY:Alcoholics Anonymous meetings at Trinity Episcopal Church in Lincoln
DESCRIPTION:Meetings are free to attend and take place at the following times: \n\nMondays at 7 PM\nWednesdays at 6 PM\nFridays at 11 AM\nSundays at 6 PM\n\nEvent codes
URL:https://www.wlcnonline.com/event/alcoholics-anonymous-meetings-at-trinity-episcopal-church-in-lincoln/2025-11-17/
LOCATION:Trinity Episcopal Church in Lincoln\, 402 Pekin Street\, Lincoln\, 62656\, United States
ORGANIZER;CN="Logan Mason Recovery Oriented Systems of Care (ROSC)":MAILTO:jedavis@chestnut.org
END:VEVENT
BEGIN:VEVENT
DTSTART;TZID=America/Chicago:20251118T100000
DTEND;TZID=America/Chicago:20251118T220000
DTSTAMP:20260421T010227
CREATED:20250911T152448Z
LAST-MODIFIED:20250911T152448Z
UID:10020815-1763460000-1763503200@www.wlcnonline.com
SUMMARY:Fundraiser for Chester East Lincoln School at Culver's of Lincoln
DESCRIPTION:Purchase food from Culver’s of Lincoln and help support a worthy cause whether dining in\, carrying out\, using the drive-thru or ordering through DoorDash. During the hours of the fundraiser\, a portion of all proceeds will be donated to the organization. Fundraisers for all schools run all day. Those making purchases during school fundraisers must fill out a slip to designate the class to which the donation is to be credited; those ordering via DoorDash can call Culver’s (217-732-7300) to designate how the donation from their purchase should be allocated. \nEvent codes ccfb\, ccfdd
URL:https://www.wlcnonline.com/event/fundraiser-for-chester-east-lincoln-school-at-culvers-of-lincoln/2025-11-18/
LOCATION:Culver’s of Lincoln\, 2530 Woodlawn Road\, Lincoln\, IL\, 62656\, United States
ORGANIZER;CN="Culver's of Lincoln":MAILTO:lincolnculvers@comcast.net
END:VEVENT
BEGIN:VEVENT
DTSTART;TZID=America/Chicago:20251118T170000
DTEND;TZID=America/Chicago:20251118T203000
DTSTAMP:20260421T010227
CREATED:20250220T233455Z
LAST-MODIFIED:20251231T163935Z
UID:10018885-1763485200-1763497800@www.wlcnonline.com
SUMMARY:Tuesday night bingo (meal @ 5 PM\, bingo @ 6:30 PM) at Oasis Senior Center in Lincoln﻿
DESCRIPTION:Bingo takes place on Tuesday evenings from 6:30 PM to 8:30 PM and is open to the public. Doors open at 5 PM for a meal\, snack and beverages. \nEvent codes ccgc ccbin ccfb ccsoc
URL:https://www.wlcnonline.com/event/tuesday-night-bingo-meal-5-pm-bingo-630-pm-at-oasis-senior-center-in-lincoln/2025-11-18/
LOCATION:Oasis Senior Center\, 2810 Woodlawn Road\, Lincoln\, IL\, 62656\, United States
ORGANIZER;CN="Oasis Senior Center":MAILTO:nancy@oasisseniorcenter.com
END:VEVENT
BEGIN:VEVENT
DTSTART;TZID=America/Chicago:20251118T180000
DTEND;TZID=America/Chicago:20251118T190000
DTSTAMP:20260421T010227
CREATED:20250227T214713Z
LAST-MODIFIED:20251231T161900Z
UID:10019064-1763488800-1763492400@www.wlcnonline.com
SUMMARY:Alcoholics Anonymous meetings by Land of Lincoln Recovery Group at Hope on 5th in Lincoln
DESCRIPTION:Meetings are free to attend and take place at 6 PM on Tuesdays\, Wednesdays\, Fridays and Saturdays as well as at 9 AM on Saturdays and Sundays. \nEvent codes
URL:https://www.wlcnonline.com/event/alcoholics-anonymous-meetings-by-land-of-lincoln-recovery-group-at-hope-on-5th-in-lincoln/2025-11-18/
LOCATION:Hope on 5th in Lincoln\, 200 5th Street\, Lincoln\, 62656\, United States
ORGANIZER;CN="Logan Mason Recovery Oriented Systems of Care (ROSC)":MAILTO:jedavis@chestnut.org
END:VEVENT
BEGIN:VEVENT
DTSTART;TZID=America/Chicago:20251118T180000
DTEND;TZID=America/Chicago:20251118T200000
DTSTAMP:20260421T010227
CREATED:20251010T045836Z
LAST-MODIFIED:20251010T045836Z
UID:10020930-1763488800-1763496000@www.wlcnonline.com
SUMMARY:Alcohol Ink Keepsake Ornament community education class event by Heartland Community College Lincoln
DESCRIPTION:Create personalized holiday decorations by embellishing unique glass ornaments. Learn techniques for working with bright alcohol inks to add shimmer and individuality to your designs. Leave class with several vibrant ornaments to keep or give as gifts. Students will complete at least two ornaments in class. \nCost of the class is $29 plus a $10 cash-only supply fee paid to the instructor. \nEvent codes ccedu
URL:https://www.wlcnonline.com/event/alcohol-ink-keepsake-ornament-community-education-class-event-by-heartland-community-college-lincoln/
LOCATION:Heartland Community College Lincoln\, 2201 Woodlawn Road\, Suite 200\, Lincoln\, IL\, 62656\, United States
ORGANIZER;CN="Heartland Community College Lincoln":MAILTO:Lincoln.Center@heartland.edu
END:VEVENT
BEGIN:VEVENT
DTSTART;TZID=America/Chicago:20251118T190000
DTEND;TZID=America/Chicago:20251118T220000
DTSTAMP:20260421T010227
CREATED:20251030T123955Z
LAST-MODIFIED:20251030T135320Z
UID:10021022-1763492400-1763503200@www.wlcnonline.com
SUMMARY:Harvest Hustle barrel racing series event at 4 Rocks Arena in rural Delavan
DESCRIPTION:The event will feature pee-wee barrels and open 4D barrels along with youth\, adult and senior sidepots. Expos will take place from 5:30 PM to 6:30 PM. Those who would like to participate in the event can sign up online at saddlebook.com. \nEvent codes ccsoc ccgc
URL:https://www.wlcnonline.com/event/harvest-hustle-barrel-racing-series-event-at-4-rocks-arena-in-rural-delavan/2025-11-18/
LOCATION:Four Rocks Arena in rural Delavan\, 24865 Ilinois Route122\, Delavan\, IL\, 61734\, United States
ORGANIZER;CN="BA Barrel Racing Productions":MAILTO:bcagility07@yahoo.com
END:VEVENT
BEGIN:VEVENT
DTSTART;TZID=America/Chicago:20251118T200000
DTEND;TZID=America/Chicago:20251119T000000
DTSTAMP:20260421T010227
CREATED:20250725T022208Z
LAST-MODIFIED:20251231T164013Z
UID:10020554-1763496000-1763510400@www.wlcnonline.com
SUMMARY:Karaoke at The Rusty Rail Pub in Lincoln
DESCRIPTION:Karaoke events are scheduled at the Rusty Rail each Tuesday night from 8 PM to midnight. \nEvent codes ccfb ccent cckar
URL:https://www.wlcnonline.com/event/karaoke-at-the-rusty-rail-pub-in-lincoln/2025-11-18/
LOCATION:The Rusty Rail Pub in Lincoln\, 405 Pulaski Street\, Lincoln\, IL\, 62656\, United States
END:VEVENT
BEGIN:VEVENT
DTSTART;TZID=America/Chicago:20251119T180000
DTEND;TZID=America/Chicago:20251119T190000
DTSTAMP:20260421T010227
CREATED:20250227T214713Z
LAST-MODIFIED:20251231T161900Z
UID:10019065-1763575200-1763578800@www.wlcnonline.com
SUMMARY:Alcoholics Anonymous meetings by Land of Lincoln Recovery Group at Hope on 5th in Lincoln
DESCRIPTION:Meetings are free to attend and take place at 6 PM on Tuesdays\, Wednesdays\, Fridays and Saturdays as well as at 9 AM on Saturdays and Sundays. \nEvent codes
URL:https://www.wlcnonline.com/event/alcoholics-anonymous-meetings-by-land-of-lincoln-recovery-group-at-hope-on-5th-in-lincoln/2025-11-19/
LOCATION:Hope on 5th in Lincoln\, 200 5th Street\, Lincoln\, 62656\, United States
ORGANIZER;CN="Logan Mason Recovery Oriented Systems of Care (ROSC)":MAILTO:jedavis@chestnut.org
END:VEVENT
END:VCALENDAR