BEGIN:VCALENDAR
VERSION:2.0
PRODID:-//WLCN 96.3 FM - ECPv6.15.20//NONSGML v1.0//EN
CALSCALE:GREGORIAN
METHOD:PUBLISH
X-WR-CALNAME:WLCN 96.3 FM
X-ORIGINAL-URL:https://www.wlcnonline.com
X-WR-CALDESC:Events for WLCN 96.3 FM
REFRESH-INTERVAL;VALUE=DURATION:PT1H
X-Robots-Tag:noindex
X-PUBLISHED-TTL:PT1H
BEGIN:VTIMEZONE
TZID:America/Chicago
BEGIN:DAYLIGHT
TZOFFSETFROM:-0600
TZOFFSETTO:-0500
TZNAME:CDT
DTSTART:20240310T080000
END:DAYLIGHT
BEGIN:STANDARD
TZOFFSETFROM:-0500
TZOFFSETTO:-0600
TZNAME:CST
DTSTART:20241103T070000
END:STANDARD
BEGIN:DAYLIGHT
TZOFFSETFROM:-0600
TZOFFSETTO:-0500
TZNAME:CDT
DTSTART:20250309T080000
END:DAYLIGHT
BEGIN:STANDARD
TZOFFSETFROM:-0500
TZOFFSETTO:-0600
TZNAME:CST
DTSTART:20251102T070000
END:STANDARD
BEGIN:DAYLIGHT
TZOFFSETFROM:-0600
TZOFFSETTO:-0500
TZNAME:CDT
DTSTART:20260308T080000
END:DAYLIGHT
BEGIN:STANDARD
TZOFFSETFROM:-0500
TZOFFSETTO:-0600
TZNAME:CST
DTSTART:20261101T070000
END:STANDARD
END:VTIMEZONE
BEGIN:VEVENT
DTSTART;TZID=America/Chicago:20251113T180000
DTEND;TZID=America/Chicago:20251113T190000
DTSTAMP:20260420T232941
CREATED:20250227T215251Z
LAST-MODIFIED:20251231T170747Z
UID:10019215-1763056800-1763060400@www.wlcnonline.com
SUMMARY:Narcotics Anonymous meetings by Land of Lincoln Recovery Group at Hope on 5th in Lincoln
DESCRIPTION:Meetings are free to attend and take place at 6 PM Thursdays as well as at 5 PM on Sundays. \nEvent codes
URL:https://www.wlcnonline.com/event/narcotics-anonymous-meetings-by-land-of-lincoln-recovery-group-at-hope-on-5th-in-lincoln-2/2025-11-13/
LOCATION:Hope on 5th in Lincoln\, 200 5th Street\, Lincoln\, 62656\, United States
ORGANIZER;CN="Logan Mason Recovery Oriented Systems of Care (ROSC)":MAILTO:jedavis@chestnut.org
END:VEVENT
BEGIN:VEVENT
DTSTART;TZID=America/Chicago:20251113T180000
DTEND;TZID=America/Chicago:20251113T213000
DTSTAMP:20260420T232941
CREATED:20251106T215327Z
LAST-MODIFIED:20251106T215327Z
UID:10021057-1763056800-1763069400@www.wlcnonline.com
SUMMARY:Quarter auction fundraiser by Williamsville Community Foundation at Williamsville Community Center
DESCRIPTION:Doors open at 5:45 PM and the auction begins at 6:30 PM. Funds raised will benefit the fund for after prom activities following the Williamsville High School prom. \nEach monthly quarter auction raises money for a local charity or organization. \nThere will be prizes\, as well as food and drinks available for purchase. \nEvent codes ccfdd ccfb ccsoc
URL:https://www.wlcnonline.com/event/quarter-auction-fundraiser-by-williamsville-community-foundation-at-williamsville-community-center-7/
LOCATION:Williamsville Community Center\, 141 W Main Street\, Williamsville\, IL\, 62693\, United States
ORGANIZER;CN="Williamsville Community Foundation":MAILTO:wville@gcctv.com
END:VEVENT
BEGIN:VEVENT
DTSTART;TZID=America/Chicago:20251113T184500
DTEND;TZID=America/Chicago:20251113T203000
DTSTAMP:20260420T232941
CREATED:20251106T220157Z
LAST-MODIFIED:20251106T220157Z
UID:10021059-1763059500-1763065800@www.wlcnonline.com
SUMMARY:Family reading night at Olympia West Elementary School in Minier
DESCRIPTION:Attendees will enjoy a fun-filled evening of reading books and playing games. \nEvent codes ccff ccfk ccedu
URL:https://www.wlcnonline.com/event/family-reading-night-at-olympia-west-elementary-school-in-minier/
LOCATION:Olympia West Elementary School in Minier\, 302 N. School Street\, Minier\, 61759\, United States
ORGANIZER;CN="H.A. Peine District Library":MAILTO:minierlibcirc@gmail.com
END:VEVENT
BEGIN:VEVENT
DTSTART;TZID=America/Chicago:20251113T190000
DTEND;TZID=America/Chicago:20251113T190000
DTSTAMP:20260420T232941
CREATED:20240329T042327Z
LAST-MODIFIED:20251231T163130Z
UID:10020337-1763060400-1763060400@www.wlcnonline.com
SUMMARY:Xtreme Bar Bingo at The Rusty Rail in Lincoln
DESCRIPTION:Xtreme Bar Bingo is bingo game with awesome prizes. The Rusty Rail features Xtreme Bar Bingo on Thursday nights beginning at 7 PM. \nEvent codes: ccgc\, ccsoc ccbin
URL:https://www.wlcnonline.com/event/xtreme-bar-bingo-at-the-rusty-rail-in-lincoln/2025-11-13/
LOCATION:The Rusty Rail Pub in Lincoln\, 405 Pulaski Street\, Lincoln\, IL\, 62656\, United States
END:VEVENT
BEGIN:VEVENT
DTSTART;TZID=America/Chicago:20251113T190000
DTEND;TZID=America/Chicago:20251113T200000
DTSTAMP:20260420T232942
CREATED:20250227T220255Z
LAST-MODIFIED:20251231T170522Z
UID:10019322-1763060400-1763064000@www.wlcnonline.com
SUMMARY:Celebrate recovery events at Open Arms Christian Fellowship in Lincoln
DESCRIPTION:Events take place on Thursday evenings with snacks served at 6 PM and the meeting starting at 7 PM.
URL:https://www.wlcnonline.com/event/celebrate-recovery-events-at-open-arms-christian-fellowship-in-lincoln/2025-11-13/
LOCATION:Open Arms Christian Fellowship\, 1321 State Route 10\, Lincoln\, IL\, 62656\, United States
ORGANIZER;CN="Hope on 5th":MAILTO:rhss2005th@gmail.com
END:VEVENT
BEGIN:VEVENT
DTSTART;TZID=America/Chicago:20251113T190000
DTEND;TZID=America/Chicago:20251113T200000
DTSTAMP:20260420T232942
CREATED:20250227T221223Z
LAST-MODIFIED:20251231T171824Z
UID:10019540-1763060400-1763064000@www.wlcnonline.com
SUMMARY:Alcoholics Anonymous meetings at Atlanta Community House in Atlanta
DESCRIPTION:Meetings are free to attend and take place Thursdays at 7 PM. \nEvent codes
URL:https://www.wlcnonline.com/event/alcoholics-anonymous-meetings-at-atlanta-community-house-in-atlanta/2025-11-13/
LOCATION:Atlanta Memorial Community House\, 106 SW 6th Street\, Atlanta\, IL\, 61723\, United States
ORGANIZER;CN="Logan Mason Recovery Oriented Systems of Care (ROSC)":MAILTO:jedavis@chestnut.org
END:VEVENT
BEGIN:VEVENT
DTSTART;TZID=America/Chicago:20251113T190000
DTEND;TZID=America/Chicago:20251113T220000
DTSTAMP:20260420T232942
CREATED:20250710T225735Z
LAST-MODIFIED:20251231T171651Z
UID:10018392-1763060400-1763071200@www.wlcnonline.com
SUMMARY:Open mic night at Spirited Republic in Lincoln
DESCRIPTION:Spirited Republic open mic nights are a solo acoustic musical experiment with the goal of cultivating friendship\, support and good times amongst musicians\, comedians\, poets and artists of all kinds. Performers are asked to bring their own instruments (no drum sets; hand drums and percussion equipment only). \nEvent codes: ccent\, ccfb\, cclm\, ccsoc
URL:https://www.wlcnonline.com/event/open-mic-night-at-spirited-republic-in-lincoln-2/2025-11-13/
LOCATION:Spirited Republic in Lincoln\, 509 Pulaski Street\, Lincoln\, IL\, 62656\, United States
ORGANIZER;CN="Spirited Republic/Limerick Brewing Company":MAILTO:spiritedrepublic@gmail.com
END:VEVENT
BEGIN:VEVENT
DTSTART;TZID=America/Chicago:20251114T081500
DTEND;TZID=America/Chicago:20251114T170000
DTSTAMP:20260420T232942
CREATED:20251003T151411Z
LAST-MODIFIED:20251023T152526Z
UID:10020961-1763108100-1763139600@www.wlcnonline.com
SUMMARY:Drive-thru flu shot clinic at Logan County Department of Public Health in Lincoln
DESCRIPTION:In addition\, the department is open Mondays through Fridays from 7:30 AM to 3:45 PM for vaccines. \nEvent codes cchwf
URL:https://www.wlcnonline.com/event/drive-thru-flu-shot-clinic-at-logan-county-department-of-public-health-in-lincoln/2025-11-14/
LOCATION:Logan County Department of Public Health\, 109 3rd Street\, Lincoln\, IL\, 62656\, United States
ORGANIZER;CN="Logan County Department of Public Health":MAILTO:info@lcdph.org
END:VEVENT
BEGIN:VEVENT
DTSTART;TZID=America/Chicago:20251114T090000
DTEND;TZID=America/Chicago:20251114T133000
DTSTAMP:20260420T232942
CREATED:20251106T222127Z
LAST-MODIFIED:20251106T222127Z
UID:10021065-1763110800-1763127000@www.wlcnonline.com
SUMMARY:Community blood drive at Warrensburg-Latham High School in Warrensburg
DESCRIPTION:The drive runs from 9 AM to 1:30 PM. \nClick here to schedule a donation time online.
URL:https://www.wlcnonline.com/event/community-blood-drive-at-warrensburg-latham-high-school-in-warrensburg/
LOCATION:Warrensburg-Latham High School\, 425 N. North Street\, Warrensburg\, IL\, 62573\, United States
END:VEVENT
BEGIN:VEVENT
DTSTART;TZID=America/Chicago:20251114T110000
DTEND;TZID=America/Chicago:20251114T120000
DTSTAMP:20260420T232942
CREATED:20250227T220937Z
LAST-MODIFIED:20251231T160939Z
UID:10019453-1763118000-1763121600@www.wlcnonline.com
SUMMARY:Alcoholics Anonymous meetings at Trinity Episcopal Church in Lincoln
DESCRIPTION:Meetings are free to attend and take place at the following times: \n\nMondays at 7 PM\nWednesdays at 6 PM\nFridays at 11 AM\nSundays at 6 PM\n\nEvent codes
URL:https://www.wlcnonline.com/event/alcoholics-anonymous-meetings-at-trinity-episcopal-church-in-lincoln-3/2025-11-14/
LOCATION:Trinity Episcopal Church in Lincoln\, 402 Pekin Street\, Lincoln\, 62656\, United States
ORGANIZER;CN="Logan Mason Recovery Oriented Systems of Care (ROSC)":MAILTO:jedavis@chestnut.org
END:VEVENT
BEGIN:VEVENT
DTSTART;TZID=America/Chicago:20251114T120000
DTEND;TZID=America/Chicago:20251114T130000
DTSTAMP:20260420T232942
CREATED:20251023T205432Z
LAST-MODIFIED:20251023T205432Z
UID:10020991-1763121600-1763125200@www.wlcnonline.com
SUMMARY:2025 Logan County pumpkin smash & splash event at parks around Lincoln
DESCRIPTION:Join the Logan County Parks Coalition for a fun way to recycle your pumpkins and help the environment. Pumpkins can be dropped off between November 1 and November 14 from noon to 1 PM at Kickapoo Creek Park\, Madigan State Park\, the David W. Schroder Memorial Community Garden or the Lincoln Park District. Then on November 15\, pumpkins will be smashed from 9 AM to noon at the Schroder Memorial Garden\, and they’ll be “splashed” from 11 AM to 1 PM at Kickapoo Creek Park. \nEvent codes cchwf ccfre cchall
URL:https://www.wlcnonline.com/event/2025-logan-county-pumpkin-smash-splash-event-at-parks-around-lincoln/2025-11-14/
LOCATION:Kickapoo Creek Park in Lincoln\, 2000 Jefferson Street\, Lincoln\, IL\, 62656\, United States
END:VEVENT
BEGIN:VEVENT
DTSTART;TZID=America/Chicago:20251114T120000
DTEND;TZID=America/Chicago:20251114T133000
DTSTAMP:20260420T232942
CREATED:20250227T221857Z
LAST-MODIFIED:20251231T161051Z
UID:10019628-1763121600-1763127000@www.wlcnonline.com
SUMMARY:SMART (Self-Management and Recovery Training) recovery meetings at Hope on 5th in Lincoln
DESCRIPTION:Meetings are free to attend and take place Fridays from noon to 1:30 PM. \nEvent codes
URL:https://www.wlcnonline.com/event/smart-self-management-and-recovery-training-recovery-meetings-at-hope-on-5th-in-lincoln/2025-11-14/
LOCATION:Hope on 5th in Lincoln\, 200 5th Street\, Lincoln\, 62656\, United States
ORGANIZER;CN="Logan Mason Recovery Oriented Systems of Care (ROSC)":MAILTO:jedavis@chestnut.org
END:VEVENT
BEGIN:VEVENT
DTSTART;TZID=America/Chicago:20251114T170000
DTEND;TZID=America/Chicago:20251114T190000
DTSTAMP:20260420T232942
CREATED:20250708T125227Z
LAST-MODIFIED:20260129T221247Z
UID:10020444-1763139600-1763146800@www.wlcnonline.com
SUMMARY:Schnitzel dinner at Eagles Lodge in Lincoln
DESCRIPTION:Dinners cost $10 each and are available on a dine-in or carry-out basis. \nEvent codes ccfb ccfdd
URL:https://www.wlcnonline.com/event/schnitzel-dinner-at-eagles-lodge-in-lincoln-2/2025-11-14/
LOCATION:Fraternal Order Of Eagles #2708 in Lincoln\, 1621 N. Kickapoo Street\, Lincoln\, IL\, 62656\, United States
END:VEVENT
BEGIN:VEVENT
DTSTART;TZID=America/Chicago:20251114T180000
DTEND;TZID=America/Chicago:20251114T190000
DTSTAMP:20260420T232942
CREATED:20250227T214713Z
LAST-MODIFIED:20251231T161900Z
UID:10019062-1763143200-1763146800@www.wlcnonline.com
SUMMARY:Alcoholics Anonymous meetings by Land of Lincoln Recovery Group at Hope on 5th in Lincoln
DESCRIPTION:Meetings are free to attend and take place at 6 PM on Tuesdays\, Wednesdays\, Fridays and Saturdays as well as at 9 AM on Saturdays and Sundays. \nEvent codes
URL:https://www.wlcnonline.com/event/alcoholics-anonymous-meetings-by-land-of-lincoln-recovery-group-at-hope-on-5th-in-lincoln/2025-11-14/
LOCATION:Hope on 5th in Lincoln\, 200 5th Street\, Lincoln\, 62656\, United States
ORGANIZER;CN="Logan Mason Recovery Oriented Systems of Care (ROSC)":MAILTO:jedavis@chestnut.org
END:VEVENT
BEGIN:VEVENT
DTSTART;TZID=America/Chicago:20251114T190000
DTEND;TZID=America/Chicago:20251114T220000
DTSTAMP:20260420T232942
CREATED:20251106T220417Z
LAST-MODIFIED:20251106T220417Z
UID:10021060-1763146800-1763157600@www.wlcnonline.com
SUMMARY:Live acoustic music by Hollow Creek at the Irish Circle in Wapella
DESCRIPTION:Hollow Creek will feature acoustic renditions of favorites from the ’70s to today. \nEvent codes ccent cclm ccfb ccsoc
URL:https://www.wlcnonline.com/event/live-acoustic-music-by-hollow-creek-at-the-irish-circle-in-wapella/
LOCATION:The Irish Circle in Wapella\, 405 N Walnut Street\, Wapella\, IL\, 61777\, United States
END:VEVENT
BEGIN:VEVENT
DTSTART;TZID=America/Chicago:20251114T200000
DTEND;TZID=America/Chicago:20251114T213000
DTSTAMP:20260420T232942
CREATED:20251106T214922Z
LAST-MODIFIED:20251106T214945Z
UID:10021055-1763150400-1763155800@www.wlcnonline.com
SUMMARY:Headline comedy performance by Mandee McKelvey at Mason City Limits Comedy Club in Mason City
DESCRIPTION:Mandee McKelvey was recently named one of the 50 best undiscovered comics in the country by Thrillist.  She is revered for her ability to spin tragedy into comedy\, from growing up poor in South Carolina to becoming a widow in her 20s. She was named a breakout performer at Limestone Comedy Festival and the Memphis Comedy Festival. \nTickets are general admission and cost $22.50; click here to purchase tickets online. \nEvent codes: ccent\, cclc
URL:https://www.wlcnonline.com/event/headline-comedy-performance-by-mandee-mckelvey-at-mason-city-limits-comedy-club-in-mason-city/2025-11-14/
LOCATION:Mason City Limits Comedy Club\, 114 E. Chestnut Street\, Mason City\, IL\, 62664\, United States
ORGANIZER;CN="Mason City Limits Comedy Club":MAILTO:mclimits@hotmail.com
END:VEVENT
BEGIN:VEVENT
DTSTART;TZID=America/Chicago:20251115T090000
DTEND;TZID=America/Chicago:20251115T090000
DTSTAMP:20260420T232942
CREATED:20251106T221549Z
LAST-MODIFIED:20251106T221549Z
UID:10021063-1763197200-1763197200@www.wlcnonline.com
SUMMARY:9th annual Mia's Vintage Restorations Christmas event in Mason City
DESCRIPTION:Attendees can get an early start on Christmas shopping\, as the shop will be stuffed full of everything Christmas from vintage treasures to new decor. There will be hourly drawings\, local vendors and the Udderly Delicious food truck will be on site. \nEvent codes ccchr cclbep
URL:https://www.wlcnonline.com/event/9th-annual-mias-vintage-restorations-christmas-event-in-mason-city/
LOCATION:Mia’s Vintage Restorations in Mason City\, 109 W. Elm Street\, Mason City\, IL\, 62664\, United States
ORGANIZER;CN="Vintage Restorations by Mia in Mason City":MAILTO:miacook55@yahoo.com
END:VEVENT
BEGIN:VEVENT
DTSTART;TZID=America/Chicago:20251115T090000
DTEND;TZID=America/Chicago:20251115T100000
DTSTAMP:20260420T232942
CREATED:20250227T214918Z
LAST-MODIFIED:20251231T162155Z
UID:10019164-1763197200-1763200800@www.wlcnonline.com
SUMMARY:Alcoholics Anonymous meetings by Land of Lincoln Recovery Group at Hope on 5th in Lincoln
DESCRIPTION:Meetings are free to attend and take place at 6 PM on Tuesdays\, Wednesdays\, Fridays and Saturdays as well as at 9 AM on Saturdays and Sundays. \nEvent codes
URL:https://www.wlcnonline.com/event/alcoholics-anonymous-meetings-by-land-of-lincoln-recovery-group-at-hope-on-5th-in-lincoln-2/2025-11-15/
LOCATION:Hope on 5th in Lincoln\, 200 5th Street\, Lincoln\, 62656\, United States
ORGANIZER;CN="Logan Mason Recovery Oriented Systems of Care (ROSC)":MAILTO:jedavis@chestnut.org
END:VEVENT
BEGIN:VEVENT
DTSTART;TZID=America/Chicago:20251115T090000
DTEND;TZID=America/Chicago:20251115T110000
DTSTAMP:20260420T232942
CREATED:20251113T203458Z
LAST-MODIFIED:20251113T203458Z
UID:10021067-1763197200-1763204400@www.wlcnonline.com
SUMMARY:Touch-a-truck event at Eddie's Rise N' Dine in Williamsville
DESCRIPTION:Kids can climb\, explore and honk the horns on all kinds of awesome trucks and vehicles\, including fire trucks\, tractors and many others\, all for free. \nEvent codes ccff ccfk ccfb
URL:https://www.wlcnonline.com/event/touch-a-truck-event-at-eddies-rise-n-dine-in-williamsville/
LOCATION:Eddie’s Rise ‘n’ Dine in Williamsville\, 994 Ann Rutledge Drive\, Williamsville\, 62693\, United States
ORGANIZER;CN="Eddie's Rise 'n' Dine":MAILTO:info@eddiesrd.com
END:VEVENT
BEGIN:VEVENT
DTSTART;TZID=America/Chicago:20251115T090000
DTEND;TZID=America/Chicago:20251115T130000
DTSTAMP:20260420T232942
CREATED:20251023T205432Z
LAST-MODIFIED:20251023T205432Z
UID:10020992-1763197200-1763211600@www.wlcnonline.com
SUMMARY:2025 Logan County pumpkin smash & splash event at parks around Lincoln
DESCRIPTION:Join the Logan County Parks Coalition for a fun way to recycle your pumpkins and help the environment. Pumpkins can be dropped off between November 1 and November 14 from noon to 1 PM at Kickapoo Creek Park\, Madigan State Park\, the David W. Schroder Memorial Community Garden or the Lincoln Park District. Then on November 15\, pumpkins will be smashed from 9 AM to noon at the Schroder Memorial Garden\, and they’ll be “splashed” from 11 AM to 1 PM at Kickapoo Creek Park. \nEvent codes cchwf ccfre cchall
URL:https://www.wlcnonline.com/event/2025-logan-county-pumpkin-smash-splash-event-at-parks-around-lincoln/2025-11-15/
LOCATION:Kickapoo Creek Park in Lincoln\, 2000 Jefferson Street\, Lincoln\, IL\, 62656\, United States
END:VEVENT
BEGIN:VEVENT
DTSTART;TZID=America/Chicago:20251115T100000
DTEND;TZID=America/Chicago:20251115T103000
DTSTAMP:20260420T232942
CREATED:20251113T203916Z
LAST-MODIFIED:20251113T203916Z
UID:10021068-1763200800-1763202600@www.wlcnonline.com
SUMMARY:Christmas Kindness Kids storytime with local author Elizabeth Wrage at Ink & Imprint Books in Lincoln
DESCRIPTION:Local author Elizabeth Wrage shares The Christmas Kindness Kids for November’s story time. Parents can also purchase the book and activity book so your kids can complete the activities in December. \nEvent codes ccff ccfk cclbep
URL:https://www.wlcnonline.com/event/christmas-kindness-kids-storytime-with-local-author-elizabeth-wrage-at-ink-imprint-books-in-lincoln/
LOCATION:Ink & Imprint Books in Lincoln\, 125 N Kickapoo Street\, Lincoln\, 62656\, United States
ORGANIZER;CN="Ink & Imprint Books":MAILTO:inkandimprintbooks@gmail.com
END:VEVENT
BEGIN:VEVENT
DTSTART;TZID=America/Chicago:20251115T150000
DTEND;TZID=America/Chicago:20251115T180000
DTSTAMP:20260420T232942
CREATED:20251106T221104Z
LAST-MODIFIED:20251106T221104Z
UID:10021062-1763218800-1763229600@www.wlcnonline.com
SUMMARY:Veterans appreciation party with live music from Dick & Brad (3-6PM) at LargeCar Lounge in Lincoln
DESCRIPTION:Civilians and veterans alike are invited to this celebration of America’s veterans. Food will be provided\, and Dick & Brad will play live music from 3 PM to 6 PM. \nEvent codes ccsoc ccfb
URL:https://www.wlcnonline.com/event/veterans-appreciation-party-with-live-music-from-dick-brad-3-6pm-at-largecar-lounge-in-lincoln/
LOCATION:LargeCar Lounge in Lincoln\, 2821 Woodlawn Road\, Lincoln\, IL\, 62656\, United States
END:VEVENT
BEGIN:VEVENT
DTSTART;TZID=America/Chicago:20251115T180000
DTEND;TZID=America/Chicago:20251115T190000
DTSTAMP:20260420T232942
CREATED:20250227T214713Z
LAST-MODIFIED:20251231T161900Z
UID:10019063-1763229600-1763233200@www.wlcnonline.com
SUMMARY:Alcoholics Anonymous meetings by Land of Lincoln Recovery Group at Hope on 5th in Lincoln
DESCRIPTION:Meetings are free to attend and take place at 6 PM on Tuesdays\, Wednesdays\, Fridays and Saturdays as well as at 9 AM on Saturdays and Sundays. \nEvent codes
URL:https://www.wlcnonline.com/event/alcoholics-anonymous-meetings-by-land-of-lincoln-recovery-group-at-hope-on-5th-in-lincoln/2025-11-15/
LOCATION:Hope on 5th in Lincoln\, 200 5th Street\, Lincoln\, 62656\, United States
ORGANIZER;CN="Logan Mason Recovery Oriented Systems of Care (ROSC)":MAILTO:jedavis@chestnut.org
END:VEVENT
BEGIN:VEVENT
DTSTART;TZID=America/Chicago:20251115T190000
DTEND;TZID=America/Chicago:20251115T220000
DTSTAMP:20260420T232942
CREATED:20251106T220743Z
LAST-MODIFIED:20251106T220743Z
UID:10021061-1763233200-1763244000@www.wlcnonline.com
SUMMARY:PrimeTime Country Opry Show featuring Steve Hargis at Olympia High School in rural Stanford
DESCRIPTION:Enjoy the country music and comedy of the PrimeTime Country Opry in its final performance for the year and featuring special guest Steve Hargis. Show begins at 7 PM with doors opening at 6 PM. The main doors of the high school should be used for entry into the school. \nConcessions will be available for purchase. \nEvent codes ccent cclm
URL:https://www.wlcnonline.com/event/primetime-country-opry-show-featuring-steve-hargis-at-olympia-high-school-in-rural-stanford/
LOCATION:Olympia High School in rural Stanford\, 7832 North 100 East Road\, Stanford\, IL\, 61774\, United States
END:VEVENT
BEGIN:VEVENT
DTSTART;TZID=America/Chicago:20251115T193000
DTEND;TZID=America/Chicago:20251115T213000
DTSTAMP:20260420T232942
CREATED:20251113T205802Z
LAST-MODIFIED:20251113T205802Z
UID:10021069-1763235000-1763242200@www.wlcnonline.com
SUMMARY:Music trivia night at Down the Street in Mason City
DESCRIPTION:Proceeds from this music trivia event will benefit the Angel Tree. Teams of up to 6 persons can play; cost is $20 per person. Contact Down the Street to reserve a spot for your team. \nEvent codes ccfdd ccgc ccfb cctriv
URL:https://www.wlcnonline.com/event/music-trivia-night-at-down-the-street-in-mason-city/
LOCATION:Down the Street in Mason City\, 122 N Tonica Street\, Mason City\, 62664\, United States
END:VEVENT
BEGIN:VEVENT
DTSTART;TZID=America/Chicago:20251115T200000
DTEND;TZID=America/Chicago:20251115T213000
DTSTAMP:20260420T232942
CREATED:20251106T214922Z
LAST-MODIFIED:20251106T214945Z
UID:10021056-1763236800-1763242200@www.wlcnonline.com
SUMMARY:Headline comedy performance by Mandee McKelvey at Mason City Limits Comedy Club in Mason City
DESCRIPTION:Mandee McKelvey was recently named one of the 50 best undiscovered comics in the country by Thrillist.  She is revered for her ability to spin tragedy into comedy\, from growing up poor in South Carolina to becoming a widow in her 20s. She was named a breakout performer at Limestone Comedy Festival and the Memphis Comedy Festival. \nTickets are general admission and cost $22.50; click here to purchase tickets online. \nEvent codes: ccent\, cclc
URL:https://www.wlcnonline.com/event/headline-comedy-performance-by-mandee-mckelvey-at-mason-city-limits-comedy-club-in-mason-city/2025-11-15/
LOCATION:Mason City Limits Comedy Club\, 114 E. Chestnut Street\, Mason City\, IL\, 62664\, United States
ORGANIZER;CN="Mason City Limits Comedy Club":MAILTO:mclimits@hotmail.com
END:VEVENT
BEGIN:VEVENT
DTSTART;TZID=America/Chicago:20251116T090000
DTEND;TZID=America/Chicago:20251116T100000
DTSTAMP:20260420T232942
CREATED:20250227T214918Z
LAST-MODIFIED:20251231T162155Z
UID:10019165-1763283600-1763287200@www.wlcnonline.com
SUMMARY:Alcoholics Anonymous meetings by Land of Lincoln Recovery Group at Hope on 5th in Lincoln
DESCRIPTION:Meetings are free to attend and take place at 6 PM on Tuesdays\, Wednesdays\, Fridays and Saturdays as well as at 9 AM on Saturdays and Sundays. \nEvent codes
URL:https://www.wlcnonline.com/event/alcoholics-anonymous-meetings-by-land-of-lincoln-recovery-group-at-hope-on-5th-in-lincoln-2/2025-11-16/
LOCATION:Hope on 5th in Lincoln\, 200 5th Street\, Lincoln\, 62656\, United States
ORGANIZER;CN="Logan Mason Recovery Oriented Systems of Care (ROSC)":MAILTO:jedavis@chestnut.org
END:VEVENT
BEGIN:VEVENT
DTSTART;TZID=America/Chicago:20251116T130000
DTEND;TZID=America/Chicago:20251116T153000
DTSTAMP:20260420T232942
CREATED:20251106T221831Z
LAST-MODIFIED:20251113T214319Z
UID:10021064-1763298000-1763307000@www.wlcnonline.com
SUMMARY:Paint event ("Gingerbread house") by Joyful Painting at Spirited Republic in Lincoln
DESCRIPTION:Due to this 11/16 event being full\, a second session was added Sunday 11/30 from 1 PM to 3:30 PM.click here for information and information about signing up for that event. \nCanvases will be pre-sketched and available with a gingerbread house design; participants can choose their own colors. \nCost is $35 per person. To register\, send a direct message through the Joyful Painting Facebook page or send a text to (217) 871-9100. \nEvent codes ccfb ccsoc ccpai
URL:https://www.wlcnonline.com/event/paint-event-gingerbread-house-by-joyful-painting-at-spirited-republic-in-lincoln/
LOCATION:Spirited Republic in Lincoln\, 509 Pulaski Street\, Lincoln\, IL\, 62656\, United States
END:VEVENT
BEGIN:VEVENT
DTSTART;TZID=America/Chicago:20251116T130000
DTEND;TZID=America/Chicago:20251116T170000
DTSTAMP:20260420T232942
CREATED:20251106T215731Z
LAST-MODIFIED:20251106T215731Z
UID:10021058-1763298000-1763312400@www.wlcnonline.com
SUMMARY:Quarter auction by San Jose Quarter Frenzy raising funds for the San Jose Fire & Rescue "Breakfast with Santa" event at San Jose United Methodist Church﻿
DESCRIPTION:Each vendor will have 4 items (one is a donation item) to be placed in the frenzy. Each item will be raffled off one at a time. A listing of all items up for bid for the afternoon will be provided and will include the number of quarters necessary to try to win. \nThose arriving will purchase a paddle(s) that will have numbers on them. The paddles are $1 each and individuals may purchase as many as they like. \nAll proceeds from the paddle sales\, donation item quarters and vendor fees go to a different charity/cause each month! This month\, proceeds will benefit the San Jose Fire & Rescue’s Breakfast with Santa. This long-running annual free breakfast has been hosted by the San Jose Fire & Rescue for many years to allow families skip the long lines to see Santa\, take pictures and drop off Christmas lists. \nDoors open at noon; attendees can buy lunch and chat with vendors. The frenzy event starts at 1 PM. \nProceeds from lunch go to Team Matthew. \nEvent codes ccfb ccfdd
URL:https://www.wlcnonline.com/event/quarter-auction-by-san-jose-quarter-frenzy-raising-funds-for-the-san-jose-fire-rescue-breakfast-with-santa-event-at-san-jose-united-methodist-church/
LOCATION:San Jose United Methodist Church\, 600 S. First Street\, San Jose\, IL\, 62682\, United States
ORGANIZER;CN="Nancy Martin/San Jose Quarter Frenzy":MAILTO:nmartin23@gmail.com
END:VEVENT
BEGIN:VEVENT
DTSTART;TZID=America/Chicago:20251116T140000
DTEND;TZID=America/Chicago:20251116T160000
DTSTAMP:20260420T232942
CREATED:20240607T073345Z
LAST-MODIFIED:20251231T163021Z
UID:10020363-1763301600-1763308800@www.wlcnonline.com
SUMMARY:Xtreme Bar Bingo at The Next Stop Saloon in Mt. Pulaski
DESCRIPTION:Games take place every Sunday from 2 PM to 4 PM. \nEvent codes ccfb ccbin
URL:https://www.wlcnonline.com/event/xtreme-bar-bingo-at-the-next-stop-saloon-in-mt-pulaski/2025-11-16/
LOCATION:The Next Stop Saloon in Mt. Pulaski\, 100 E. Cooke Street\, Mt. Pulaski\, IL\, 62548\, United States
END:VEVENT
END:VCALENDAR