BEGIN:VCALENDAR
VERSION:2.0
PRODID:-//WLCN 96.3 FM - ECPv6.15.20//NONSGML v1.0//EN
CALSCALE:GREGORIAN
METHOD:PUBLISH
X-WR-CALNAME:WLCN 96.3 FM
X-ORIGINAL-URL:https://www.wlcnonline.com
X-WR-CALDESC:Events for WLCN 96.3 FM
REFRESH-INTERVAL;VALUE=DURATION:PT1H
X-Robots-Tag:noindex
X-PUBLISHED-TTL:PT1H
BEGIN:VTIMEZONE
TZID:America/Chicago
BEGIN:DAYLIGHT
TZOFFSETFROM:-0600
TZOFFSETTO:-0500
TZNAME:CDT
DTSTART:20240310T080000
END:DAYLIGHT
BEGIN:STANDARD
TZOFFSETFROM:-0500
TZOFFSETTO:-0600
TZNAME:CST
DTSTART:20241103T070000
END:STANDARD
BEGIN:DAYLIGHT
TZOFFSETFROM:-0600
TZOFFSETTO:-0500
TZNAME:CDT
DTSTART:20250309T080000
END:DAYLIGHT
BEGIN:STANDARD
TZOFFSETFROM:-0500
TZOFFSETTO:-0600
TZNAME:CST
DTSTART:20251102T070000
END:STANDARD
BEGIN:DAYLIGHT
TZOFFSETFROM:-0600
TZOFFSETTO:-0500
TZNAME:CDT
DTSTART:20260308T080000
END:DAYLIGHT
BEGIN:STANDARD
TZOFFSETFROM:-0500
TZOFFSETTO:-0600
TZNAME:CST
DTSTART:20261101T070000
END:STANDARD
END:VTIMEZONE
BEGIN:VEVENT
DTSTART;TZID=America/Chicago:20251031T110000
DTEND;TZID=America/Chicago:20251031T120000
DTSTAMP:20260421T005416
CREATED:20250227T220937Z
LAST-MODIFIED:20251231T160939Z
UID:10019451-1761908400-1761912000@www.wlcnonline.com
SUMMARY:Alcoholics Anonymous meetings at Trinity Episcopal Church in Lincoln
DESCRIPTION:Meetings are free to attend and take place at the following times: \n\nMondays at 7 PM\nWednesdays at 6 PM\nFridays at 11 AM\nSundays at 6 PM\n\nEvent codes
URL:https://www.wlcnonline.com/event/alcoholics-anonymous-meetings-at-trinity-episcopal-church-in-lincoln-3/2025-10-31/
LOCATION:Trinity Episcopal Church in Lincoln\, 402 Pekin Street\, Lincoln\, 62656\, United States
ORGANIZER;CN="Logan Mason Recovery Oriented Systems of Care (ROSC)":MAILTO:jedavis@chestnut.org
END:VEVENT
BEGIN:VEVENT
DTSTART;TZID=America/Chicago:20251031T120000
DTEND;TZID=America/Chicago:20251031T133000
DTSTAMP:20260421T005416
CREATED:20250227T221857Z
LAST-MODIFIED:20251231T161051Z
UID:10019626-1761912000-1761917400@www.wlcnonline.com
SUMMARY:SMART (Self-Management and Recovery Training) recovery meetings at Hope on 5th in Lincoln
DESCRIPTION:Meetings are free to attend and take place Fridays from noon to 1:30 PM. \nEvent codes
URL:https://www.wlcnonline.com/event/smart-self-management-and-recovery-training-recovery-meetings-at-hope-on-5th-in-lincoln/2025-10-31/
LOCATION:Hope on 5th in Lincoln\, 200 5th Street\, Lincoln\, 62656\, United States
ORGANIZER;CN="Logan Mason Recovery Oriented Systems of Care (ROSC)":MAILTO:jedavis@chestnut.org
END:VEVENT
BEGIN:VEVENT
DTSTART;TZID=America/Chicago:20251031T120000
DTEND;TZID=America/Chicago:20251031T150000
DTSTAMP:20260421T005416
CREATED:20251030T154433Z
LAST-MODIFIED:20251030T154433Z
UID:10021036-1761912000-1761922800@www.wlcnonline.com
SUMMARY:Community blood drive at Hopedale Medical Complex
DESCRIPTION:Click here to register online.. \nEvent code ccbld
URL:https://www.wlcnonline.com/event/community-blood-drive-at-hopedale-medical-complex-3/
LOCATION:Hopedale Medical Complex\, 107 Tremont Street\, Hopedale\, IL\, 61747\, United States
END:VEVENT
BEGIN:VEVENT
DTSTART;TZID=America/Chicago:20251031T160000
DTEND;TZID=America/Chicago:20251031T180000
DTSTAMP:20260421T005416
CREATED:20241024T031706Z
LAST-MODIFIED:20251023T191217Z
UID:10020971-1761926400-1761933600@www.wlcnonline.com
SUMMARY:Trick or treat night at St. Clara's Senior Care in Lincoln
DESCRIPTION:The event runs from 4 PM to 6 PM; brighten the day for the residents by visiting to let them see your costumes and hand out treats. \nEvent codes ccff ccfk ccfre ccfb cchall
URL:https://www.wlcnonline.com/event/trick-or-treat-night-at-st-claras-senior-care-in-lincoln/2025-10-31/
LOCATION:St. Clara’s Senior Care in Lincoln\, 1450 Castle Manor Drive\, Lincoln\, 62656\, United States
END:VEVENT
BEGIN:VEVENT
DTSTART;TZID=America/Chicago:20251031T170000
DTEND;TZID=America/Chicago:20251031T200000
DTSTAMP:20260421T005416
CREATED:20251017T035058Z
LAST-MODIFIED:20251017T035058Z
UID:10020959-1761930000-1761940800@www.wlcnonline.com
SUMMARY:2025 City of Lincoln trick or treating hours
DESCRIPTION:Trick or treating around the city of Lincoln will take place on October 31 from 5 PM to 8 PM. \nEvent codes ccff ccfk cchall ccsoc
URL:https://www.wlcnonline.com/event/2025-city-of-lincoln-trick-or-treating-hours/
LOCATION:City of Lincoln\, Lincoln\, IL\, 62656\, United States
END:VEVENT
BEGIN:VEVENT
DTSTART;TZID=America/Chicago:20251031T170000
DTEND;TZID=America/Chicago:20251031T200000
DTSTAMP:20260421T005416
CREATED:20251023T215227Z
LAST-MODIFIED:20251023T215227Z
UID:10020997-1761930000-1761940800@www.wlcnonline.com
SUMMARY:Trick or treat at the Mt. Hope-Funk Grove Fire Protection District in McLean
DESCRIPTION:There will be hot dogs\, mini donuts\, coffee\, hot chocolate\, candy\, and cookies while supplies last. \nEvent codes ccff ccfk ccfb cchall
URL:https://www.wlcnonline.com/event/trick-or-treat-at-the-mt-hope-funk-grove-fire-protection-district-in-mclean/
LOCATION:Mt. Hope-Funks Grove Fire Protection District in McLean\, 209 South Hamilton Street\, McLean\, IL\, 61754\, United States
END:VEVENT
BEGIN:VEVENT
DTSTART;TZID=America/Chicago:20251031T180000
DTEND;TZID=America/Chicago:20251031T190000
DTSTAMP:20260421T005416
CREATED:20250227T214713Z
LAST-MODIFIED:20251231T161900Z
UID:10019054-1761933600-1761937200@www.wlcnonline.com
SUMMARY:Alcoholics Anonymous meetings by Land of Lincoln Recovery Group at Hope on 5th in Lincoln
DESCRIPTION:Meetings are free to attend and take place at 6 PM on Tuesdays\, Wednesdays\, Fridays and Saturdays as well as at 9 AM on Saturdays and Sundays. \nEvent codes
URL:https://www.wlcnonline.com/event/alcoholics-anonymous-meetings-by-land-of-lincoln-recovery-group-at-hope-on-5th-in-lincoln/2025-10-31/
LOCATION:Hope on 5th in Lincoln\, 200 5th Street\, Lincoln\, 62656\, United States
ORGANIZER;CN="Logan Mason Recovery Oriented Systems of Care (ROSC)":MAILTO:jedavis@chestnut.org
END:VEVENT
BEGIN:VEVENT
DTSTART;TZID=America/Chicago:20251031T180000
DTEND;TZID=America/Chicago:20251031T200000
DTSTAMP:20260421T005416
CREATED:20251023T200027Z
LAST-MODIFIED:20251023T200027Z
UID:10020977-1761933600-1761940800@www.wlcnonline.com
SUMMARY:Family fall fest at Williamsville Christian Church
DESCRIPTION:The event will feature free food\, games\, candy and drawing for other prizes throughout the night. \nEvent codes ccfb ccsoc ccfk ccrel ccgc
URL:https://www.wlcnonline.com/event/family-fall-fest-at-williamsville-christian-church/
LOCATION:Williamsville Christian Church in Williamsville\, 201 S Old Route 66\, Williamsville\, 62693\, United States
ORGANIZER;CN="Williamsville Christian Church":MAILTO:wcchurch@casscomm.com
END:VEVENT
BEGIN:VEVENT
DTSTART;TZID=America/Chicago:20251031T190000
DTEND;TZID=America/Chicago:20251031T230000
DTSTAMP:20260421T005416
CREATED:20251029T221220Z
LAST-MODIFIED:20251029T221220Z
UID:10021020-1761937200-1761951600@www.wlcnonline.com
SUMMARY:Live music by the band Allnighter at Clinton Eagles #593 Lodge in Clinton
DESCRIPTION:The evening will include a costume contest\, drink specials and music from the band Allnighter\, a Champaign-Urbana based group with a wide-ranging catalog of music that includes country\, pop\, soul\, prog\, ’90s alternative\,  classic rock and a bit of metal.   \nEvent codes ccfb ccent cclm ccsoc
URL:https://www.wlcnonline.com/event/live-music-by-the-band-allnighter-at-clinton-eagles-593-lodge-in-clinton/
LOCATION:Eagles Lodge in Clinton\, 220 N Center Street\, Clinton\, IL\, 61727\, United States
END:VEVENT
BEGIN:VEVENT
DTSTART;TZID=America/Chicago:20251031T190000
DTEND;TZID=America/Chicago:20251031T230000
DTSTAMP:20260421T005416
CREATED:20251030T140803Z
LAST-MODIFIED:20251030T140803Z
UID:10021023-1761937200-1761951600@www.wlcnonline.com
SUMMARY:Halloween party at Two Doors Down in Clinton
DESCRIPTION:The annual Two Doors Down Halloween party will feature prizes for first\, second and third place in the costume contest as well as its usual offering of Illinois brews\, domestic bottles\, specialty drinks and more. \nEvent codes cchall ccfb ccsoc ccfa21
URL:https://www.wlcnonline.com/event/halloween-party-at-two-doors-down-in-clinton/
LOCATION:Two Doors Down in Clinton\, 112 Warner Court\, Clinton\, 61727\, United States
END:VEVENT
BEGIN:VEVENT
DTSTART;TZID=America/Chicago:20251031T200000
DTEND;TZID=America/Chicago:20251101T000000
DTSTAMP:20260421T005416
CREATED:20251023T191809Z
LAST-MODIFIED:20251023T191809Z
UID:10020972-1761940800-1761955200@www.wlcnonline.com
SUMMARY:Halloween extravaganza with live music 10/31 and a DJ 11/1 at the Rusty Rail Pub in Lincoln
DESCRIPTION:This event is so large it takes place over two nights! On Friday 10/31\, enjoy music from the Ozzy Osborne tribute band Killer of Giants from 8 PM to midnight. On Saturday 11/1\, stop by and listen as DJ Dylan spins tunes from 9 PM to 1 AM. \nEvent codes cchall ccsoc ccfb ccent cclm ccdj
URL:https://www.wlcnonline.com/event/halloween-extravaganza-with-live-music-10-31-and-a-dj-11-1-at-the-rusty-rail-pub-in-lincoln/2025-10-31/
LOCATION:The Rusty Rail Pub in Lincoln\, 405 Pulaski Street\, Lincoln\, IL\, 62656\, United States
END:VEVENT
BEGIN:VEVENT
DTSTART;TZID=America/Chicago:20251101T080000
DTEND;TZID=America/Chicago:20251101T170000
DTSTAMP:20260421T005416
CREATED:20251023T221915Z
LAST-MODIFIED:20251023T222054Z
UID:10021001-1761984000-1762016400@www.wlcnonline.com
SUMMARY:Donations for "Nourish Together" to benefit Logan County residents at sites around Lincoln
DESCRIPTION:Donations will be collected from November 1 through November 8 for this project to benefit Logan County residents. Hours of operation for dropping off items will vary between locations; see image posted here for locations. \nIn addition\, there will be four special events to highlight and support this cause; see image posted here for additional information. \nEvent codes ccfdd
URL:https://www.wlcnonline.com/event/donations-for-nourish-together-to-benefit-logan-county-residents-at-sites-around-lincoln/2025-11-01/
LOCATION:Top Hat Creamery in Lincoln\, 513 Pulaski Street\, Lincoln\, IL\, 62656\, United States
ORGANIZER;CN="First Presbyterian Church of Lincoln":MAILTO:office@preslincoln.org
END:VEVENT
BEGIN:VEVENT
DTSTART;TZID=America/Chicago:20251101T090000
DTEND;TZID=America/Chicago:20251101T100000
DTSTAMP:20260421T005416
CREATED:20250227T214918Z
LAST-MODIFIED:20251231T162155Z
UID:10019160-1761987600-1761991200@www.wlcnonline.com
SUMMARY:Alcoholics Anonymous meetings by Land of Lincoln Recovery Group at Hope on 5th in Lincoln
DESCRIPTION:Meetings are free to attend and take place at 6 PM on Tuesdays\, Wednesdays\, Fridays and Saturdays as well as at 9 AM on Saturdays and Sundays. \nEvent codes
URL:https://www.wlcnonline.com/event/alcoholics-anonymous-meetings-by-land-of-lincoln-recovery-group-at-hope-on-5th-in-lincoln-2/2025-11-01/
LOCATION:Hope on 5th in Lincoln\, 200 5th Street\, Lincoln\, 62656\, United States
ORGANIZER;CN="Logan Mason Recovery Oriented Systems of Care (ROSC)":MAILTO:jedavis@chestnut.org
END:VEVENT
BEGIN:VEVENT
DTSTART;TZID=America/Chicago:20251101T093000
DTEND;TZID=America/Chicago:20251101T110000
DTSTAMP:20260421T005416
CREATED:20251023T192649Z
LAST-MODIFIED:20251023T192649Z
UID:10020974-1761989400-1761994800@www.wlcnonline.com
SUMMARY:"Staying Healthy Through the Holidays" presentation at Lincoln Park District in Lincoln
DESCRIPTION:This event will focus on simple strategies to stay healthy this holiday season as attendees learn how to enjoy everything the holidays bring while keeping balance in mind. \nThe event is free for the community; you do not have to be a member of the park district to attend. \nParticipants can register to win a free personal training session; the first 15 attending will receive a free gift. \nEvent codes ccfre cchwf ccedu
URL:https://www.wlcnonline.com/event/staying-healthy-through-the-holidays-presentation-at-lincoln-park-district-in-lincoln/
LOCATION:Lincoln Park District\, 1400 Primm Road\, Lincoln\, IL\, 62656\, United States
ORGANIZER;CN="Lincoln Park District":MAILTO:info@lincolnparkdistrict.com
END:VEVENT
BEGIN:VEVENT
DTSTART;TZID=America/Chicago:20251101T110000
DTEND;TZID=America/Chicago:20251101T160000
DTSTAMP:20260421T005416
CREATED:20251023T210404Z
LAST-MODIFIED:20251023T210404Z
UID:10020993-1761994800-1762012800@www.wlcnonline.com
SUMMARY:Mackinaw Vineyard Holiday Cheer & Homemade Market at Mackinaw Valley Winery & Vineyard
DESCRIPTION:The Mackinaw Vineyard Holiday Cheer & Homemade Market is the place where attendees can get some early shopping done and catch that holiday spirit \nThere will be booths in The Pavilion as well as the outdoor covered patio areas and pop up tents in the yard areas. Vendors will be showing and selling holiday decorations\, vintage items\, handmade items\, clothing\, jewelry\, artwork\, and other wares \nThere will be food for sale in the tasting room by Ropp Jersey cheese\, Flesor’s Candy Kitchen Confection Chocolates\, Sweet Shop Truffles\, and Donny B’s gourmet popcorn. Coffee\, cocoa and hot cider drinks will be available as well as wine\, beer and soft drinks in the tasting room area. Concessions will also be available from Tony’s on Wheels by Haddad’s Lebanese Restaurant. \nThe event runs both Saturday and Sunday from 11 AM to 4 PM. The tasting room will be iopen from 11 AM to 5 PM both days. There will be live music from noon to 4 PM both days. \nFor booth space\, email Diane Hahn at MackinawWinery03@gmail.com or call (309) 645-5054. \nEvent codes ccvs cclbep ccfb
URL:https://www.wlcnonline.com/event/mackinaw-vineyard-holiday-cheer-homemade-market-at-mackinaw-valley-winery-vineyard/2025-11-01/
LOCATION:Mackinaw Valley Vineyard and Winery\, 33633 State Route 9\, Mackinaw\, IL\, 61755\, United States
ORGANIZER;CN="Mackinaw Valley Vineyard and Winery":MAILTO:mackinawwinery03@gmail.com
END:VEVENT
BEGIN:VEVENT
DTSTART;TZID=America/Chicago:20251101T120000
DTEND;TZID=America/Chicago:20251101T130000
DTSTAMP:20260421T005416
CREATED:20251023T205432Z
LAST-MODIFIED:20251023T205432Z
UID:10020978-1761998400-1762002000@www.wlcnonline.com
SUMMARY:2025 Logan County pumpkin smash & splash event at parks around Lincoln
DESCRIPTION:Join the Logan County Parks Coalition for a fun way to recycle your pumpkins and help the environment. Pumpkins can be dropped off between November 1 and November 14 from noon to 1 PM at Kickapoo Creek Park\, Madigan State Park\, the David W. Schroder Memorial Community Garden or the Lincoln Park District. Then on November 15\, pumpkins will be smashed from 9 AM to noon at the Schroder Memorial Garden\, and they’ll be “splashed” from 11 AM to 1 PM at Kickapoo Creek Park. \nEvent codes cchwf ccfre cchall
URL:https://www.wlcnonline.com/event/2025-logan-county-pumpkin-smash-splash-event-at-parks-around-lincoln/2025-11-01/
LOCATION:Kickapoo Creek Park in Lincoln\, 2000 Jefferson Street\, Lincoln\, IL\, 62656\, United States
END:VEVENT
BEGIN:VEVENT
DTSTART;TZID=America/Chicago:20251101T120000
DTEND;TZID=America/Chicago:20251101T230000
DTSTAMP:20260421T005416
CREATED:20251023T194910Z
LAST-MODIFIED:20251023T194910Z
UID:10020976-1761998400-1762038000@www.wlcnonline.com
SUMMARY:"Rockvember" event featuring live music by Green Diamond Express (6PM) at Copper & Oak Bourbon and Craft Beer Bar in Lincoln
DESCRIPTION:Kick off November with live music\, creative cocktails\, and sweet vibes as Copper & Oak teams up with We Three Sweets to offer special fall drinks and treats starting at noon. There will be exclusive collab specialty cocktail creations by Copper & Oak and We Three Sweets\, live music through the afternoon and featuring Green Diamond Express from 6 PM to 10 PM\, full menu until 8 PM. \nEvent codes ccent cclm ccfb ccsoc
URL:https://www.wlcnonline.com/event/rockvember-event-featuring-live-music-by-green-diamond-express-6pm-at-copper-oak-bourbon-and-craft-beer-bar-in-lincoln/
LOCATION:Copper & Oak in Lincoln\, 227 N. Kickapoo Street\, Lincoln\, IL\, 62656\, United States
END:VEVENT
BEGIN:VEVENT
DTSTART;TZID=America/Chicago:20251101T140000
DTEND;TZID=America/Chicago:20251101T160000
DTSTAMP:20260421T005416
CREATED:20251023T193953Z
LAST-MODIFIED:20251023T193953Z
UID:10020975-1762005600-1762012800@www.wlcnonline.com
SUMMARY:Sip & paint event at Village Pub in New Holland
DESCRIPTION:Those interested in participating should contact the Village Pub to reserve a spot and to guarantee supplies will be available for everyone. Cost is $30 and covers the cost of supplies as well as one complimentary drink. \nEvent codes ccsoc ccfb ccpai ccaca
URL:https://www.wlcnonline.com/event/sip-paint-event-at-village-pub-in-new-holland/
LOCATION:Village Pub in New Holland\, 102 W. Lincoln Street\, New Holland\, IL\, 62671\, United States
ORGANIZER;CN="Village Pub in New Holland":MAILTO:styleslynn83@gmail.com
END:VEVENT
BEGIN:VEVENT
DTSTART;TZID=America/Chicago:20251101T180000
DTEND;TZID=America/Chicago:20251101T190000
DTSTAMP:20260421T005416
CREATED:20250227T214713Z
LAST-MODIFIED:20251231T161900Z
UID:10019055-1762020000-1762023600@www.wlcnonline.com
SUMMARY:Alcoholics Anonymous meetings by Land of Lincoln Recovery Group at Hope on 5th in Lincoln
DESCRIPTION:Meetings are free to attend and take place at 6 PM on Tuesdays\, Wednesdays\, Fridays and Saturdays as well as at 9 AM on Saturdays and Sundays. \nEvent codes
URL:https://www.wlcnonline.com/event/alcoholics-anonymous-meetings-by-land-of-lincoln-recovery-group-at-hope-on-5th-in-lincoln/2025-11-01/
LOCATION:Hope on 5th in Lincoln\, 200 5th Street\, Lincoln\, 62656\, United States
ORGANIZER;CN="Logan Mason Recovery Oriented Systems of Care (ROSC)":MAILTO:jedavis@chestnut.org
END:VEVENT
BEGIN:VEVENT
DTSTART;TZID=America/Chicago:20251101T210000
DTEND;TZID=America/Chicago:20251102T010000
DTSTAMP:20260421T005416
CREATED:20251023T191809Z
LAST-MODIFIED:20251023T191809Z
UID:10020973-1762030800-1762045200@www.wlcnonline.com
SUMMARY:Halloween extravaganza with live music 10/31 and a DJ 11/1 at the Rusty Rail Pub in Lincoln
DESCRIPTION:This event is so large it takes place over two nights! On Friday 10/31\, enjoy music from the Ozzy Osborne tribute band Killer of Giants from 8 PM to midnight. On Saturday 11/1\, stop by and listen as DJ Dylan spins tunes from 9 PM to 1 AM. \nEvent codes cchall ccsoc ccfb ccent cclm ccdj
URL:https://www.wlcnonline.com/event/halloween-extravaganza-with-live-music-10-31-and-a-dj-11-1-at-the-rusty-rail-pub-in-lincoln/2025-11-01/
LOCATION:The Rusty Rail Pub in Lincoln\, 405 Pulaski Street\, Lincoln\, IL\, 62656\, United States
END:VEVENT
BEGIN:VEVENT
DTSTART;TZID=America/Chicago:20251102T080000
DTEND;TZID=America/Chicago:20251102T170000
DTSTAMP:20260421T005416
CREATED:20251023T221915Z
LAST-MODIFIED:20251023T222054Z
UID:10021002-1762070400-1762102800@www.wlcnonline.com
SUMMARY:Donations for "Nourish Together" to benefit Logan County residents at sites around Lincoln
DESCRIPTION:Donations will be collected from November 1 through November 8 for this project to benefit Logan County residents. Hours of operation for dropping off items will vary between locations; see image posted here for locations. \nIn addition\, there will be four special events to highlight and support this cause; see image posted here for additional information. \nEvent codes ccfdd
URL:https://www.wlcnonline.com/event/donations-for-nourish-together-to-benefit-logan-county-residents-at-sites-around-lincoln/2025-11-02/
LOCATION:Top Hat Creamery in Lincoln\, 513 Pulaski Street\, Lincoln\, IL\, 62656\, United States
ORGANIZER;CN="First Presbyterian Church of Lincoln":MAILTO:office@preslincoln.org
END:VEVENT
BEGIN:VEVENT
DTSTART;TZID=America/Chicago:20251102T090000
DTEND;TZID=America/Chicago:20251102T100000
DTSTAMP:20260421T005416
CREATED:20250227T214918Z
LAST-MODIFIED:20251231T162155Z
UID:10019161-1762074000-1762077600@www.wlcnonline.com
SUMMARY:Alcoholics Anonymous meetings by Land of Lincoln Recovery Group at Hope on 5th in Lincoln
DESCRIPTION:Meetings are free to attend and take place at 6 PM on Tuesdays\, Wednesdays\, Fridays and Saturdays as well as at 9 AM on Saturdays and Sundays. \nEvent codes
URL:https://www.wlcnonline.com/event/alcoholics-anonymous-meetings-by-land-of-lincoln-recovery-group-at-hope-on-5th-in-lincoln-2/2025-11-02/
LOCATION:Hope on 5th in Lincoln\, 200 5th Street\, Lincoln\, 62656\, United States
ORGANIZER;CN="Logan Mason Recovery Oriented Systems of Care (ROSC)":MAILTO:jedavis@chestnut.org
END:VEVENT
BEGIN:VEVENT
DTSTART;TZID=America/Chicago:20251102T110000
DTEND;TZID=America/Chicago:20251102T160000
DTSTAMP:20260421T005416
CREATED:20251023T210404Z
LAST-MODIFIED:20251023T210404Z
UID:10020994-1762081200-1762099200@www.wlcnonline.com
SUMMARY:Mackinaw Vineyard Holiday Cheer & Homemade Market at Mackinaw Valley Winery & Vineyard
DESCRIPTION:The Mackinaw Vineyard Holiday Cheer & Homemade Market is the place where attendees can get some early shopping done and catch that holiday spirit \nThere will be booths in The Pavilion as well as the outdoor covered patio areas and pop up tents in the yard areas. Vendors will be showing and selling holiday decorations\, vintage items\, handmade items\, clothing\, jewelry\, artwork\, and other wares \nThere will be food for sale in the tasting room by Ropp Jersey cheese\, Flesor’s Candy Kitchen Confection Chocolates\, Sweet Shop Truffles\, and Donny B’s gourmet popcorn. Coffee\, cocoa and hot cider drinks will be available as well as wine\, beer and soft drinks in the tasting room area. Concessions will also be available from Tony’s on Wheels by Haddad’s Lebanese Restaurant. \nThe event runs both Saturday and Sunday from 11 AM to 4 PM. The tasting room will be iopen from 11 AM to 5 PM both days. There will be live music from noon to 4 PM both days. \nFor booth space\, email Diane Hahn at MackinawWinery03@gmail.com or call (309) 645-5054. \nEvent codes ccvs cclbep ccfb
URL:https://www.wlcnonline.com/event/mackinaw-vineyard-holiday-cheer-homemade-market-at-mackinaw-valley-winery-vineyard/2025-11-02/
LOCATION:Mackinaw Valley Vineyard and Winery\, 33633 State Route 9\, Mackinaw\, IL\, 61755\, United States
ORGANIZER;CN="Mackinaw Valley Vineyard and Winery":MAILTO:mackinawwinery03@gmail.com
END:VEVENT
BEGIN:VEVENT
DTSTART;TZID=America/Chicago:20251102T120000
DTEND;TZID=America/Chicago:20251102T130000
DTSTAMP:20260421T005416
CREATED:20251023T205432Z
LAST-MODIFIED:20251023T205432Z
UID:10020979-1762084800-1762088400@www.wlcnonline.com
SUMMARY:2025 Logan County pumpkin smash & splash event at parks around Lincoln
DESCRIPTION:Join the Logan County Parks Coalition for a fun way to recycle your pumpkins and help the environment. Pumpkins can be dropped off between November 1 and November 14 from noon to 1 PM at Kickapoo Creek Park\, Madigan State Park\, the David W. Schroder Memorial Community Garden or the Lincoln Park District. Then on November 15\, pumpkins will be smashed from 9 AM to noon at the Schroder Memorial Garden\, and they’ll be “splashed” from 11 AM to 1 PM at Kickapoo Creek Park. \nEvent codes cchwf ccfre cchall
URL:https://www.wlcnonline.com/event/2025-logan-county-pumpkin-smash-splash-event-at-parks-around-lincoln/2025-11-02/
LOCATION:Kickapoo Creek Park in Lincoln\, 2000 Jefferson Street\, Lincoln\, IL\, 62656\, United States
END:VEVENT
BEGIN:VEVENT
DTSTART;TZID=America/Chicago:20251102T140000
DTEND;TZID=America/Chicago:20251102T160000
DTSTAMP:20260421T005416
CREATED:20240607T073345Z
LAST-MODIFIED:20251231T163021Z
UID:10020361-1762092000-1762099200@www.wlcnonline.com
SUMMARY:Xtreme Bar Bingo at The Next Stop Saloon in Mt. Pulaski
DESCRIPTION:Games take place every Sunday from 2 PM to 4 PM. \nEvent codes ccfb ccbin
URL:https://www.wlcnonline.com/event/xtreme-bar-bingo-at-the-next-stop-saloon-in-mt-pulaski/2025-11-02/
LOCATION:The Next Stop Saloon in Mt. Pulaski\, 100 E. Cooke Street\, Mt. Pulaski\, IL\, 62548\, United States
END:VEVENT
BEGIN:VEVENT
DTSTART;TZID=America/Chicago:20251102T170000
DTEND;TZID=America/Chicago:20251102T180000
DTSTAMP:20260421T005416
CREATED:20250227T215139Z
LAST-MODIFIED:20251231T162319Z
UID:10019670-1762102800-1762106400@www.wlcnonline.com
SUMMARY:Narcotics Anonymous meetings by Land of Lincoln Recovery Group at Hope on 5th in Lincoln
DESCRIPTION:Meetings are free to attend and take place at 6 PM Thursdays as well as at 5 PM on Sundays. \nEvent codes
URL:https://www.wlcnonline.com/event/narcotics-anonymous-meetings-by-land-of-lincoln-recovery-group-at-hope-on-5th-in-lincoln/2025-11-02/
LOCATION:Hope on 5th in Lincoln\, 200 5th Street\, Lincoln\, 62656\, United States
ORGANIZER;CN="Logan Mason Recovery Oriented Systems of Care (ROSC)":MAILTO:jedavis@chestnut.org
END:VEVENT
BEGIN:VEVENT
DTSTART;TZID=America/Chicago:20251102T180000
DTEND;TZID=America/Chicago:20251102T190000
DTSTAMP:20260421T005417
CREATED:20250227T221038Z
LAST-MODIFIED:20251231T162443Z
UID:10019495-1762106400-1762110000@www.wlcnonline.com
SUMMARY:Alcoholics Anonymous meetings at Trinity Episcopal Church in Lincoln
DESCRIPTION:Meetings are free to attend and take place at the following times: \n\nMondays at 7 PM\nWednesdays at 6 PM\nFridays at 11 AM\nSundays at 6 PM\n\nEvent codes
URL:https://www.wlcnonline.com/event/alcoholics-anonymous-meetings-at-trinity-episcopal-church-in-lincoln-4/2025-11-02/
LOCATION:Trinity Episcopal Church in Lincoln\, 402 Pekin Street\, Lincoln\, 62656\, United States
ORGANIZER;CN="Logan Mason Recovery Oriented Systems of Care (ROSC)":MAILTO:jedavis@chestnut.org
END:VEVENT
BEGIN:VEVENT
DTSTART;TZID=America/Chicago:20251103T080000
DTEND;TZID=America/Chicago:20251103T170000
DTSTAMP:20260421T005417
CREATED:20251023T221915Z
LAST-MODIFIED:20251023T222054Z
UID:10021003-1762156800-1762189200@www.wlcnonline.com
SUMMARY:Donations for "Nourish Together" to benefit Logan County residents at sites around Lincoln
DESCRIPTION:Donations will be collected from November 1 through November 8 for this project to benefit Logan County residents. Hours of operation for dropping off items will vary between locations; see image posted here for locations. \nIn addition\, there will be four special events to highlight and support this cause; see image posted here for additional information. \nEvent codes ccfdd
URL:https://www.wlcnonline.com/event/donations-for-nourish-together-to-benefit-logan-county-residents-at-sites-around-lincoln/2025-11-03/
LOCATION:Top Hat Creamery in Lincoln\, 513 Pulaski Street\, Lincoln\, IL\, 62656\, United States
ORGANIZER;CN="First Presbyterian Church of Lincoln":MAILTO:office@preslincoln.org
END:VEVENT
BEGIN:VEVENT
DTSTART;TZID=America/Chicago:20251103T100000
DTEND;TZID=America/Chicago:20251103T104500
DTSTAMP:20260421T005417
CREATED:20250814T215225Z
LAST-MODIFIED:20260115T152229Z
UID:10020632-1762164000-1762166700@www.wlcnonline.com
SUMMARY:Chair yoga by Silver Fox Fitness at The Villas at Lincoln﻿
DESCRIPTION:Seated and standing poses will be utilized with the goal of increasing flexibility\, balance and strength along with providing relaxation. Participants never get down on the floor. \nEvent codes: ccfs\, cchwf
URL:https://www.wlcnonline.com/event/chair-yoga-by-silver-fox-fitness-at-the-villas-at-lincoln/2025-11-03/
LOCATION:Villas at Lincoln (formerly The Christian Village) in Lincoln\, 1507 7th Street\, Lincoln\, IL\, 62656\, United States
END:VEVENT
BEGIN:VEVENT
DTSTART;TZID=America/Chicago:20251103T103000
DTEND;TZID=America/Chicago:20251103T113000
DTSTAMP:20260421T005417
CREATED:20250925T182450Z
LAST-MODIFIED:20250925T182450Z
UID:10020859-1762165800-1762169400@www.wlcnonline.com
SUMMARY:"Mind Matters" grief and caregiver support group at Lincoln Memorial Hospital
DESCRIPTION:The Mind Matters Support Group is free and open to adults only. It is especially designed for members of the community who struggle with: \n\nLoneliness\nGrief and loss\nCaregiver fatigue\nWays to improve their own mental health or cope\nDevelopment of social support and connection\nSupporting the mental health of family or a friend\nAccessing mental health resources\n\nEvent codes ccfa cchwf
URL:https://www.wlcnonline.com/event/mind-matters-grief-and-caregiver-support-group-at-lincoln-memorial-hospital/2025-11-03/
LOCATION:Lincoln Memorial Hospital\, 200 Stahlhut Drive\, Lincoln\, IL\, 62656\, United States
END:VEVENT
END:VCALENDAR