BEGIN:VCALENDAR
VERSION:2.0
PRODID:-//WLCN 96.3 FM - ECPv6.15.20//NONSGML v1.0//EN
CALSCALE:GREGORIAN
METHOD:PUBLISH
X-WR-CALNAME:WLCN 96.3 FM
X-ORIGINAL-URL:https://www.wlcnonline.com
X-WR-CALDESC:Events for WLCN 96.3 FM
REFRESH-INTERVAL;VALUE=DURATION:PT1H
X-Robots-Tag:noindex
X-PUBLISHED-TTL:PT1H
BEGIN:VTIMEZONE
TZID:America/Chicago
BEGIN:DAYLIGHT
TZOFFSETFROM:-0600
TZOFFSETTO:-0500
TZNAME:CDT
DTSTART:20250309T080000
END:DAYLIGHT
BEGIN:STANDARD
TZOFFSETFROM:-0500
TZOFFSETTO:-0600
TZNAME:CST
DTSTART:20251102T070000
END:STANDARD
BEGIN:DAYLIGHT
TZOFFSETFROM:-0600
TZOFFSETTO:-0500
TZNAME:CDT
DTSTART:20260308T080000
END:DAYLIGHT
BEGIN:STANDARD
TZOFFSETFROM:-0500
TZOFFSETTO:-0600
TZNAME:CST
DTSTART:20261101T070000
END:STANDARD
BEGIN:DAYLIGHT
TZOFFSETFROM:-0600
TZOFFSETTO:-0500
TZNAME:CDT
DTSTART:20270314T080000
END:DAYLIGHT
BEGIN:STANDARD
TZOFFSETFROM:-0500
TZOFFSETTO:-0600
TZNAME:CST
DTSTART:20271107T070000
END:STANDARD
END:VTIMEZONE
BEGIN:VEVENT
DTSTART;TZID=America/Chicago:20260119T133000
DTEND;TZID=America/Chicago:20260119T173000
DTSTAMP:20260420T031747
CREATED:20240808T140430Z
LAST-MODIFIED:20260212T210056Z
UID:10021040-1768829400-1768843800@www.wlcnonline.com
SUMMARY:Community blood drive at Knights of Columbus Hall in Lincoln
DESCRIPTION:Click here to schedule a donation appointment time. \nEvent codes: ccbld\, ccserv
URL:https://www.wlcnonline.com/event/community-blood-drive-at-knights-of-columbus-hall-in-lincoln-5/2026-01-19/
LOCATION:Lincoln Knights of Columbus Hall\, 217 Limit Street\, Lincoln\, IL\, 62656\, United States
END:VEVENT
BEGIN:VEVENT
DTSTART;TZID=America/Chicago:20260119T110000
DTEND;TZID=America/Chicago:20260119T180000
DTSTAMP:20260420T031747
CREATED:20260115T214047Z
LAST-MODIFIED:20260115T214047Z
UID:10022324-1768820400-1768845600@www.wlcnonline.com
SUMMARY:Prom bash sale event by Simply Elegant by Cheri in Lincoln
DESCRIPTION:The event runs:\n* Saturday\, January 17 – 10 AM to 4 PM\n* Sunday\, January 18 – 1 PM to 5 PM\n* Monday\, January 19 – 11 AM to 6 PM \nWith over 1\,400 dresses in stock from all the top designers\, there is something for everyone. In addition\, there will be prizes with purchases as well as “spin to win.” \nEvent codes cclbep
URL:https://www.wlcnonline.com/event/prom-bash-sale-event-by-simply-elegant-by-cheri-in-lincoln/2026-01-19/
LOCATION:Simply Elegant by Cheri in Lincoln\, 2790 Woodlawn Road\, Lincoln\, IL\, 62656\, United States
ORGANIZER;CN="Simply Elegant by Cheri":MAILTO:cheri@simplyelegantbycheri.com
END:VEVENT
BEGIN:VEVENT
DTSTART;TZID=America/Chicago:20260119T090000
DTEND;TZID=America/Chicago:20260119T160000
DTSTAMP:20260420T031747
CREATED:20260115T214838Z
LAST-MODIFIED:20260115T214838Z
UID:10022326-1768813200-1768838400@www.wlcnonline.com
SUMMARY:"Winter Wonderland" activities at Lincoln Public Library Youth Services Annex in Lincoln
DESCRIPTION:Kids looking for something to do while out of school for MLK Day can stop in anytime between 9 AM and 4 PM to enjoy crafts\, activities\, photo opportunities and more. \nEvent codes ccfk
URL:https://www.wlcnonline.com/event/winter-wonderland-activities-at-lincoln-public-library-youth-services-annex-in-lincoln/
LOCATION:Lincoln Public LIbrary Annex\, 620 Broadway Street\, Lincoln\, IL\, 62656\, United States
ORGANIZER;CN="Lincoln Public Library District":MAILTO:refdesklpld@gmail.com
END:VEVENT
BEGIN:VEVENT
DTSTART;TZID=America/Chicago:20260118T180000
DTEND;TZID=America/Chicago:20260118T190000
DTSTAMP:20260420T031747
CREATED:20250227T221038Z
LAST-MODIFIED:20251231T162443Z
UID:10021688-1768759200-1768762800@www.wlcnonline.com
SUMMARY:Alcoholics Anonymous meetings at Trinity Episcopal Church in Lincoln
DESCRIPTION:Meetings are free to attend and take place at the following times: \n\nMondays at 7 PM\nWednesdays at 6 PM\nFridays at 11 AM\nSundays at 6 PM\n\nEvent codes
URL:https://www.wlcnonline.com/event/alcoholics-anonymous-meetings-at-trinity-episcopal-church-in-lincoln-4/2026-01-18/
LOCATION:Trinity Episcopal Church in Lincoln\, 402 Pekin Street\, Lincoln\, 62656\, United States
ORGANIZER;CN="Logan Mason Recovery Oriented Systems of Care (ROSC)":MAILTO:jedavis@chestnut.org
END:VEVENT
BEGIN:VEVENT
DTSTART;TZID=America/Chicago:20260118T170000
DTEND;TZID=America/Chicago:20260118T200000
DTSTAMP:20260420T031747
CREATED:20251219T000426Z
LAST-MODIFIED:20251219T000426Z
UID:10021254-1768755600-1768766400@www.wlcnonline.com
SUMMARY:2025-26 fundraiser dinner and auction for LCHS FFA chapter at Lincoln Community High School
DESCRIPTION:The event takes place Sunday\, January 18\, 2026 at Lincoln Community High School. Doors open at 4:30 PM; the dinner begins at 5 PM. \nTickets cost $30 per person. Proceeds benefit the FFA program at Lincoln Community High School. \nEvent codes ccfb ccfdd ccedu
URL:https://www.wlcnonline.com/event/2025-26-fundraiser-dinner-and-auction-for-lchs-ffa-chapter-at-lincoln-community-high-school/
LOCATION:Lincoln Community High School\, 1000 Railer Way\, Lincoln\, IL\, 62656\, United States
ORGANIZER;CN="Lincoln Community High School FFA":MAILTO:abode@lchsrailers.org
END:VEVENT
BEGIN:VEVENT
DTSTART;TZID=America/Chicago:20260118T170000
DTEND;TZID=America/Chicago:20260118T180000
DTSTAMP:20260420T031747
CREATED:20250227T215139Z
LAST-MODIFIED:20251231T162319Z
UID:10021662-1768755600-1768759200@www.wlcnonline.com
SUMMARY:Narcotics Anonymous meetings by Land of Lincoln Recovery Group at Hope on 5th in Lincoln
DESCRIPTION:Meetings are free to attend and take place at 6 PM Thursdays as well as at 5 PM on Sundays. \nEvent codes
URL:https://www.wlcnonline.com/event/narcotics-anonymous-meetings-by-land-of-lincoln-recovery-group-at-hope-on-5th-in-lincoln/2026-01-18/
LOCATION:Hope on 5th in Lincoln\, 200 5th Street\, Lincoln\, 62656\, United States
ORGANIZER;CN="Logan Mason Recovery Oriented Systems of Care (ROSC)":MAILTO:jedavis@chestnut.org
END:VEVENT
BEGIN:VEVENT
DTSTART;TZID=America/Chicago:20260118T140000
DTEND;TZID=America/Chicago:20260118T160000
DTSTAMP:20260420T031747
CREATED:20240607T073345Z
LAST-MODIFIED:20251231T163021Z
UID:10021747-1768744800-1768752000@www.wlcnonline.com
SUMMARY:Xtreme Bar Bingo at The Next Stop Saloon in Mt. Pulaski
DESCRIPTION:Games take place every Sunday from 2 PM to 4 PM. \nEvent codes ccfb ccbin
URL:https://www.wlcnonline.com/event/xtreme-bar-bingo-at-the-next-stop-saloon-in-mt-pulaski/2026-01-18/
LOCATION:The Next Stop Saloon in Mt. Pulaski\, 100 E. Cooke Street\, Mt. Pulaski\, IL\, 62548\, United States
END:VEVENT
BEGIN:VEVENT
DTSTART;TZID=America/Chicago:20260118T130000
DTEND;TZID=America/Chicago:20260118T170000
DTSTAMP:20260420T031747
CREATED:20260115T214047Z
LAST-MODIFIED:20260115T214047Z
UID:10022323-1768741200-1768755600@www.wlcnonline.com
SUMMARY:Prom bash sale event by Simply Elegant by Cheri in Lincoln
DESCRIPTION:The event runs:\n* Saturday\, January 17 – 10 AM to 4 PM\n* Sunday\, January 18 – 1 PM to 5 PM\n* Monday\, January 19 – 11 AM to 6 PM \nWith over 1\,400 dresses in stock from all the top designers\, there is something for everyone. In addition\, there will be prizes with purchases as well as “spin to win.” \nEvent codes cclbep
URL:https://www.wlcnonline.com/event/prom-bash-sale-event-by-simply-elegant-by-cheri-in-lincoln/2026-01-18/
LOCATION:Simply Elegant by Cheri in Lincoln\, 2790 Woodlawn Road\, Lincoln\, IL\, 62656\, United States
ORGANIZER;CN="Simply Elegant by Cheri":MAILTO:cheri@simplyelegantbycheri.com
END:VEVENT
BEGIN:VEVENT
DTSTART;TZID=America/Chicago:20260118T103000
DTEND;TZID=America/Chicago:20260118T103000
DTSTAMP:20260420T031747
CREATED:20260115T214424Z
LAST-MODIFIED:20260115T214424Z
UID:10022325-1768732200-1768732200@www.wlcnonline.com
SUMMARY:"The Chosen" Bible study kickoff meeting at First United Methodist Church in Lincoln
DESCRIPTION:This January 18 event takes place after the church service and begins the Season 5 Bible study of the show. Those planning to attend should sign up as soon as they are able so that enough study books are available. \nEvent codes ccrel
URL:https://www.wlcnonline.com/event/the-chosen-bible-study-kickoff-meeting-at-first-united-methodist-church-in-lincoln/
LOCATION:First United Methodist Church of Lincoln\, 302 Broadway Street\, Lincoln\, IL\, 62656\, United States
ORGANIZER;CN="First United Methodist Church of Lincoln":MAILTO:info@lincolnfirstumc.org
END:VEVENT
BEGIN:VEVENT
DTSTART;TZID=America/Chicago:20260118T090000
DTEND;TZID=America/Chicago:20260118T100000
DTSTAMP:20260420T031747
CREATED:20250227T214918Z
LAST-MODIFIED:20251231T162155Z
UID:10021613-1768726800-1768730400@www.wlcnonline.com
SUMMARY:Alcoholics Anonymous meetings by Land of Lincoln Recovery Group at Hope on 5th in Lincoln
DESCRIPTION:Meetings are free to attend and take place at 6 PM on Tuesdays\, Wednesdays\, Fridays and Saturdays as well as at 9 AM on Saturdays and Sundays. \nEvent codes
URL:https://www.wlcnonline.com/event/alcoholics-anonymous-meetings-by-land-of-lincoln-recovery-group-at-hope-on-5th-in-lincoln-2/2026-01-18/
LOCATION:Hope on 5th in Lincoln\, 200 5th Street\, Lincoln\, 62656\, United States
ORGANIZER;CN="Logan Mason Recovery Oriented Systems of Care (ROSC)":MAILTO:jedavis@chestnut.org
END:VEVENT
BEGIN:VEVENT
DTSTART;TZID=America/Chicago:20260117T200000
DTEND;TZID=America/Chicago:20260118T000000
DTSTAMP:20260420T031747
CREATED:20251231T212300Z
LAST-MODIFIED:20260216T023148Z
UID:10022220-1768680000-1768694400@www.wlcnonline.com
SUMMARY:Classic country karaoke night (through January 2026) at The Next Stop Saloon in Mt. Pulaski
DESCRIPTION:The January events will feature classic country. \nEvent codes ccent cckar cclm
URL:https://www.wlcnonline.com/event/classic-country-karaoke-night-through-january-2026-at-the-next-stop-saloon-in-mt-pulaski/2026-01-17/
LOCATION:The Next Stop Saloon in Mt. Pulaski\, 100 E. Cooke Street\, Mt. Pulaski\, IL\, 62548\, United States
END:VEVENT
BEGIN:VEVENT
DTSTART;TZID=America/Chicago:20260117T193000
DTEND;TZID=America/Chicago:20260117T233000
DTSTAMP:20260420T031747
CREATED:20260108T224009Z
LAST-MODIFIED:20260108T224009Z
UID:10022251-1768678200-1768692600@www.wlcnonline.com
SUMMARY:Live music by Jonny Vodka at Clinton Eagles #593 Lodge in Clinton
DESCRIPTION:Enjoy music by Jonny Vodka at the Clinton Eagles Lodge\, located at 220 N. Center Street in Clinton. \nEvent codes ccfb ccent cclm
URL:https://www.wlcnonline.com/event/live-music-by-jonny-vodka-at-clinton-eagles-593-lodge-in-clinton/
LOCATION:Eagles Lodge in Clinton\, 220 N Center Street\, Clinton\, IL\, 61727\, United States
END:VEVENT
BEGIN:VEVENT
DTSTART;TZID=America/Chicago:20260117T180000
DTEND;TZID=America/Chicago:20260117T190000
DTSTAMP:20260420T031747
CREATED:20250227T214713Z
LAST-MODIFIED:20251231T161900Z
UID:10021514-1768672800-1768676400@www.wlcnonline.com
SUMMARY:Alcoholics Anonymous meetings by Land of Lincoln Recovery Group at Hope on 5th in Lincoln
DESCRIPTION:Meetings are free to attend and take place at 6 PM on Tuesdays\, Wednesdays\, Fridays and Saturdays as well as at 9 AM on Saturdays and Sundays. \nEvent codes
URL:https://www.wlcnonline.com/event/alcoholics-anonymous-meetings-by-land-of-lincoln-recovery-group-at-hope-on-5th-in-lincoln/2026-01-17/
LOCATION:Hope on 5th in Lincoln\, 200 5th Street\, Lincoln\, 62656\, United States
ORGANIZER;CN="Logan Mason Recovery Oriented Systems of Care (ROSC)":MAILTO:jedavis@chestnut.org
END:VEVENT
BEGIN:VEVENT
DTSTART;TZID=America/Chicago:20260117T170000
DTEND;TZID=America/Chicago:20260117T210000
DTSTAMP:20260420T031747
CREATED:20260108T223258Z
LAST-MODIFIED:20260108T223258Z
UID:10022248-1768669200-1768683600@www.wlcnonline.com
SUMMARY:Olympia FFA alumni dinner and auction at the Interstate Center in Bloomington
DESCRIPTION:Funds raised from this event benefit the Olympia FFA. The meal will consist of a ribeye steak dinner by Trails End. In addition\, there will be live and silent auction items\, a 50/50 drawing and other raffles. Tickets cost $50 per person; contact an Olympia FFA member or Olympia FFA alum for tickets. \nEvent codes ccag ccedu
URL:https://www.wlcnonline.com/event/olympia-ffa-alumni-dinner-and-auction-at-the-interstate-center-in-bloomington/
LOCATION:Interstate Center in Bloomington\, 1106 Interstate Drive\, Bloomington\, 61705\, United States
ORGANIZER;CN="Olympia FFA Alumni":MAILTO:olympiaffaalumni@gmail.com
END:VEVENT
BEGIN:VEVENT
DTSTART;TZID=America/Chicago:20260117T100000
DTEND;TZID=America/Chicago:20260117T160000
DTSTAMP:20260420T031747
CREATED:20260115T214047Z
LAST-MODIFIED:20260115T214047Z
UID:10022322-1768644000-1768665600@www.wlcnonline.com
SUMMARY:Prom bash sale event by Simply Elegant by Cheri in Lincoln
DESCRIPTION:The event runs:\n* Saturday\, January 17 – 10 AM to 4 PM\n* Sunday\, January 18 – 1 PM to 5 PM\n* Monday\, January 19 – 11 AM to 6 PM \nWith over 1\,400 dresses in stock from all the top designers\, there is something for everyone. In addition\, there will be prizes with purchases as well as “spin to win.” \nEvent codes cclbep
URL:https://www.wlcnonline.com/event/prom-bash-sale-event-by-simply-elegant-by-cheri-in-lincoln/2026-01-17/
LOCATION:Simply Elegant by Cheri in Lincoln\, 2790 Woodlawn Road\, Lincoln\, IL\, 62656\, United States
ORGANIZER;CN="Simply Elegant by Cheri":MAILTO:cheri@simplyelegantbycheri.com
END:VEVENT
BEGIN:VEVENT
DTSTART;TZID=America/Chicago:20260117T100000
DTEND;TZID=America/Chicago:20260117T120000
DTSTAMP:20260420T031747
CREATED:20260108T225228Z
LAST-MODIFIED:20260108T225228Z
UID:10022252-1768644000-1768651200@www.wlcnonline.com
SUMMARY:Listening session on "Healthcare/Medicare for All" by Illinois People's Action at Hopedale Community Center in Hopedale
DESCRIPTION:A light brunch will be served. The listening session will allow attendees to share stories and experiences with the healthcare/insurance system. \nEvent codes ccsoc ccfs
URL:https://www.wlcnonline.com/event/listening-session-on-healthcare-medicare-for-all-by-illinois-peoples-action-at-hopedale-community-center-in-hopedale/
LOCATION:Hopedale Community Center in Hopedale\, 101 SE Main Street\, Hopedale\, 61747\, United States
ORGANIZER;CN="Illinois People's Action":MAILTO:ilpeoplesaction12@gmail.com
END:VEVENT
BEGIN:VEVENT
DTSTART;TZID=America/Chicago:20260117T090000
DTEND;TZID=America/Chicago:20260117T100000
DTSTAMP:20260420T031747
CREATED:20250227T214918Z
LAST-MODIFIED:20251231T162155Z
UID:10021612-1768640400-1768644000@www.wlcnonline.com
SUMMARY:Alcoholics Anonymous meetings by Land of Lincoln Recovery Group at Hope on 5th in Lincoln
DESCRIPTION:Meetings are free to attend and take place at 6 PM on Tuesdays\, Wednesdays\, Fridays and Saturdays as well as at 9 AM on Saturdays and Sundays. \nEvent codes
URL:https://www.wlcnonline.com/event/alcoholics-anonymous-meetings-by-land-of-lincoln-recovery-group-at-hope-on-5th-in-lincoln-2/2026-01-17/
LOCATION:Hope on 5th in Lincoln\, 200 5th Street\, Lincoln\, 62656\, United States
ORGANIZER;CN="Logan Mason Recovery Oriented Systems of Care (ROSC)":MAILTO:jedavis@chestnut.org
END:VEVENT
BEGIN:VEVENT
DTSTART;TZID=America/Chicago:20260117T080000
DTEND;TZID=America/Chicago:20260117T100000
DTSTAMP:20260420T031747
CREATED:20250717T144857Z
LAST-MODIFIED:20260416T222931Z
UID:10022321-1768636800-1768644000@www.wlcnonline.com
SUMMARY:Precision Church: Faith + Fitness workout session at Precision Movement in Lincoln
DESCRIPTION:This event mixes faith and fitness to strengthen both bodies and spirits. The free event is open to the public; attendees do not have to be a Precision Fitness member to come break a sweat\, share positive energy and connect with others. \nThe event starts with prayer\, a group workout session suitable for all fitness levels\, followed by a time of fellowship and reflection. \nEvent codes cchwf ccrel
URL:https://www.wlcnonline.com/event/precision-church-faith-fitness-workout-session-at-precision-movement-in-lincoln-8/2026-01-17/
LOCATION:Precision Movement in Lincoln\, 1417 N. Kickapoo Street\, Lincoln\, IL\, 62656\, United States
ORGANIZER;CN="Precision Movement in Lincoln":MAILTO:ashley@precision-movement.com
END:VEVENT
BEGIN:VEVENT
DTSTART;TZID=America/Chicago:20260116T183000
DTEND;TZID=America/Chicago:20260116T210000
DTSTAMP:20260420T031747
CREATED:20250116T201708Z
LAST-MODIFIED:20260416T195424Z
UID:10022249-1768588200-1768597200@www.wlcnonline.com
SUMMARY:Family bingo night at Mount Hope Township Community Hall in McLean
DESCRIPTION:Family bingo night takes place at the Community Hall. Bingo is free to play (donations are appreciated) and non-monetary prizes will be awarded to the winners. Adults and kids can play. Food and/or beverages will be available for purchase at each event. \nEvent codes ccaca ccff ccbin
URL:https://www.wlcnonline.com/event/family-bingo-night-at-mount-hope-township-community-hall-in-mclean/2026-01-16/
LOCATION:Mt. Hope Township Community Hall in McLean\, 104 North Clinton Street\, McLean\, IL\, 61754\, United States
ORGANIZER;CN="Mt. Hope Township Community Hall":MAILTO:Jbare03@gmail.com
END:VEVENT
BEGIN:VEVENT
DTSTART;TZID=America/Chicago:20260116T180000
DTEND;TZID=America/Chicago:20260116T210000
DTSTAMP:20260420T031747
CREATED:20260108T223819Z
LAST-MODIFIED:20260108T223819Z
UID:10022250-1768586400-1768597200@www.wlcnonline.com
SUMMARY:Live music by Not Petty at BB's BFE in Latham
DESCRIPTION:Enjoy two full sets of live Tom Petty music by Not Petty with a short middle set featuring original songs and covers not by Tom Petty. \nEvent codes ccent cclm ccfb
URL:https://www.wlcnonline.com/event/live-music-by-not-petty-at-bbs-bfe-in-latham/
LOCATION:BB’s BFE in Latham\, 2371 N Route 121\, Latham\, 62543\, United States
ORGANIZER;CN="BB's BFE":MAILTO:BBS.BFE.2025@gmail.com
END:VEVENT
BEGIN:VEVENT
DTSTART;TZID=America/Chicago:20260116T180000
DTEND;TZID=America/Chicago:20260116T190000
DTSTAMP:20260420T031747
CREATED:20251231T161511Z
LAST-MODIFIED:20251231T161511Z
UID:10021499-1768586400-1768590000@www.wlcnonline.com
SUMMARY:Veterans recovery group meetings by Never Alone at Hope on 5th in Lincoln
DESCRIPTION:Meetings are free to attend and take place at 6 PM on the first and third Fridays of the month. \nEvent codes
URL:https://www.wlcnonline.com/event/veterans-recovery-group-meetings-by-never-alone-at-hope-on-5th-in-lincoln-3/2026-01-16/
LOCATION:Hope on 5th in Lincoln\, 200 5th Street\, Lincoln\, 62656\, United States
ORGANIZER;CN="Logan Mason Recovery Oriented Systems of Care (ROSC)":MAILTO:jedavis@chestnut.org
END:VEVENT
BEGIN:VEVENT
DTSTART;TZID=America/Chicago:20260116T180000
DTEND;TZID=America/Chicago:20260116T190000
DTSTAMP:20260420T031747
CREATED:20250227T214713Z
LAST-MODIFIED:20251231T161900Z
UID:10021513-1768586400-1768590000@www.wlcnonline.com
SUMMARY:Alcoholics Anonymous meetings by Land of Lincoln Recovery Group at Hope on 5th in Lincoln
DESCRIPTION:Meetings are free to attend and take place at 6 PM on Tuesdays\, Wednesdays\, Fridays and Saturdays as well as at 9 AM on Saturdays and Sundays. \nEvent codes
URL:https://www.wlcnonline.com/event/alcoholics-anonymous-meetings-by-land-of-lincoln-recovery-group-at-hope-on-5th-in-lincoln/2026-01-16/
LOCATION:Hope on 5th in Lincoln\, 200 5th Street\, Lincoln\, 62656\, United States
ORGANIZER;CN="Logan Mason Recovery Oriented Systems of Care (ROSC)":MAILTO:jedavis@chestnut.org
END:VEVENT
BEGIN:VEVENT
DTSTART;TZID=America/Chicago:20260116T120000
DTEND;TZID=America/Chicago:20260116T133000
DTSTAMP:20260420T031747
CREATED:20250227T221857Z
LAST-MODIFIED:20251231T161051Z
UID:10021443-1768564800-1768570200@www.wlcnonline.com
SUMMARY:SMART (Self-Management and Recovery Training) recovery meetings at Hope on 5th in Lincoln
DESCRIPTION:Meetings are free to attend and take place Fridays from noon to 1:30 PM. \nEvent codes
URL:https://www.wlcnonline.com/event/smart-self-management-and-recovery-training-recovery-meetings-at-hope-on-5th-in-lincoln/2026-01-16/
LOCATION:Hope on 5th in Lincoln\, 200 5th Street\, Lincoln\, 62656\, United States
ORGANIZER;CN="Logan Mason Recovery Oriented Systems of Care (ROSC)":MAILTO:jedavis@chestnut.org
END:VEVENT
BEGIN:VEVENT
DTSTART;TZID=America/Chicago:20260116T110000
DTEND;TZID=America/Chicago:20260116T120000
DTSTAMP:20260420T031747
CREATED:20250227T220937Z
LAST-MODIFIED:20251231T160939Z
UID:10021417-1768561200-1768564800@www.wlcnonline.com
SUMMARY:Alcoholics Anonymous meetings at Trinity Episcopal Church in Lincoln
DESCRIPTION:Meetings are free to attend and take place at the following times: \n\nMondays at 7 PM\nWednesdays at 6 PM\nFridays at 11 AM\nSundays at 6 PM\n\nEvent codes
URL:https://www.wlcnonline.com/event/alcoholics-anonymous-meetings-at-trinity-episcopal-church-in-lincoln-3/2026-01-16/
LOCATION:Trinity Episcopal Church in Lincoln\, 402 Pekin Street\, Lincoln\, 62656\, United States
ORGANIZER;CN="Logan Mason Recovery Oriented Systems of Care (ROSC)":MAILTO:jedavis@chestnut.org
END:VEVENT
BEGIN:VEVENT
DTSTART;TZID=America/Chicago:20260115T190000
DTEND;TZID=America/Chicago:20260115T220000
DTSTAMP:20260420T031747
CREATED:20250710T225735Z
LAST-MODIFIED:20251231T171651Z
UID:10022115-1768503600-1768514400@www.wlcnonline.com
SUMMARY:Open mic night at Spirited Republic in Lincoln
DESCRIPTION:Spirited Republic open mic nights are a solo acoustic musical experiment with the goal of cultivating friendship\, support and good times amongst musicians\, comedians\, poets and artists of all kinds. Performers are asked to bring their own instruments (no drum sets; hand drums and percussion equipment only). \nEvent codes: ccent\, ccfb\, cclm\, ccsoc
URL:https://www.wlcnonline.com/event/open-mic-night-at-spirited-republic-in-lincoln-2/2026-01-15/
LOCATION:Spirited Republic in Lincoln\, 509 Pulaski Street\, Lincoln\, IL\, 62656\, United States
ORGANIZER;CN="Spirited Republic/Limerick Brewing Company":MAILTO:spiritedrepublic@gmail.com
END:VEVENT
BEGIN:VEVENT
DTSTART;TZID=America/Chicago:20260115T190000
DTEND;TZID=America/Chicago:20260115T200000
DTSTAMP:20260420T031747
CREATED:20250227T221223Z
LAST-MODIFIED:20251231T171824Z
UID:10022141-1768503600-1768507200@www.wlcnonline.com
SUMMARY:Alcoholics Anonymous meetings at Atlanta Community House in Atlanta
DESCRIPTION:Meetings are free to attend and take place Thursdays at 7 PM. \nEvent codes
URL:https://www.wlcnonline.com/event/alcoholics-anonymous-meetings-at-atlanta-community-house-in-atlanta/2026-01-15/
LOCATION:Atlanta Memorial Community House\, 106 SW 6th Street\, Atlanta\, IL\, 61723\, United States
ORGANIZER;CN="Logan Mason Recovery Oriented Systems of Care (ROSC)":MAILTO:jedavis@chestnut.org
END:VEVENT
BEGIN:VEVENT
DTSTART;TZID=America/Chicago:20260115T190000
DTEND;TZID=America/Chicago:20260115T200000
DTSTAMP:20260420T031747
CREATED:20250227T220255Z
LAST-MODIFIED:20251231T170522Z
UID:10021983-1768503600-1768507200@www.wlcnonline.com
SUMMARY:Celebrate recovery events at Open Arms Christian Fellowship in Lincoln
DESCRIPTION:Events take place on Thursday evenings with snacks served at 6 PM and the meeting starting at 7 PM.
URL:https://www.wlcnonline.com/event/celebrate-recovery-events-at-open-arms-christian-fellowship-in-lincoln/2026-01-15/
LOCATION:Open Arms Christian Fellowship\, 1321 State Route 10\, Lincoln\, IL\, 62656\, United States
ORGANIZER;CN="Hope on 5th":MAILTO:rhss2005th@gmail.com
END:VEVENT
BEGIN:VEVENT
DTSTART;TZID=America/Chicago:20260115T190000
DTEND;TZID=America/Chicago:20260115T190000
DTSTAMP:20260420T031747
CREATED:20240329T042327Z
LAST-MODIFIED:20251231T163130Z
UID:10021773-1768503600-1768503600@www.wlcnonline.com
SUMMARY:Xtreme Bar Bingo at The Rusty Rail in Lincoln
DESCRIPTION:Xtreme Bar Bingo is bingo game with awesome prizes. The Rusty Rail features Xtreme Bar Bingo on Thursday nights beginning at 7 PM. \nEvent codes: ccgc\, ccsoc ccbin
URL:https://www.wlcnonline.com/event/xtreme-bar-bingo-at-the-rusty-rail-in-lincoln/2026-01-15/
LOCATION:The Rusty Rail Pub in Lincoln\, 405 Pulaski Street\, Lincoln\, IL\, 62656\, United States
END:VEVENT
BEGIN:VEVENT
DTSTART;TZID=America/Chicago:20260115T180000
DTEND;TZID=America/Chicago:20260115T190000
DTSTAMP:20260420T031747
CREATED:20250227T215251Z
LAST-MODIFIED:20251231T170747Z
UID:10022009-1768500000-1768503600@www.wlcnonline.com
SUMMARY:Narcotics Anonymous meetings by Land of Lincoln Recovery Group at Hope on 5th in Lincoln
DESCRIPTION:Meetings are free to attend and take place at 6 PM Thursdays as well as at 5 PM on Sundays. \nEvent codes
URL:https://www.wlcnonline.com/event/narcotics-anonymous-meetings-by-land-of-lincoln-recovery-group-at-hope-on-5th-in-lincoln-2/2026-01-15/
LOCATION:Hope on 5th in Lincoln\, 200 5th Street\, Lincoln\, 62656\, United States
ORGANIZER;CN="Logan Mason Recovery Oriented Systems of Care (ROSC)":MAILTO:jedavis@chestnut.org
END:VEVENT
BEGIN:VEVENT
DTSTART;TZID=America/Chicago:20260115T170000
DTEND;TZID=America/Chicago:20260115T210000
DTSTAMP:20260420T031747
CREATED:20250717T215744Z
LAST-MODIFIED:20251231T171425Z
UID:10022036-1768496400-1768510800@www.wlcnonline.com
SUMMARY:Thursday night bingo (meal @ 5 PM\, bingo @ 6:30 PM) at Eagles Lodge in Lincoln﻿
DESCRIPTION:Doors open at 5 PM with food being served. Bingo starts at 6:30 PM and includes cash prizes\, jackpots as well as jar balls. Open to the public. \nEvent codes ccfb ccgc ccsoc ccbin
URL:https://www.wlcnonline.com/event/thursday-night-bingo-meal-5-pm-bingo-630-pm-at-eagles-lodge-in-lincoln/2026-01-15/
LOCATION:Fraternal Order Of Eagles #2708 in Lincoln\, 1621 N. Kickapoo Street\, Lincoln\, IL\, 62656\, United States
END:VEVENT
END:VCALENDAR