BEGIN:VCALENDAR
VERSION:2.0
PRODID:-//WLCN 96.3 FM - ECPv6.15.20//NONSGML v1.0//EN
CALSCALE:GREGORIAN
METHOD:PUBLISH
X-WR-CALNAME:WLCN 96.3 FM
X-ORIGINAL-URL:https://www.wlcnonline.com
X-WR-CALDESC:Events for WLCN 96.3 FM
REFRESH-INTERVAL;VALUE=DURATION:PT1H
X-Robots-Tag:noindex
X-PUBLISHED-TTL:PT1H
BEGIN:VTIMEZONE
TZID:America/Chicago
BEGIN:DAYLIGHT
TZOFFSETFROM:-0600
TZOFFSETTO:-0500
TZNAME:CDT
DTSTART:20250309T080000
END:DAYLIGHT
BEGIN:STANDARD
TZOFFSETFROM:-0500
TZOFFSETTO:-0600
TZNAME:CST
DTSTART:20251102T070000
END:STANDARD
BEGIN:DAYLIGHT
TZOFFSETFROM:-0600
TZOFFSETTO:-0500
TZNAME:CDT
DTSTART:20260308T080000
END:DAYLIGHT
BEGIN:STANDARD
TZOFFSETFROM:-0500
TZOFFSETTO:-0600
TZNAME:CST
DTSTART:20261101T070000
END:STANDARD
BEGIN:DAYLIGHT
TZOFFSETFROM:-0600
TZOFFSETTO:-0500
TZNAME:CDT
DTSTART:20270314T080000
END:DAYLIGHT
BEGIN:STANDARD
TZOFFSETFROM:-0500
TZOFFSETTO:-0600
TZNAME:CST
DTSTART:20271107T070000
END:STANDARD
END:VTIMEZONE
BEGIN:VEVENT
DTSTART;TZID=America/Chicago:20260218T170000
DTEND;TZID=America/Chicago:20260218T180000
DTSTAMP:20260419T183842
CREATED:20251219T020933Z
LAST-MODIFIED:20251219T021845Z
UID:10021339-1771434000-1771437600@www.wlcnonline.com
SUMMARY:Finding Hope monthly cancer support group meetings by LMH Community Health Collaborative held online and at Memorial Learning Center in Springfield
DESCRIPTION:This group is open to anyone facing any type of cancer diagnosis\, including spouse/partner\, friends and family. \nWhen: 3rd Wednesday of each month\, except December\nWhere: Memorial Learning Center (228 W Miller Street) 2nd Floor\, Room 2D\nVirtual option available! \nFor more info or to join\, contact Tia Rapps at (217) 588-5392 or rapps.tia@mhsil.com. \nEvent codes cchwf
URL:https://www.wlcnonline.com/event/finding-hope-monthly-cancer-support-group-meetings-by-lmh-community-health-collaborative-held-online-and-at-memorial-learning-center-in-springfield/2026-02-18/
LOCATION:Memorial Learning Center in Springfield\, 228 W. Miller Street\, Springfield\, 62702\, United States
END:VEVENT
BEGIN:VEVENT
DTSTART;TZID=America/Chicago:20260218T100000
DTEND;TZID=America/Chicago:20260218T130000
DTSTAMP:20260419T183842
CREATED:20251219T005847Z
LAST-MODIFIED:20251219T022353Z
UID:10021279-1771408800-1771419600@www.wlcnonline.com
SUMMARY:Lincoln Memorial Hospital Trailblazers walking group by LMH Community Health Collaborative indoors at Lincoln YMCA
DESCRIPTION:The LMH Trailblazers walking program moves indoors for winter – no registration or YMCA membership is required to participate. Bring comfortable walking shoes and a water bottle. Prizes will be randomly distributed. \nEvent codes ccsoc cchwf
URL:https://www.wlcnonline.com/event/lincoln-memorial-hospital-trailblazers-walking-group-by-lmh-community-health-collaborative-indoors-at-lincoln-ymca/2026-02-18/
LOCATION:Lincoln Area YMCA\, 719 Wyatt Avenue\, Lincoln\, IL\, 62656\, United States
END:VEVENT
BEGIN:VEVENT
DTSTART;TZID=America/Chicago:20260218T090000
DTEND;TZID=America/Chicago:20260218T150000
DTSTAMP:20260419T183842
CREATED:20260212T205113Z
LAST-MODIFIED:20260212T205113Z
UID:10022487-1771405200-1771426800@www.wlcnonline.com
SUMMARY:Community blood drive at Illini Central High School in Mason City
DESCRIPTION:Donations can be made between 9 AM and 3 PM. Click here to reserve a time online. \nEvent codes: ccbld\, ccserv
URL:https://www.wlcnonline.com/event/community-blood-drive-at-illini-central-high-school-in-mason-city-3/
LOCATION:Illini Central High School\, 208 Northwest Avenue\, Mason City\, IL\, 62664\, United States
END:VEVENT
BEGIN:VEVENT
DTSTART;TZID=America/Chicago:20260217T200000
DTEND;TZID=America/Chicago:20260218T000000
DTSTAMP:20260419T183842
CREATED:20260129T002901Z
LAST-MODIFIED:20260216T023314Z
UID:10022372-1771358400-1771372800@www.wlcnonline.com
SUMMARY:Karaoke (February theme: The Aughts) at The Rusty Rail Pub in Lincoln
DESCRIPTION:Karaoke events are scheduled at the Rusty Rail each Tuesday night from 8 PM to midnight. Please note that February’s theme is the decade of The Aughts (2000-2009) \nEvent codes ccfb  ccent cckar cclm
URL:https://www.wlcnonline.com/event/karaoke-february-theme-the-aughts-at-the-rusty-rail-pub-in-lincoln/2026-02-17/
LOCATION:The Rusty Rail Pub in Lincoln\, 405 Pulaski Street\, Lincoln\, IL\, 62656\, United States
END:VEVENT
BEGIN:VEVENT
DTSTART;TZID=America/Chicago:20260217T180000
DTEND;TZID=America/Chicago:20260217T190000
DTSTAMP:20260419T183842
CREATED:20250227T214713Z
LAST-MODIFIED:20251231T161900Z
UID:10021531-1771351200-1771354800@www.wlcnonline.com
SUMMARY:Alcoholics Anonymous meetings by Land of Lincoln Recovery Group at Hope on 5th in Lincoln
DESCRIPTION:Meetings are free to attend and take place at 6 PM on Tuesdays\, Wednesdays\, Fridays and Saturdays as well as at 9 AM on Saturdays and Sundays. \nEvent codes
URL:https://www.wlcnonline.com/event/alcoholics-anonymous-meetings-by-land-of-lincoln-recovery-group-at-hope-on-5th-in-lincoln/2026-02-17/
LOCATION:Hope on 5th in Lincoln\, 200 5th Street\, Lincoln\, 62656\, United States
ORGANIZER;CN="Logan Mason Recovery Oriented Systems of Care (ROSC)":MAILTO:jedavis@chestnut.org
END:VEVENT
BEGIN:VEVENT
DTSTART;TZID=America/Chicago:20260217T170000
DTEND;TZID=America/Chicago:20260217T203000
DTSTAMP:20260419T183842
CREATED:20250220T233455Z
LAST-MODIFIED:20251231T163935Z
UID:10021910-1771347600-1771360200@www.wlcnonline.com
SUMMARY:Tuesday night bingo (meal @ 5 PM\, bingo @ 6:30 PM) at Oasis Senior Center in Lincoln﻿
DESCRIPTION:Bingo takes place on Tuesday evenings from 6:30 PM to 8:30 PM and is open to the public. Doors open at 5 PM for a meal\, snack and beverages. \nEvent codes ccgc ccbin ccfb ccsoc
URL:https://www.wlcnonline.com/event/tuesday-night-bingo-meal-5-pm-bingo-630-pm-at-oasis-senior-center-in-lincoln/2026-02-17/
LOCATION:Oasis Senior Center\, 2810 Woodlawn Road\, Lincoln\, IL\, 62656\, United States
ORGANIZER;CN="Oasis Senior Center":MAILTO:nancy@oasisseniorcenter.com
END:VEVENT
BEGIN:VEVENT
DTSTART;TZID=America/Chicago:20260217T100000
DTEND;TZID=America/Chicago:20260217T220000
DTSTAMP:20260419T183842
CREATED:20250911T152448Z
LAST-MODIFIED:20250911T152448Z
UID:10020818-1771322400-1771365600@www.wlcnonline.com
SUMMARY:Fundraiser for Chester East Lincoln School at Culver's of Lincoln
DESCRIPTION:Purchase food from Culver’s of Lincoln and help support a worthy cause whether dining in\, carrying out\, using the drive-thru or ordering through DoorDash. During the hours of the fundraiser\, a portion of all proceeds will be donated to the organization. Fundraisers for all schools run all day. Those making purchases during school fundraisers must fill out a slip to designate the class to which the donation is to be credited; those ordering via DoorDash can call Culver’s (217-732-7300) to designate how the donation from their purchase should be allocated. \nEvent codes ccfb\, ccfdd
URL:https://www.wlcnonline.com/event/fundraiser-for-chester-east-lincoln-school-at-culvers-of-lincoln/2026-02-17/
LOCATION:Culver’s of Lincoln\, 2530 Woodlawn Road\, Lincoln\, IL\, 62656\, United States
ORGANIZER;CN="Culver's of Lincoln":MAILTO:lincolnculvers@comcast.net
END:VEVENT
BEGIN:VEVENT
DTSTART;TZID=America/Chicago:20260216T190000
DTEND;TZID=America/Chicago:20260216T200000
DTSTAMP:20260419T183842
CREATED:20250227T220659Z
LAST-MODIFIED:20251231T163725Z
UID:10021884-1771268400-1771272000@www.wlcnonline.com
SUMMARY:Alcoholics Anonymous meetings at Trinity Episcopal Church in Lincoln
DESCRIPTION:Meetings are free to attend and take place at the following times: \n\nMondays at 7 PM\nWednesdays at 6 PM\nFridays at 11 AM\nSundays at 6 PM\n\nEvent codes
URL:https://www.wlcnonline.com/event/alcoholics-anonymous-meetings-at-trinity-episcopal-church-in-lincoln/2026-02-16/
LOCATION:Trinity Episcopal Church in Lincoln\, 402 Pekin Street\, Lincoln\, 62656\, United States
ORGANIZER;CN="Logan Mason Recovery Oriented Systems of Care (ROSC)":MAILTO:jedavis@chestnut.org
END:VEVENT
BEGIN:VEVENT
DTSTART;TZID=America/Chicago:20260216T180000
DTEND;TZID=America/Chicago:20260216T200000
DTSTAMP:20260419T183842
CREATED:20250725T024845Z
LAST-MODIFIED:20251231T163623Z
UID:10021858-1771264800-1771272000@www.wlcnonline.com
SUMMARY:Music bingo at Copper & Oak Bourbon & Craft Beer Bar in Lincoln
DESCRIPTION:Music bingo is like regular bingo\, except of numbers being called\, segments of songs are played; if you can identify the song played and it is on your bingo card\, cross it off and continue doing so until someone gets bingo. \nMusic bingo is free to play. \nEvent codes ccbin ccsoc ccfb
URL:https://www.wlcnonline.com/event/music-bingo-at-copper-oak-bourbon-craft-beer-bar-in-lincoln/2026-02-16/
LOCATION:Copper & Oak in Lincoln\, 227 N. Kickapoo Street\, Lincoln\, IL\, 62656\, United States
END:VEVENT
BEGIN:VEVENT
DTSTART;TZID=America/Chicago:20260216T180000
DTEND;TZID=America/Chicago:20260216T190000
DTSTAMP:20260419T183842
CREATED:20250227T215503Z
LAST-MODIFIED:20251231T163530Z
UID:10021832-1771264800-1771268400@www.wlcnonline.com
SUMMARY:Co-Dependents Anonymous (CoDA) meetings by Land of Lincoln Recovery Group at Hope on 5th in Lincoln
DESCRIPTION:Meetings are free to attend and take place at 6 PM Mondays. \nEvent codes
URL:https://www.wlcnonline.com/event/co-dependents-anonymous-coda-meetings-by-land-of-lincoln-recovery-group-at-hope-on-5th-in-lincoln/2026-02-16/
LOCATION:Hope on 5th in Lincoln\, 200 5th Street\, Lincoln\, 62656\, United States
ORGANIZER;CN="Logan Mason Recovery Oriented Systems of Care (ROSC)":MAILTO:jedavis@chestnut.org
END:VEVENT
BEGIN:VEVENT
DTSTART;TZID=America/Chicago:20260216T110000
DTEND;TZID=America/Chicago:20260216T150000
DTSTAMP:20260419T183842
CREATED:20260205T174506Z
LAST-MODIFIED:20260205T174506Z
UID:10022473-1771239600-1771254000@www.wlcnonline.com
SUMMARY:Community blood drive at Lincoln Memorial Hospital
DESCRIPTION:Donors can choose an e-gift card\, a charitable donation (gift card value) to a 501(c)(3) charity\, bonus points in the Rewards Store or a Good Giving Donation to a charity. Regular donors will also be rewarded with a points increase in earnings this month with several choices of gift cards available. \nAll donors must register for an appointment to donate.  \nClick here to schedule an appointment online. \nEvent codes: ccbld ccserv
URL:https://www.wlcnonline.com/event/community-blood-drive-at-lincoln-memorial-hospital-3/
LOCATION:Lincoln Memorial Hospital\, 200 Stahlhut Drive\, Lincoln\, IL\, 62656\, United States
END:VEVENT
BEGIN:VEVENT
DTSTART;TZID=America/Chicago:20260215T180000
DTEND;TZID=America/Chicago:20260215T190000
DTSTAMP:20260419T183842
CREATED:20250227T221038Z
LAST-MODIFIED:20251231T162443Z
UID:10021692-1771178400-1771182000@www.wlcnonline.com
SUMMARY:Alcoholics Anonymous meetings at Trinity Episcopal Church in Lincoln
DESCRIPTION:Meetings are free to attend and take place at the following times: \n\nMondays at 7 PM\nWednesdays at 6 PM\nFridays at 11 AM\nSundays at 6 PM\n\nEvent codes
URL:https://www.wlcnonline.com/event/alcoholics-anonymous-meetings-at-trinity-episcopal-church-in-lincoln-4/2026-02-15/
LOCATION:Trinity Episcopal Church in Lincoln\, 402 Pekin Street\, Lincoln\, 62656\, United States
ORGANIZER;CN="Logan Mason Recovery Oriented Systems of Care (ROSC)":MAILTO:jedavis@chestnut.org
END:VEVENT
BEGIN:VEVENT
DTSTART;TZID=America/Chicago:20260215T170000
DTEND;TZID=America/Chicago:20260215T180000
DTSTAMP:20260419T183842
CREATED:20250227T215139Z
LAST-MODIFIED:20251231T162319Z
UID:10021666-1771174800-1771178400@www.wlcnonline.com
SUMMARY:Narcotics Anonymous meetings by Land of Lincoln Recovery Group at Hope on 5th in Lincoln
DESCRIPTION:Meetings are free to attend and take place at 6 PM Thursdays as well as at 5 PM on Sundays. \nEvent codes
URL:https://www.wlcnonline.com/event/narcotics-anonymous-meetings-by-land-of-lincoln-recovery-group-at-hope-on-5th-in-lincoln/2026-02-15/
LOCATION:Hope on 5th in Lincoln\, 200 5th Street\, Lincoln\, 62656\, United States
ORGANIZER;CN="Logan Mason Recovery Oriented Systems of Care (ROSC)":MAILTO:jedavis@chestnut.org
END:VEVENT
BEGIN:VEVENT
DTSTART;TZID=America/Chicago:20260215T150000
DTEND;TZID=America/Chicago:20260215T170000
DTSTAMP:20260419T183842
CREATED:20260205T180344Z
LAST-MODIFIED:20260205T180344Z
UID:10022476-1771167600-1771174800@www.wlcnonline.com
SUMMARY:Plant bingo event hosted by The Bee Boutique at Spirited Republic in Lincoln
DESCRIPTION:Attendees will play bingo and win plants at this unique Plant Bingo event. \nTickets cost $25 per person and includes one drink chip and one bingo card. Additional bingo cards available for purchase. \nTickets can be purchased in advance at The Bee Boutique\, 121 S.Kickapoo Street. \nAll ages are welcome. Attendees are welcome to bring their own snacks. Limited seating is available. \nEvent codes ccbin ccsoc ccfb ccgc
URL:https://www.wlcnonline.com/event/plant-bingo-event-hosted-by-the-bee-boutique-at-spirited-republic-in-lincoln/
LOCATION:Spirited Republic in Lincoln\, 509 Pulaski Street\, Lincoln\, IL\, 62656\, United States
ORGANIZER;CN="The Bee Boutique in Lincoln":MAILTO:melaniemwelch@gmail.com
END:VEVENT
BEGIN:VEVENT
DTSTART;TZID=America/Chicago:20260215T140000
DTEND;TZID=America/Chicago:20260215T160000
DTSTAMP:20260419T183842
CREATED:20240607T073345Z
LAST-MODIFIED:20251231T163021Z
UID:10021751-1771164000-1771171200@www.wlcnonline.com
SUMMARY:Xtreme Bar Bingo at The Next Stop Saloon in Mt. Pulaski
DESCRIPTION:Games take place every Sunday from 2 PM to 4 PM. \nEvent codes ccfb ccbin
URL:https://www.wlcnonline.com/event/xtreme-bar-bingo-at-the-next-stop-saloon-in-mt-pulaski/2026-02-15/
LOCATION:The Next Stop Saloon in Mt. Pulaski\, 100 E. Cooke Street\, Mt. Pulaski\, IL\, 62548\, United States
END:VEVENT
BEGIN:VEVENT
DTSTART;TZID=America/Chicago:20260215T130000
DTEND;TZID=America/Chicago:20260215T170000
DTSTAMP:20260419T183842
CREATED:20260212T222015Z
LAST-MODIFIED:20260212T222015Z
UID:10022513-1771160400-1771174800@www.wlcnonline.com
SUMMARY:Quarter auction by San Jose Quarter Frenzy raising funds for charity of the attendees' choice at San Jose United Methodist Church﻿
DESCRIPTION:Each vendor will have 4 items (one is a donation item) to be placed in the frenzy. Each item will be raffled off one at a time. A listing of all items up for bid for the afternoon will be provided and will include the number of quarters necessary to try to win. \nThose arriving will purchase a paddle(s) that will have numbers on them. The paddles are $1 each and individuals may purchase as many as they like. \nAll proceeds from the paddle sales\, donation item quarters and vendor fees go to a different charity/cause each month. \nDoors open at noon; attendees can buy lunch and chat with vendors. The frenzy event starts at 1 PM. \nProceeds from lunch go to Team Matthew. \nEvent codes ccfb ccfdd
URL:https://www.wlcnonline.com/event/quarter-auction-by-san-jose-quarter-frenzy-raising-funds-for-charity-of-the-attendees-choice-at-san-jose-united-methodist-church-2/
LOCATION:San Jose United Methodist Church\, 600 S. First Street\, San Jose\, IL\, 62682\, United States
ORGANIZER;CN="Nancy Martin/San Jose Quarter Frenzy":MAILTO:nmartin23@gmail.com
END:VEVENT
BEGIN:VEVENT
DTSTART;TZID=America/Chicago:20260215T090000
DTEND;TZID=America/Chicago:20260215T100000
DTSTAMP:20260419T183842
CREATED:20250227T214918Z
LAST-MODIFIED:20251231T162155Z
UID:10021621-1771146000-1771149600@www.wlcnonline.com
SUMMARY:Alcoholics Anonymous meetings by Land of Lincoln Recovery Group at Hope on 5th in Lincoln
DESCRIPTION:Meetings are free to attend and take place at 6 PM on Tuesdays\, Wednesdays\, Fridays and Saturdays as well as at 9 AM on Saturdays and Sundays. \nEvent codes
URL:https://www.wlcnonline.com/event/alcoholics-anonymous-meetings-by-land-of-lincoln-recovery-group-at-hope-on-5th-in-lincoln-2/2026-02-15/
LOCATION:Hope on 5th in Lincoln\, 200 5th Street\, Lincoln\, 62656\, United States
ORGANIZER;CN="Logan Mason Recovery Oriented Systems of Care (ROSC)":MAILTO:jedavis@chestnut.org
END:VEVENT
BEGIN:VEVENT
DTSTART;TZID=America/Chicago:20260214T200000
DTEND;TZID=America/Chicago:20260215T000000
DTSTAMP:20260419T183842
CREATED:20260213T040126Z
LAST-MODIFIED:20260213T040126Z
UID:10022518-1771099200-1771113600@www.wlcnonline.com
SUMMARY:Valentine's Day karaoke and wine/spirits tasting at The Thirsty Rooster in Middletown
DESCRIPTION:Valentine’s Day at The Thirsty Rooster will feature karaoke by Future Entertainment as well as another wine and spirits tasting by Koerner Distributing. \nEvent codes ccfb ccsoc ccent cckar cclm ccval
URL:https://www.wlcnonline.com/event/valentines-day-karaoke-and-wine-spirits-tasting-at-the-thirsty-rooster-in-middletown/
LOCATION:The Thirsty Rooster in Middletown\, 104 South Madison Street\, Middletown\, IL\, 62666\, United States
ORGANIZER;CN="The Thirsty Rooster":MAILTO:thethirstyrooster@yahoo.com
END:VEVENT
BEGIN:VEVENT
DTSTART;TZID=America/Chicago:20260214T200000
DTEND;TZID=America/Chicago:20260215T000000
DTSTAMP:20260419T183842
CREATED:20260129T164640Z
LAST-MODIFIED:20260216T023305Z
UID:10022460-1771099200-1771113600@www.wlcnonline.com
SUMMARY:Karaoke (February 2026 theme: The Aughts) at The Next Stop Saloon in Mt. Pulaski
DESCRIPTION:The February events will feature music from the decade of the aughts (2000-2009). \nEvent codes  ccent cckar cclm
URL:https://www.wlcnonline.com/event/karaoke-february-2026-theme-the-aughts-at-the-next-stop-saloon-in-mt-pulaski/2026-02-14/
LOCATION:The Next Stop Saloon in Mt. Pulaski\, 100 E. Cooke Street\, Mt. Pulaski\, IL\, 62548\, United States
END:VEVENT
BEGIN:VEVENT
DTSTART;TZID=America/Chicago:20260214T180000
DTEND;TZID=America/Chicago:20260214T220000
DTSTAMP:20260419T183842
CREATED:20260203T215904Z
LAST-MODIFIED:20260203T215904Z
UID:10022464-1771092000-1771106400@www.wlcnonline.com
SUMMARY:Glo-Bingo fundraiser by Emden American Legion Post #506 at Emden Community House
DESCRIPTION:Emden American Legion Post #506 will host an evening of Glo Bingo to raise money for the enhancement and fun of the communities of Emden and Hartsburg. \nThe event takes place Saturday\, February 14\, 2026 starting at 6 PM at the Emden Community House. Tickets cost $25 per person in advance or $30 per person at the door. Click here to buy tickets online by going to the linked page\, scrolling down and clicking the February 14 event in Emden and then completing your purchase. \nProceeds from the event will be split between the two communities and will be used to support beautification projects and provide seed money for projects/events such as homecoming parades. \nFunds from the 2025 event helped to fund: Aaron’s Balloons for Hartsburg Founder’s Day and Emden Homecoming\, Magician for Emden Homecoming\, planters and flowers for Hartsburg\, landscaping at Hartsburg Village Hall\, a rotating bookshelf for Whistle Stop Library\, and donations for participants and ink pens for the Emden Homecoming Parade. \nFor more information or to purchase tickets\, contact: Christy Cross at (217) 871-9805 or Lori Lessen at (217) 871-3762. \nEvent codes ccfdd ccbin
URL:https://www.wlcnonline.com/event/glo-bingo-fundraiser-by-emden-american-legion-post-506-at-emden-community-house/
LOCATION:Emden Community House\, 301 Lincoln Street\, Emden\, IL\, 62635\, United States
ORGANIZER;CN="Christy Cross":MAILTO:caja62@gmail.com
END:VEVENT
BEGIN:VEVENT
DTSTART;TZID=America/Chicago:20260214T180000
DTEND;TZID=America/Chicago:20260214T210000
DTSTAMP:20260419T183842
CREATED:20260205T194357Z
LAST-MODIFIED:20260205T194357Z
UID:10022483-1771092000-1771102800@www.wlcnonline.com
SUMMARY:Valentine's Day party by Recovery in Action at Hope on 5th in Lincoln
DESCRIPTION:This community Valentine’s party takes place at Hope on 5th in Lincoln and will be an evening of food\, fellowship and fun. The event is open to all to attend and enjoy the company of neighbors and friends. \nEvent codes ccsoc ccfb
URL:https://www.wlcnonline.com/event/valentines-day-party-by-recovery-in-action-at-hope-on-5th-in-lincoln/
LOCATION:Hope on 5th in Lincoln\, 200 5th Street\, Lincoln\, 62656\, United States
ORGANIZER;CN="Logan County Recovery-Oriented Systems of Care (ROSC)":MAILTO:loganmasonrosc@gmail.com
END:VEVENT
BEGIN:VEVENT
DTSTART;TZID=America/Chicago:20260214T180000
DTEND;TZID=America/Chicago:20260214T210000
DTSTAMP:20260419T183842
CREATED:20260205T175042Z
LAST-MODIFIED:20260205T175042Z
UID:10022474-1771092000-1771102800@www.wlcnonline.com
SUMMARY:Live music by Bell & Field featuring saxophonist Paul Weddle at Copper & Oak Bourbon and Craft Beer Bar in Lincoln
DESCRIPTION:Bell & Field will play many great love songs during this Valentine’s Day performance. The duo will be joined by saxophonist Paul Weddle\, who is a current member of The Classics IV and has toured with the Doobie Brothers\, B.B. King\, Three Dog Night and many others. \nEvent codes ccent cclm ccsoc ccfb
URL:https://www.wlcnonline.com/event/live-music-by-bell-field-featuring-saxophonist-paul-weddle-at-copper-oak-bourbon-and-craft-beer-bar-in-lincoln/
LOCATION:Copper & Oak in Lincoln\, 227 N. Kickapoo Street\, Lincoln\, IL\, 62656\, United States
END:VEVENT
BEGIN:VEVENT
DTSTART;TZID=America/Chicago:20260214T180000
DTEND;TZID=America/Chicago:20260214T190000
DTSTAMP:20260419T183842
CREATED:20250227T214713Z
LAST-MODIFIED:20251231T161900Z
UID:10021530-1771092000-1771095600@www.wlcnonline.com
SUMMARY:Alcoholics Anonymous meetings by Land of Lincoln Recovery Group at Hope on 5th in Lincoln
DESCRIPTION:Meetings are free to attend and take place at 6 PM on Tuesdays\, Wednesdays\, Fridays and Saturdays as well as at 9 AM on Saturdays and Sundays. \nEvent codes
URL:https://www.wlcnonline.com/event/alcoholics-anonymous-meetings-by-land-of-lincoln-recovery-group-at-hope-on-5th-in-lincoln/2026-02-14/
LOCATION:Hope on 5th in Lincoln\, 200 5th Street\, Lincoln\, 62656\, United States
ORGANIZER;CN="Logan Mason Recovery Oriented Systems of Care (ROSC)":MAILTO:jedavis@chestnut.org
END:VEVENT
BEGIN:VEVENT
DTSTART;TZID=America/Chicago:20260214T170000
DTEND;TZID=America/Chicago:20260214T213000
DTSTAMP:20260419T183842
CREATED:20260205T192656Z
LAST-MODIFIED:20260205T192656Z
UID:10022482-1771088400-1771104600@www.wlcnonline.com
SUMMARY:Valentine's Day dinner and dance sponsored by Mt. Pulaski Community Association at Mt. Pulaski American Legion Hall
DESCRIPTION:Appetizers start at 5 PM with dinner by Hilltop Catering starting at 6 PM. The dinner menu includes: \n\nBaked brown sugar glazed-pit smoked ham in apple cider with pineapple and grilled chicken breasts in savory sauce\nTwice baked potato casserole\nBacon seasoned green beans\nGarden rotini pasta salad\nGarden fresh salad with ranch and French dressings\nDinner rolls\nChocolate and white sheet cake\nWater\, lemonade and brewed iced tea\nCash bar available\n\nEntertainment by Party Cannon runs from 6:30 PM to 9:30 PM. Attendees must be 21 years of age. \nCost is $50 per person; RSVPs may be sent to Tricia Aylesworth at (217) 737-9670. \nEvent codes ccfa21 ccfb ccent ccdan
URL:https://www.wlcnonline.com/event/valentines-day-dinner-and-dance-sponsored-by-mt-pulaski-community-association-at-mt-pulaski-american-legion-hall/
LOCATION:Mt. Pulaski American Legion Hall\, 104 Scroggin Avenue\, Mt. Pulaski\, IL\, 62548\, United States
ORGANIZER;CN="Mt. Pulaski Community Association":MAILTO:mtpulaskibusinessassociation@gmail.com
END:VEVENT
BEGIN:VEVENT
DTSTART;TZID=America/Chicago:20260214T160000
DTEND;TZID=America/Chicago:20260214T200000
DTSTAMP:20260419T183842
CREATED:20260129T180822Z
LAST-MODIFIED:20260129T180822Z
UID:10022388-1771084800-1771099200@www.wlcnonline.com
SUMMARY:100th birthday celebration open house for Dorothy Haseley at American Legion Post #256 in Lincoln
DESCRIPTION:The Haseley family is hosting a 100th birthday celebration open house for Dorothy Haseley at the Lincoln American Legion. Dorothy worked at Wyse’s Carryout as well as Al’s Main Event. \nRod Teaney will play solo from 5 PM to 8 PM; a cash bar will be available. There will be some soft drinks and cake provided.  \nIn addition\, the family is making a group video for Dorothy’s birthday and is asking for help. Anyone who would like to be included is asked to record their own video birthday wishes or share any favorite memories they have to be included in the video. Those participating are asked to please be sure to introduce themselves. Videos and comments can be sent via email to dhbday100@gmail.com. \nEvent codes ccsoc ccfb cclm ccent
URL:https://www.wlcnonline.com/event/100th-birthday-celebration-open-house-for-dorothy-haseley-at-american-legion-post-256-in-lincoln/
LOCATION:Lincoln American Legion Post #263\, 1740 5th Street\, Lincoln\, IL\, 62656\, United States
ORGANIZER;CN="Nikki Chapman":MAILTO:nikk723@gmail.com
END:VEVENT
BEGIN:VEVENT
DTSTART;TZID=America/Chicago:20260214T110000
DTEND;TZID=America/Chicago:20260214T140000
DTSTAMP:20260419T183842
CREATED:20260205T191912Z
LAST-MODIFIED:20260205T191912Z
UID:10022481-1771066800-1771077600@www.wlcnonline.com
SUMMARY:Valentine's lunch for 2 at LaTeaDa Cafe/Barn Bar/event in Clinton
DESCRIPTION:This Valentine’s Day lunch for includes: \n\nan entrée\, a side and a beverage for each person\nan appetizer and a dessert to share\n\nCost for the lunch is $40. Reservations are suggested; call (217) 935-8855 for available seating time between 11 AM and 2 PM. \nEvent codes ccfb cclbep
URL:https://www.wlcnonline.com/event/valentines-lunch-for-2-at-lateada-cafe-barn-bar-event-in-clinton/
LOCATION:LaTeaDa Cafe/Barn Bar/Events in Clinton\, 1100 S. Madison Street\, Clinton\, IL\, 61727\, United States
ORGANIZER;CN="LaTeaDa Cafe/Barn Bar/Events":MAILTO:lateadaladies@gmail.com
END:VEVENT
BEGIN:VEVENT
DTSTART;TZID=America/Chicago:20260214T103000
DTEND;TZID=America/Chicago:20260214T123000
DTSTAMP:20260419T183842
CREATED:20260205T180659Z
LAST-MODIFIED:20260205T180659Z
UID:10022477-1771065000-1771072200@www.wlcnonline.com
SUMMARY:Book signing by local author Linda Kropp at Waynesville Township Library
DESCRIPTION:Local author Linda Kropp will be on hand for conversation and to sign copies of her book featuring stories of her faith journey as told through her eyes as a gardener. \nEvent codes ccedu
URL:https://www.wlcnonline.com/event/book-signing-by-local-author-linda-kropp-at-waynesville-township-library/
LOCATION:Waynesville Township Library\, 303 E. Second Street\, Waynesville\, IL\, 61778\, United States
ORGANIZER;CN="Waynesville Township Library":MAILTO:waytlib@hotmail.com
END:VEVENT
BEGIN:VEVENT
DTSTART;TZID=America/Chicago:20260214T090000
DTEND;TZID=America/Chicago:20260214T100000
DTSTAMP:20260419T183842
CREATED:20250227T214918Z
LAST-MODIFIED:20251231T162155Z
UID:10021620-1771059600-1771063200@www.wlcnonline.com
SUMMARY:Alcoholics Anonymous meetings by Land of Lincoln Recovery Group at Hope on 5th in Lincoln
DESCRIPTION:Meetings are free to attend and take place at 6 PM on Tuesdays\, Wednesdays\, Fridays and Saturdays as well as at 9 AM on Saturdays and Sundays. \nEvent codes
URL:https://www.wlcnonline.com/event/alcoholics-anonymous-meetings-by-land-of-lincoln-recovery-group-at-hope-on-5th-in-lincoln-2/2026-02-14/
LOCATION:Hope on 5th in Lincoln\, 200 5th Street\, Lincoln\, 62656\, United States
ORGANIZER;CN="Logan Mason Recovery Oriented Systems of Care (ROSC)":MAILTO:jedavis@chestnut.org
END:VEVENT
BEGIN:VEVENT
DTSTART;TZID=America/Chicago:20260214T080000
DTEND;TZID=America/Chicago:20260214T100000
DTSTAMP:20260419T183842
CREATED:20250717T144857Z
LAST-MODIFIED:20260416T222931Z
UID:10022512-1771056000-1771063200@www.wlcnonline.com
SUMMARY:Precision Church: Faith + Fitness workout session at Precision Movement in Lincoln
DESCRIPTION:This event mixes faith and fitness to strengthen both bodies and spirits. The free event is open to the public; attendees do not have to be a Precision Fitness member to come break a sweat\, share positive energy and connect with others. \nThe event starts with prayer\, a group workout session suitable for all fitness levels\, followed by a time of fellowship and reflection. \nEvent codes cchwf ccrel
URL:https://www.wlcnonline.com/event/precision-church-faith-fitness-workout-session-at-precision-movement-in-lincoln-8/2026-02-14/
LOCATION:Precision Movement in Lincoln\, 1417 N. Kickapoo Street\, Lincoln\, IL\, 62656\, United States
ORGANIZER;CN="Precision Movement in Lincoln":MAILTO:ashley@precision-movement.com
END:VEVENT
BEGIN:VEVENT
DTSTART;TZID=America/Chicago:20260213T181500
DTEND;TZID=America/Chicago:20260213T191500
DTSTAMP:20260419T183842
CREATED:20260205T182812Z
LAST-MODIFIED:20260205T182812Z
UID:10022479-1771006500-1771010100@www.wlcnonline.com
SUMMARY:Galentines and Valentines reformer workout at Imago del Pilates in Lincoln
DESCRIPTION:Both participants will enjoy a 60 minute reformer workout along with a special Valentine treat for only $35 per pair. \nNote: tickets are sold separately from memberships and punch packs; click here to access the Imago del Pilates web site. For the Reformers for two events\, simply go to the February 13 date\, then book one slot for the 5 PM or 6:15 PM Galentines & Valentines session. \nEvent codes cchwf
URL:https://www.wlcnonline.com/event/galentines-and-valentines-reformer-workout-at-imago-del-pilates-in-lincoln/2026-02-13/2/
LOCATION:Imago Dei Pilates Studio at the Dugan Center in Lincoln\, 1500 N McLean Street\, Suite 5\, Lincoln\, 62656\, United States
ORGANIZER;CN="Imago Dei Pilates":MAILTO:info@imagopilates.com
END:VEVENT
END:VCALENDAR