BEGIN:VCALENDAR
VERSION:2.0
PRODID:-//WLCN 96.3 FM - ECPv6.15.20//NONSGML v1.0//EN
CALSCALE:GREGORIAN
METHOD:PUBLISH
X-WR-CALNAME:WLCN 96.3 FM
X-ORIGINAL-URL:https://www.wlcnonline.com
X-WR-CALDESC:Events for WLCN 96.3 FM
REFRESH-INTERVAL;VALUE=DURATION:PT1H
X-Robots-Tag:noindex
X-PUBLISHED-TTL:PT1H
BEGIN:VTIMEZONE
TZID:America/Chicago
BEGIN:DAYLIGHT
TZOFFSETFROM:-0600
TZOFFSETTO:-0500
TZNAME:CDT
DTSTART:20240310T080000
END:DAYLIGHT
BEGIN:STANDARD
TZOFFSETFROM:-0500
TZOFFSETTO:-0600
TZNAME:CST
DTSTART:20241103T070000
END:STANDARD
BEGIN:DAYLIGHT
TZOFFSETFROM:-0600
TZOFFSETTO:-0500
TZNAME:CDT
DTSTART:20250309T080000
END:DAYLIGHT
BEGIN:STANDARD
TZOFFSETFROM:-0500
TZOFFSETTO:-0600
TZNAME:CST
DTSTART:20251102T070000
END:STANDARD
BEGIN:DAYLIGHT
TZOFFSETFROM:-0600
TZOFFSETTO:-0500
TZNAME:CDT
DTSTART:20260308T080000
END:DAYLIGHT
BEGIN:STANDARD
TZOFFSETFROM:-0500
TZOFFSETTO:-0600
TZNAME:CST
DTSTART:20261101T070000
END:STANDARD
END:VTIMEZONE
BEGIN:VEVENT
DTSTART;TZID=America/Chicago:20250501T100000
DTEND;TZID=America/Chicago:20250501T104500
DTSTAMP:20260420T082902
CREATED:20250109T220309Z
LAST-MODIFIED:20250403T210913Z
UID:10019874-1746093600-1746096300@www.wlcnonline.com
SUMMARY:Fall prevention/balance building class by Silver Fox Fitness at Lincoln YMCA
DESCRIPTION:This class is designed for participants to build strength and endurance to help with building balance and preventing falls. \nEvent codes cchwf ccsen
URL:https://www.wlcnonline.com/event/fall-prevention-balance-building-class-by-silver-fox-fitness-at-lincoln-ymca-2/2025-05-01/
LOCATION:Lincoln Area YMCA\, 719 Wyatt Avenue\, Lincoln\, IL\, 62656\, United States
END:VEVENT
BEGIN:VEVENT
DTSTART;VALUE=DATE:20250501
DTEND;VALUE=DATE:20250503
DTSTAMP:20260420T082902
CREATED:20250417T133059Z
LAST-MODIFIED:20250417T133059Z
UID:10019913-1746068400-1746154799@www.wlcnonline.com
SUMMARY:May "Miles of Sunshine Challenge" month-long virtual walking event by LMH Community Health Collaborative
DESCRIPTION:Participants are invited to step into spring with Miles of Sunshine\, a month-long walking challenge running the entire month of May 2025. Participants can track their cumulative miles using the Pacer 4 Teams app (free to all participants). Click this link to visit the information page about the event; use your phone to scan the QR code on that page to download the Pacer app and join the challenge. Participants who walk 75\, 125\, 175\, or 225 miles will earn a special club-level T-shirt. \nEvent codes ccfre cchwf
URL:https://www.wlcnonline.com/event/may-miles-of-sunshine-challenge-month-long-virtual-walking-event-by-lmh-community-health-collaborative/2025-05-01/
LOCATION:IL
END:VEVENT
BEGIN:VEVENT
DTSTART;TZID=America/Chicago:20250430T180000
DTEND;TZID=America/Chicago:20250430T190000
DTSTAMP:20260420T082902
CREATED:20250423T160306Z
LAST-MODIFIED:20250425T050736Z
UID:10019969-1746036000-1746039600@www.wlcnonline.com
SUMMARY:Weight loss challenge at LoCo Nutrition in Lincoln
DESCRIPTION:This weekly program runs through June 4 and can be used by participants to lose weight\, gain energy\, or just feel their best. \nEvent codes cchwf cclbep
URL:https://www.wlcnonline.com/event/weight-loss-challenge-at-loco-nutrition-in-lincoln/2025-04-30/
LOCATION:LoCo Nutrition in Lincoln\, 622 N. Chicago Street\, Lincoln\, IL\, 62656\, United States
END:VEVENT
BEGIN:VEVENT
DTSTART;TZID=America/Chicago:20250430T180000
DTEND;TZID=America/Chicago:20250430T190000
DTSTAMP:20260420T082902
CREATED:20250227T221550Z
LAST-MODIFIED:20251231T171533Z
UID:10019555-1746036000-1746039600@www.wlcnonline.com
SUMMARY:Odds & Ends peer recovery support group meeting at Hardee's in Havana
DESCRIPTION:Meetings are free to attend and take place Wednesdays at 6 PM. \nEvent codes
URL:https://www.wlcnonline.com/event/odds-ends-peer-recovery-support-group-meeting-at-hardees-in-havana/2025-04-30/
LOCATION:Hardee’s in Havana\, 401 W. Dearborn Street\, Havana\, 62644\, United States
ORGANIZER;CN="Logan Mason Recovery Oriented Systems of Care (ROSC)":MAILTO:jedavis@chestnut.org
END:VEVENT
BEGIN:VEVENT
DTSTART;TZID=America/Chicago:20250430T180000
DTEND;TZID=America/Chicago:20250430T190000
DTSTAMP:20260420T082902
CREATED:20250227T220829Z
LAST-MODIFIED:20251231T164443Z
UID:10019381-1746036000-1746039600@www.wlcnonline.com
SUMMARY:Alcoholics Anonymous meetings at Trinity Episcopal Church in Lincoln
DESCRIPTION:Meetings are free to attend and take place at the following times: \n\nMondays at 7 PM\nWednesdays at 6 PM\nFridays at 11 AM\nSundays at 6 PM\n\nEvent codes
URL:https://www.wlcnonline.com/event/alcoholics-anonymous-meetings-at-trinity-episcopal-church-in-lincoln-2/2025-04-30/
LOCATION:Trinity Episcopal Church in Lincoln\, 402 Pekin Street\, Lincoln\, 62656\, United States
ORGANIZER;CN="Logan Mason Recovery Oriented Systems of Care (ROSC)":MAILTO:jedavis@chestnut.org
END:VEVENT
BEGIN:VEVENT
DTSTART;TZID=America/Chicago:20250430T180000
DTEND;TZID=America/Chicago:20250430T190000
DTSTAMP:20260420T082902
CREATED:20250227T214713Z
LAST-MODIFIED:20251231T161900Z
UID:10018949-1746036000-1746039600@www.wlcnonline.com
SUMMARY:Alcoholics Anonymous meetings by Land of Lincoln Recovery Group at Hope on 5th in Lincoln
DESCRIPTION:Meetings are free to attend and take place at 6 PM on Tuesdays\, Wednesdays\, Fridays and Saturdays as well as at 9 AM on Saturdays and Sundays. \nEvent codes
URL:https://www.wlcnonline.com/event/alcoholics-anonymous-meetings-by-land-of-lincoln-recovery-group-at-hope-on-5th-in-lincoln/2025-04-30/
LOCATION:Hope on 5th in Lincoln\, 200 5th Street\, Lincoln\, 62656\, United States
ORGANIZER;CN="Logan Mason Recovery Oriented Systems of Care (ROSC)":MAILTO:jedavis@chestnut.org
END:VEVENT
BEGIN:VEVENT
DTSTART;TZID=America/Chicago:20250430T170000
DTEND;TZID=America/Chicago:20250430T170000
DTSTAMP:20260420T082903
CREATED:20250425T035812Z
LAST-MODIFIED:20250425T035812Z
UID:10019981-1746032400-1746032400@www.wlcnonline.com
SUMMARY:Land of Lincoln CEO Trade Show (10th year celebration) at Lincoln American Legion
DESCRIPTION:Students of Land of Lincoln CEO organization will host the 10th LLCEO Trade Show showcasing their new businesses\, including: \n\nCanine Confections – Dog Treats\nEarthy Chick Boutique\nKoehler Lawn Care\nMedrano Media – Content Production\nPawsitive Steps – Dog Walking\nRugify Custom Rugwork\nTrue Detail Car Detailing\nWild Ivy – Custom Wear\n\nThere will be snacks as well as door prizes. \nEvent codes ccedu cclbep
URL:https://www.wlcnonline.com/event/land-of-lincoln-ceo-trade-show-10th-year-celebration-at-lincoln-american-legion/
LOCATION:Lincoln American Legion Post #263\, 1740 5th Street\, Lincoln\, IL\, 62656\, United States
END:VEVENT
BEGIN:VEVENT
DTSTART;TZID=America/Chicago:20250429T180000
DTEND;TZID=America/Chicago:20250429T190000
DTSTAMP:20260420T082903
CREATED:20250227T214713Z
LAST-MODIFIED:20251231T161900Z
UID:10018948-1745949600-1745953200@www.wlcnonline.com
SUMMARY:Alcoholics Anonymous meetings by Land of Lincoln Recovery Group at Hope on 5th in Lincoln
DESCRIPTION:Meetings are free to attend and take place at 6 PM on Tuesdays\, Wednesdays\, Fridays and Saturdays as well as at 9 AM on Saturdays and Sundays. \nEvent codes
URL:https://www.wlcnonline.com/event/alcoholics-anonymous-meetings-by-land-of-lincoln-recovery-group-at-hope-on-5th-in-lincoln/2025-04-29/
LOCATION:Hope on 5th in Lincoln\, 200 5th Street\, Lincoln\, 62656\, United States
ORGANIZER;CN="Logan Mason Recovery Oriented Systems of Care (ROSC)":MAILTO:jedavis@chestnut.org
END:VEVENT
BEGIN:VEVENT
DTSTART;TZID=America/Chicago:20250429T170000
DTEND;TZID=America/Chicago:20250429T203000
DTSTAMP:20260420T082903
CREATED:20250220T233455Z
LAST-MODIFIED:20251231T163935Z
UID:10018856-1745946000-1745958600@www.wlcnonline.com
SUMMARY:Tuesday night bingo (meal @ 5 PM\, bingo @ 6:30 PM) at Oasis Senior Center in Lincoln﻿
DESCRIPTION:Bingo takes place on Tuesday evenings from 6:30 PM to 8:30 PM and is open to the public. Doors open at 5 PM for a meal\, snack and beverages. \nEvent codes ccgc ccbin ccfb ccsoc
URL:https://www.wlcnonline.com/event/tuesday-night-bingo-meal-5-pm-bingo-630-pm-at-oasis-senior-center-in-lincoln/2025-04-29/
LOCATION:Oasis Senior Center\, 2810 Woodlawn Road\, Lincoln\, IL\, 62656\, United States
ORGANIZER;CN="Oasis Senior Center":MAILTO:nancy@oasisseniorcenter.com
END:VEVENT
BEGIN:VEVENT
DTSTART;TZID=America/Chicago:20250429T170000
DTEND;TZID=America/Chicago:20250429T200000
DTSTAMP:20260420T082903
CREATED:20250425T034822Z
LAST-MODIFIED:20250425T034822Z
UID:10019980-1745946000-1745956800@www.wlcnonline.com
SUMMARY:Fundraiser for Salvation Army Lincoln 360 Life Center at Culver's of Lincoln
DESCRIPTION:Purchase food from Culver’s of Lincoln and help support a worthy cause whether dining in\, carrying out\, using the drive-thru or ordering through DoorDash. During the hours of the fundraiser\, a portion of all proceeds will be donated to the organization. \nEvent codes ccfb\, ccfdd
URL:https://www.wlcnonline.com/event/fundraiser-for-salvation-army-lincoln-360-life-center-at-culvers-of-lincoln/
LOCATION:Culver’s of Lincoln\, 2530 Woodlawn Road\, Lincoln\, IL\, 62656\, United States
ORGANIZER;CN="Culver's of Lincoln":MAILTO:lincolnculvers@comcast.net
END:VEVENT
BEGIN:VEVENT
DTSTART;TZID=America/Chicago:20250429T090000
DTEND;TZID=America/Chicago:20250429T140000
DTSTAMP:20260420T082903
CREATED:20250425T043641Z
LAST-MODIFIED:20250425T043641Z
UID:10019994-1745917200-1745935200@www.wlcnonline.com
SUMMARY:Community blood drive at Illini Central High School in Mason City
DESCRIPTION:Donations can be made between 9 AM and 2 PM. Click here to reserve a time online. \nEvent codes: ccbld\, ccserv
URL:https://www.wlcnonline.com/event/community-blood-drive-at-illini-central-high-school-in-mason-city/
LOCATION:Illini Central High School\, 208 Northwest Avenue\, Mason City\, IL\, 62664\, United States
END:VEVENT
BEGIN:VEVENT
DTSTART;TZID=America/Chicago:20250428T190000
DTEND;TZID=America/Chicago:20250428T200000
DTSTAMP:20260420T082903
CREATED:20250227T220659Z
LAST-MODIFIED:20251231T163725Z
UID:10019337-1745866800-1745870400@www.wlcnonline.com
SUMMARY:Alcoholics Anonymous meetings at Trinity Episcopal Church in Lincoln
DESCRIPTION:Meetings are free to attend and take place at the following times: \n\nMondays at 7 PM\nWednesdays at 6 PM\nFridays at 11 AM\nSundays at 6 PM\n\nEvent codes
URL:https://www.wlcnonline.com/event/alcoholics-anonymous-meetings-at-trinity-episcopal-church-in-lincoln/2025-04-28/
LOCATION:Trinity Episcopal Church in Lincoln\, 402 Pekin Street\, Lincoln\, 62656\, United States
ORGANIZER;CN="Logan Mason Recovery Oriented Systems of Care (ROSC)":MAILTO:jedavis@chestnut.org
END:VEVENT
BEGIN:VEVENT
DTSTART;TZID=America/Chicago:20250428T180000
DTEND;TZID=America/Chicago:20250428T200000
DTSTAMP:20260420T082903
CREATED:20240926T041522Z
LAST-MODIFIED:20240926T041522Z
UID:10016847-1745863200-1745870400@www.wlcnonline.com
SUMMARY:Xtreme Bar Bingo at Stag R Inn in Emden
DESCRIPTION:Enjoy Xtreme Bar Bingo along with drink and food specials each week. Participants will have the chance to win prizes and cash. \nEvent codes: ccgc\, ccsoc ccbin
URL:https://www.wlcnonline.com/event/xtreme-bar-bingo-at-stag-r-inn-in-emden-2/2025-04-28/
LOCATION:Stag R Inn in Emden\, 102 Lincoln Street\, Emden\, IL\, 62635\, United States
END:VEVENT
BEGIN:VEVENT
DTSTART;TZID=America/Chicago:20250428T180000
DTEND;TZID=America/Chicago:20250428T190000
DTSTAMP:20260420T082903
CREATED:20250227T215503Z
LAST-MODIFIED:20251231T163530Z
UID:10019230-1745863200-1745866800@www.wlcnonline.com
SUMMARY:Co-Dependents Anonymous (CoDA) meetings by Land of Lincoln Recovery Group at Hope on 5th in Lincoln
DESCRIPTION:Meetings are free to attend and take place at 6 PM Mondays. \nEvent codes
URL:https://www.wlcnonline.com/event/co-dependents-anonymous-coda-meetings-by-land-of-lincoln-recovery-group-at-hope-on-5th-in-lincoln/2025-04-28/
LOCATION:Hope on 5th in Lincoln\, 200 5th Street\, Lincoln\, 62656\, United States
ORGANIZER;CN="Logan Mason Recovery Oriented Systems of Care (ROSC)":MAILTO:jedavis@chestnut.org
END:VEVENT
BEGIN:VEVENT
DTSTART;TZID=America/Chicago:20250428T160000
DTEND;TZID=America/Chicago:20250428T164500
DTSTAMP:20260420T082903
CREATED:20250327T011644Z
LAST-MODIFIED:20250327T011644Z
UID:10019768-1745856000-1745858700@www.wlcnonline.com
SUMMARY:Chair yoga by Silver Fox Fitness at Oasis Senior Center in Lincoln﻿
DESCRIPTION:Seated and standing poses will be utilized with the goal of increasing flexibility\, balance and strength along with providing relaxation. Participants never get down on the floor. \nEvent codes: ccfs\, cchwf
URL:https://www.wlcnonline.com/event/chair-yoga-by-silver-fox-fitness-at-oasis-senior-center-in-lincoln-2/2025-04-28/
LOCATION:Oasis Senior Center\, 2810 Woodlawn Road\, Lincoln\, IL\, 62656\, United States
END:VEVENT
BEGIN:VEVENT
DTSTART;TZID=America/Chicago:20250428T110000
DTEND;TZID=America/Chicago:20250428T150000
DTSTAMP:20260420T082903
CREATED:20250425T034542Z
LAST-MODIFIED:20250425T034542Z
UID:10019979-1745838000-1745852400@www.wlcnonline.com
SUMMARY:Community blood drive at Lincoln Memorial Hospital
DESCRIPTION:The drive will take place in the Steinfort Conference Rooms at the hospital. \nEvent codes: ccbld ccserv
URL:https://www.wlcnonline.com/event/community-blood-drive-at-lincoln-memorial-hospital/
LOCATION:Steinfort Conference Rooms at Lincoln Memorial Hospital\, 200 Stahlhut Drive\, Lincoln\, IL\, 62656\, United States
END:VEVENT
BEGIN:VEVENT
DTSTART;TZID=America/Chicago:20250428T100000
DTEND;TZID=America/Chicago:20250428T104500
DTSTAMP:20260420T082903
CREATED:20250403T194442Z
LAST-MODIFIED:20250403T194442Z
UID:10019849-1745834400-1745837100@www.wlcnonline.com
SUMMARY:Chair yoga by Silver Fox Fitness at Lincoln VFW Hall
DESCRIPTION:Seated and standing poses will be utilized with the goal of increasing flexibility\, balance and strength along with providing relaxation. Participants never get down on the floor. \nEvent codes: ccfs\, cchwf
URL:https://www.wlcnonline.com/event/chair-yoga-by-silver-fox-fitness-at-lincoln-vfw-hall/2025-04-28/
LOCATION:VFW Post 1756 Freedom Hall Event Center in Lincoln\, 915 5th Street\, Lincoln\, IL\, 62656\, United States
END:VEVENT
BEGIN:VEVENT
DTSTART;TZID=America/Chicago:20250427T180000
DTEND;TZID=America/Chicago:20250427T190000
DTSTAMP:20260420T082903
CREATED:20250227T221038Z
LAST-MODIFIED:20251231T162443Z
UID:10019468-1745776800-1745780400@www.wlcnonline.com
SUMMARY:Alcoholics Anonymous meetings at Trinity Episcopal Church in Lincoln
DESCRIPTION:Meetings are free to attend and take place at the following times: \n\nMondays at 7 PM\nWednesdays at 6 PM\nFridays at 11 AM\nSundays at 6 PM\n\nEvent codes
URL:https://www.wlcnonline.com/event/alcoholics-anonymous-meetings-at-trinity-episcopal-church-in-lincoln-4/2025-04-27/
LOCATION:Trinity Episcopal Church in Lincoln\, 402 Pekin Street\, Lincoln\, 62656\, United States
ORGANIZER;CN="Logan Mason Recovery Oriented Systems of Care (ROSC)":MAILTO:jedavis@chestnut.org
END:VEVENT
BEGIN:VEVENT
DTSTART;TZID=America/Chicago:20250427T170000
DTEND;TZID=America/Chicago:20250427T180000
DTSTAMP:20260420T082903
CREATED:20250227T215139Z
LAST-MODIFIED:20251231T162319Z
UID:10019643-1745773200-1745776800@www.wlcnonline.com
SUMMARY:Narcotics Anonymous meetings by Land of Lincoln Recovery Group at Hope on 5th in Lincoln
DESCRIPTION:Meetings are free to attend and take place at 6 PM Thursdays as well as at 5 PM on Sundays. \nEvent codes
URL:https://www.wlcnonline.com/event/narcotics-anonymous-meetings-by-land-of-lincoln-recovery-group-at-hope-on-5th-in-lincoln/2025-04-27/
LOCATION:Hope on 5th in Lincoln\, 200 5th Street\, Lincoln\, 62656\, United States
ORGANIZER;CN="Logan Mason Recovery Oriented Systems of Care (ROSC)":MAILTO:jedavis@chestnut.org
END:VEVENT
BEGIN:VEVENT
DTSTART;TZID=America/Chicago:20250427T140000
DTEND;TZID=America/Chicago:20250427T160000
DTSTAMP:20260420T082903
CREATED:20240607T073345Z
LAST-MODIFIED:20251231T163021Z
UID:10016980-1745762400-1745769600@www.wlcnonline.com
SUMMARY:Xtreme Bar Bingo at The Next Stop Saloon in Mt. Pulaski
DESCRIPTION:Games take place every Sunday from 2 PM to 4 PM. \nEvent codes ccfb ccbin
URL:https://www.wlcnonline.com/event/xtreme-bar-bingo-at-the-next-stop-saloon-in-mt-pulaski/2025-04-27/
LOCATION:The Next Stop Saloon in Mt. Pulaski\, 100 E. Cooke Street\, Mt. Pulaski\, IL\, 62548\, United States
END:VEVENT
BEGIN:VEVENT
DTSTART;TZID=America/Chicago:20250427T130000
DTEND;TZID=America/Chicago:20250427T150000
DTSTAMP:20260420T082903
CREATED:20250417T201515Z
LAST-MODIFIED:20250417T201515Z
UID:10019966-1745758800-1745766000@www.wlcnonline.com
SUMMARY:Quarter auction by San Jose Quarter Frenzy raising funds for the San Jose back-to-school giveaway at San Jose United Methodist Church﻿
DESCRIPTION:Each vendor will have 4 items (one is a donation item) to be placed in the frenzy. Each item will be raffled off one at a time. A listing of all items up for bid for the afternoon will be provided and will include the number of quarters necessary to try to win. \nThose arriving will purchase a paddle(s) that will have numbers on them. The paddles are $1 each and individuals may purchase as many as they like. \nAll proceeds from the paddle sales\, donation item quarters and vendor fees go to a different charity/cause each month! This month\, proceeds will benefit the 10th annual San Jose back-to-school giveaway. \nDoors open at noon; attendees can buy lunch and chat with vendors. The frenzy event starts at 1 PM. \nProceeds from lunch go to Team Matthew. \nEvent codes ccfb ccfdd
URL:https://www.wlcnonline.com/event/quarter-auction-by-san-jose-quarter-frenzy-raising-funds-for-the-san-jose-back-to-school-giveaway-at-san-jose-united-methodist-church/
LOCATION:San Jose United Methodist Church\, 600 S. First Street\, San Jose\, IL\, 62682\, United States
ORGANIZER;CN="Nancy Martin/San Jose Quarter Frenzy":MAILTO:nmartin23@gmail.com
END:VEVENT
BEGIN:VEVENT
DTSTART;TZID=America/Chicago:20250427T100000
DTEND;TZID=America/Chicago:20250427T100000
DTSTAMP:20260420T082904
CREATED:20250408T144931Z
LAST-MODIFIED:20250424T140117Z
UID:10019888-1745748000-1745748000@www.wlcnonline.com
SUMMARY:Oxen plowing at McLean Community Garden in McLean
DESCRIPTION:This event was rescheduled from April 19 to April 27; the start time was also changed from 9 AM to 10 AM. \nThe public is invited to watch an oxen team plow the new McLean Community Garden. Ruth and her oxen team\, Clark and Sparky\, will start plowing at 10 AM. \nThe community garden is located south of the Route 66 curve at East Carlisle Street and South Stewart Street in McLean. \nEvent codes ccsoc ccfre ccff ccfce
URL:https://www.wlcnonline.com/event/oxen-plowing-at-mclean-community-garden-in-mclean/
LOCATION:McLean Community Garden\, Corner of E. Carlisle St. and S. Stewart St\, McLean\, 61754\, United States
ORGANIZER;CN="CORE of McLean":MAILTO:info@coreofmclean.org
END:VEVENT
BEGIN:VEVENT
DTSTART;TZID=America/Chicago:20250427T090000
DTEND;TZID=America/Chicago:20250427T100000
DTSTAMP:20260420T082904
CREATED:20250227T214918Z
LAST-MODIFIED:20251231T162155Z
UID:10019107-1745744400-1745748000@www.wlcnonline.com
SUMMARY:Alcoholics Anonymous meetings by Land of Lincoln Recovery Group at Hope on 5th in Lincoln
DESCRIPTION:Meetings are free to attend and take place at 6 PM on Tuesdays\, Wednesdays\, Fridays and Saturdays as well as at 9 AM on Saturdays and Sundays. \nEvent codes
URL:https://www.wlcnonline.com/event/alcoholics-anonymous-meetings-by-land-of-lincoln-recovery-group-at-hope-on-5th-in-lincoln-2/2025-04-27/
LOCATION:Hope on 5th in Lincoln\, 200 5th Street\, Lincoln\, 62656\, United States
ORGANIZER;CN="Logan Mason Recovery Oriented Systems of Care (ROSC)":MAILTO:jedavis@chestnut.org
END:VEVENT
BEGIN:VEVENT
DTSTART;TZID=America/Chicago:20250426T190000
DTEND;TZID=America/Chicago:20250426T230000
DTSTAMP:20260420T082904
CREATED:20250425T034338Z
LAST-MODIFIED:20250425T034338Z
UID:10019978-1745694000-1745708400@www.wlcnonline.com
SUMMARY:Live music by Green Diamond Express at Clinton Eagles #593 Lodge in Clinton
DESCRIPTION:Join Green Diamond Express at the Clinton Eagles Lodge\, located at 220 N. Center Street in Clinton. \nEvent codes ccfb ccent cclm
URL:https://www.wlcnonline.com/event/live-music-by-green-diamond-express-at-clinton-eagles-593-lodge-in-clinton/
LOCATION:Eagles Lodge in Clinton\, 220 N Center Street\, Clinton\, IL\, 61727\, United States
END:VEVENT
BEGIN:VEVENT
DTSTART;TZID=America/Chicago:20250426T190000
DTEND;TZID=America/Chicago:20250426T220000
DTSTAMP:20260420T082904
CREATED:20250417T001209Z
LAST-MODIFIED:20250417T001209Z
UID:10019909-1745694000-1745704800@www.wlcnonline.com
SUMMARY:Adult prom fundraising event for Lincoln Park District Foundation at Lincoln Park District
DESCRIPTION:Dress in your formal or semi-formal wear and dance the night away while supporting a worthy cause. Young Dance Inc. will deejay music for attendees; proceeds benefit the Lincoln Park District Foundation. \nCost is $15 for individuals and $20 for couples; click here to purchase tickets online \nEvent codes cchwf ccfdd ccfdd ccdj ccdnc
URL:https://www.wlcnonline.com/event/adult-prom-fundraising-event-for-lincoln-park-district-foundation-at-lincoln-park-district/
LOCATION:Lincoln Park District\, 1400 Primm Road\, Lincoln\, IL\, 62656\, United States
ORGANIZER;CN="Lincoln Park District Foundation":MAILTO:info@lincolnparkdistrict.com
END:VEVENT
BEGIN:VEVENT
DTSTART;TZID=America/Chicago:20250426T180000
DTEND;TZID=America/Chicago:20250426T220000
DTSTAMP:20260420T082904
CREATED:20250416T232135Z
LAST-MODIFIED:20250416T232135Z
UID:10019904-1745690400-1745704800@www.wlcnonline.com
SUMMARY:2025 Cheeseburger in Paradise: The Last Bite fundraising event for Community Action Partnership of Central Illinois at Lincoln Banquet Center
DESCRIPTION:Help celebrate 20 years of fun\, food and memories at CAPCIL’s final Cheeseburger in Paradise event. At “The Last Bite\,” there will once again be food and music as well as heartfelt gratitude for all the support over the years. \nClick here to purchase tickets to the event. \nEvent codes ccsoc ccfb ccfdd
URL:https://www.wlcnonline.com/event/2025-cheeseburger-in-paradise-the-last-bite-fundraising-event-for-community-action-partnership-of-central-illinois-at-lincoln-banquet-center/
LOCATION:Lincoln Banquet Center\, 201 Madigan Drive\, Lincoln\, IL\, 62656\, United States
ORGANIZER;CN="Community Action Partnership of Central Illinois (CAPCIL)":MAILTO:btitus@capcil.org
END:VEVENT
BEGIN:VEVENT
DTSTART;TZID=America/Chicago:20250426T180000
DTEND;TZID=America/Chicago:20250426T190000
DTSTAMP:20260420T082904
CREATED:20250227T214713Z
LAST-MODIFIED:20251231T161900Z
UID:10018947-1745690400-1745694000@www.wlcnonline.com
SUMMARY:Alcoholics Anonymous meetings by Land of Lincoln Recovery Group at Hope on 5th in Lincoln
DESCRIPTION:Meetings are free to attend and take place at 6 PM on Tuesdays\, Wednesdays\, Fridays and Saturdays as well as at 9 AM on Saturdays and Sundays. \nEvent codes
URL:https://www.wlcnonline.com/event/alcoholics-anonymous-meetings-by-land-of-lincoln-recovery-group-at-hope-on-5th-in-lincoln/2025-04-26/
LOCATION:Hope on 5th in Lincoln\, 200 5th Street\, Lincoln\, 62656\, United States
ORGANIZER;CN="Logan Mason Recovery Oriented Systems of Care (ROSC)":MAILTO:jedavis@chestnut.org
END:VEVENT
BEGIN:VEVENT
DTSTART;TZID=America/Chicago:20250426T150000
DTEND;TZID=America/Chicago:20250426T210000
DTSTAMP:20260420T082904
CREATED:20250416T234732Z
LAST-MODIFIED:20250416T234732Z
UID:10019907-1745679600-1745701200@www.wlcnonline.com
SUMMARY:Puzzle tournament at Oasis Senior Center in Lincoln
DESCRIPTION:Teams of three to five members can participate; entry fee is $50 per team. 500-piece puzzles will be provided to each team; those interested can register at the Oasis by April 15. Prizes will be awarded for for 1st\, 2nd\, and 3rd place. \nEvent codes ccgc
URL:https://www.wlcnonline.com/event/puzzle-tournament-at-oasis-senior-center-in-lincoln/
LOCATION:Oasis Senior Center\, 2810 Woodlawn Road\, Lincoln\, IL\, 62656\, United States
ORGANIZER;CN="Oasis Senior Center":MAILTO:nancy@oasisseniorcenter.com
END:VEVENT
BEGIN:VEVENT
DTSTART;TZID=America/Chicago:20250426T130000
DTEND;TZID=America/Chicago:20250426T160000
DTSTAMP:20260420T082904
CREATED:20250417T000128Z
LAST-MODIFIED:20250417T001248Z
UID:10019908-1745672400-1745683200@www.wlcnonline.com
SUMMARY:Beginner ballroom dance lessons by Young Dance Inc. at Lincoln Park District
DESCRIPTION:Young Dance Inc. and Lincoln Park District have teamed up to host an afternoon of social dance classes with proceeds benefiting the Lincoln Park District Foundation. The schedule of events is:\n1 PM – Waltz\n2 PM – FoxTrot\n3 PM – Nightclub \nDoors open at 12:45 PM. Cost is $15 for individuals and $25 per couple and covers the cost of instruction for all three classes. \nLater in the day following the classes\, the Park District will host an Adult Prom event from 7 PM to 10 PM. The Adult Prom is a separate event and requires separate tickets; click here for more information. \nContact the Lincoln Park District to register. Proceeds from the event benefit the Lincoln Park District Foundation. \nEvent codes cchwf ccfdd ccfdd ccdj ccdnc
URL:https://www.wlcnonline.com/event/beginner-ballroom-dance-lessons-by-young-dance-inc-at-lincoln-park-district/
LOCATION:Lincoln Park District\, 1400 Primm Road\, Lincoln\, IL\, 62656\, United States
ORGANIZER;CN="Lincoln Park District":MAILTO:info@lincolnparkdistrict.com
END:VEVENT
BEGIN:VEVENT
DTSTART;TZID=America/Chicago:20250426T130000
DTEND;TZID=America/Chicago:20250426T130000
DTSTAMP:20260420T082904
CREATED:20250403T205521Z
LAST-MODIFIED:20250425T033352Z
UID:10019869-1745672400-1745672400@www.wlcnonline.com
SUMMARY:Easter egg hunt for Logan County kids 12 and under by Salt Creek ABATE at Knights of Columbus Hall in Lincoln
DESCRIPTION:The event was rescheduled from April 19 to April 26 due to the inclement weather. The event is for kids 12 years of age and younger residing in Logan County. Kids should bring their own baskets. There will be a grand prize for each age group. \nEvent codes ccea ccfk ccsoc
URL:https://www.wlcnonline.com/event/easter-egg-hunt-for-logan-county-kids-12-and-under-by-salt-creek-abate-at-knights-of-columbus-hall-in-lincoln/
LOCATION:Lincoln Knights of Columbus Hall\, 217 Limit Street\, Lincoln\, IL\, 62656\, United States
ORGANIZER;CN="Salt Creek ABATE Chapter":MAILTO:saltcreekabate@groups.facebook.com
END:VEVENT
END:VCALENDAR