BEGIN:VCALENDAR
VERSION:2.0
PRODID:-//WLCN 96.3 FM - ECPv6.15.20//NONSGML v1.0//EN
CALSCALE:GREGORIAN
METHOD:PUBLISH
X-WR-CALNAME:WLCN 96.3 FM
X-ORIGINAL-URL:https://www.wlcnonline.com
X-WR-CALDESC:Events for WLCN 96.3 FM
REFRESH-INTERVAL;VALUE=DURATION:PT1H
X-Robots-Tag:noindex
X-PUBLISHED-TTL:PT1H
BEGIN:VTIMEZONE
TZID:America/Chicago
BEGIN:DAYLIGHT
TZOFFSETFROM:-0600
TZOFFSETTO:-0500
TZNAME:CDT
DTSTART:20240310T080000
END:DAYLIGHT
BEGIN:STANDARD
TZOFFSETFROM:-0500
TZOFFSETTO:-0600
TZNAME:CST
DTSTART:20241103T070000
END:STANDARD
BEGIN:DAYLIGHT
TZOFFSETFROM:-0600
TZOFFSETTO:-0500
TZNAME:CDT
DTSTART:20250309T080000
END:DAYLIGHT
BEGIN:STANDARD
TZOFFSETFROM:-0500
TZOFFSETTO:-0600
TZNAME:CST
DTSTART:20251102T070000
END:STANDARD
BEGIN:DAYLIGHT
TZOFFSETFROM:-0600
TZOFFSETTO:-0500
TZNAME:CDT
DTSTART:20260308T080000
END:DAYLIGHT
BEGIN:STANDARD
TZOFFSETFROM:-0500
TZOFFSETTO:-0600
TZNAME:CST
DTSTART:20261101T070000
END:STANDARD
END:VTIMEZONE
BEGIN:VEVENT
DTSTART;TZID=America/Chicago:20250503T090000
DTEND;TZID=America/Chicago:20250503T100000
DTSTAMP:20260420T065333
CREATED:20250227T214918Z
LAST-MODIFIED:20251231T162155Z
UID:10019108-1746262800-1746266400@www.wlcnonline.com
SUMMARY:Alcoholics Anonymous meetings by Land of Lincoln Recovery Group at Hope on 5th in Lincoln
DESCRIPTION:Meetings are free to attend and take place at 6 PM on Tuesdays\, Wednesdays\, Fridays and Saturdays as well as at 9 AM on Saturdays and Sundays. \nEvent codes
URL:https://www.wlcnonline.com/event/alcoholics-anonymous-meetings-by-land-of-lincoln-recovery-group-at-hope-on-5th-in-lincoln-2/2025-05-03/
LOCATION:Hope on 5th in Lincoln\, 200 5th Street\, Lincoln\, 62656\, United States
ORGANIZER;CN="Logan Mason Recovery Oriented Systems of Care (ROSC)":MAILTO:jedavis@chestnut.org
END:VEVENT
BEGIN:VEVENT
DTSTART;TZID=America/Chicago:20250503T080000
DTEND;TZID=America/Chicago:20250503T150000
DTSTAMP:20260420T065333
CREATED:20250425T041358Z
LAST-MODIFIED:20250425T041358Z
UID:10019988-1746259200-1746284400@www.wlcnonline.com
SUMMARY:Townwide garage sale in McLean
DESCRIPTION:Sales will take place Friday and Saturday. \nEvent codes ccgs
URL:https://www.wlcnonline.com/event/townwide-garage-sale-in-mclean/2025-05-03/
LOCATION:Village of McLean\, McLean\, IL\, 61754\, United States
ORGANIZER;CN="CORE (Community Organization for Revitalization and Expansion) of McLean":MAILTO:core.mclean@gmail.com
END:VEVENT
BEGIN:VEVENT
DTSTART;TZID=America/Chicago:20250503T080000
DTEND;TZID=America/Chicago:20250503T130000
DTSTAMP:20260420T065333
CREATED:20250501T215241Z
LAST-MODIFIED:20250502T033123Z
UID:10020014-1746259200-1746277200@www.wlcnonline.com
SUMMARY:Roadside farm stand grand opening event at Patristic Pastures Homestead in rural Mt. Pulaski
DESCRIPTION:This is the opening of the inaugural Patristic Pastures roadside farm stand for the 2025 season and will feature Sourdough Baked Goods\, Maple & Black Walnut Syrup\, Peanut Butter Pumpkin Dog Treats\, Farm Fresh Free Range Eggs (Chicken\, Duck & Goose)\, Aloe Vera Plant Starts and much more. \nEvent codes cclbep cchwf ccfb
URL:https://www.wlcnonline.com/event/roadside-farm-stand-grand-opening-at-event-by-patristic-pastures-homestead-in-rural-mt-pulaski/2025-05-03/
LOCATION:Patristic Pastures Homestead\, 881 1500th Avenue\, Mt. Pulaski\, 62548\, United States
END:VEVENT
BEGIN:VEVENT
DTSTART;VALUE=DATE:20250503
DTEND;VALUE=DATE:20250505
DTSTAMP:20260420T065333
CREATED:20250417T133059Z
LAST-MODIFIED:20250417T133059Z
UID:10019915-1746241200-1746327599@www.wlcnonline.com
SUMMARY:May "Miles of Sunshine Challenge" month-long virtual walking event by LMH Community Health Collaborative
DESCRIPTION:Participants are invited to step into spring with Miles of Sunshine\, a month-long walking challenge running the entire month of May 2025. Participants can track their cumulative miles using the Pacer 4 Teams app (free to all participants). Click this link to visit the information page about the event; use your phone to scan the QR code on that page to download the Pacer app and join the challenge. Participants who walk 75\, 125\, 175\, or 225 miles will earn a special club-level T-shirt. \nEvent codes ccfre cchwf
URL:https://www.wlcnonline.com/event/may-miles-of-sunshine-challenge-month-long-virtual-walking-event-by-lmh-community-health-collaborative/2025-05-03/
LOCATION:IL
END:VEVENT
BEGIN:VEVENT
DTSTART;TZID=America/Chicago:20250502T190000
DTEND;TZID=America/Chicago:20250502T220000
DTSTAMP:20260420T065333
CREATED:20250425T040928Z
LAST-MODIFIED:20250425T040928Z
UID:10019986-1746212400-1746223200@www.wlcnonline.com
SUMMARY:Live music by Mikey Horn at The Next Stop Saloon in Mt. Pulaski
DESCRIPTION:Enjoy your favorite beverages while listening to live music from Mikey Horn. \nEvent codes ccfb ccent cclm
URL:https://www.wlcnonline.com/event/live-music-by-mikey-horn-at-the-next-stop-saloon-in-mt-pulaski/
LOCATION:The Next Stop Saloon in Mt. Pulaski\, 100 E. Cooke Street\, Mt. Pulaski\, IL\, 62548\, United States
END:VEVENT
BEGIN:VEVENT
DTSTART;TZID=America/Chicago:20250502T180000
DTEND;TZID=America/Chicago:20250502T190000
DTSTAMP:20260420T065333
CREATED:20250227T215905Z
LAST-MODIFIED:20251231T161347Z
UID:10019268-1746208800-1746212400@www.wlcnonline.com
SUMMARY:Veterans recovery group meetings by Never Alone at Hope on 5th in Lincoln
DESCRIPTION:Meetings are free to attend and take place at 6 PM on the first and third Fridays of the month. \nEvent codes
URL:https://www.wlcnonline.com/event/veterans-recovery-group-meetings-by-never-alone-at-hope-on-5th-in-lincoln/2025-05-02/
LOCATION:Hope on 5th in Lincoln\, 200 5th Street\, Lincoln\, 62656\, United States
ORGANIZER;CN="Logan Mason Recovery Oriented Systems of Care (ROSC)":MAILTO:jedavis@chestnut.org
END:VEVENT
BEGIN:VEVENT
DTSTART;TZID=America/Chicago:20250502T180000
DTEND;TZID=America/Chicago:20250502T190000
DTSTAMP:20260420T065333
CREATED:20250227T214713Z
LAST-MODIFIED:20251231T161900Z
UID:10018950-1746208800-1746212400@www.wlcnonline.com
SUMMARY:Alcoholics Anonymous meetings by Land of Lincoln Recovery Group at Hope on 5th in Lincoln
DESCRIPTION:Meetings are free to attend and take place at 6 PM on Tuesdays\, Wednesdays\, Fridays and Saturdays as well as at 9 AM on Saturdays and Sundays. \nEvent codes
URL:https://www.wlcnonline.com/event/alcoholics-anonymous-meetings-by-land-of-lincoln-recovery-group-at-hope-on-5th-in-lincoln/2025-05-02/
LOCATION:Hope on 5th in Lincoln\, 200 5th Street\, Lincoln\, 62656\, United States
ORGANIZER;CN="Logan Mason Recovery Oriented Systems of Care (ROSC)":MAILTO:jedavis@chestnut.org
END:VEVENT
BEGIN:VEVENT
DTSTART;TZID=America/Chicago:20250502T150000
DTEND;TZID=America/Chicago:20250502T190000
DTSTAMP:20260420T065333
CREATED:20250501T215241Z
LAST-MODIFIED:20250502T033123Z
UID:10020013-1746198000-1746212400@www.wlcnonline.com
SUMMARY:Roadside farm stand grand opening event at Patristic Pastures Homestead in rural Mt. Pulaski
DESCRIPTION:This is the opening of the inaugural Patristic Pastures roadside farm stand for the 2025 season and will feature Sourdough Baked Goods\, Maple & Black Walnut Syrup\, Peanut Butter Pumpkin Dog Treats\, Farm Fresh Free Range Eggs (Chicken\, Duck & Goose)\, Aloe Vera Plant Starts and much more. \nEvent codes cclbep cchwf ccfb
URL:https://www.wlcnonline.com/event/roadside-farm-stand-grand-opening-at-event-by-patristic-pastures-homestead-in-rural-mt-pulaski/2025-05-02/
LOCATION:Patristic Pastures Homestead\, 881 1500th Avenue\, Mt. Pulaski\, 62548\, United States
END:VEVENT
BEGIN:VEVENT
DTSTART;TZID=America/Chicago:20250502T120000
DTEND;TZID=America/Chicago:20250502T133000
DTSTAMP:20260420T065333
CREATED:20250227T221857Z
LAST-MODIFIED:20251231T161051Z
UID:10019600-1746187200-1746192600@www.wlcnonline.com
SUMMARY:SMART (Self-Management and Recovery Training) recovery meetings at Hope on 5th in Lincoln
DESCRIPTION:Meetings are free to attend and take place Fridays from noon to 1:30 PM. \nEvent codes
URL:https://www.wlcnonline.com/event/smart-self-management-and-recovery-training-recovery-meetings-at-hope-on-5th-in-lincoln/2025-05-02/
LOCATION:Hope on 5th in Lincoln\, 200 5th Street\, Lincoln\, 62656\, United States
ORGANIZER;CN="Logan Mason Recovery Oriented Systems of Care (ROSC)":MAILTO:jedavis@chestnut.org
END:VEVENT
BEGIN:VEVENT
DTSTART;TZID=America/Chicago:20250502T110000
DTEND;TZID=America/Chicago:20250502T120000
DTSTAMP:20260420T065333
CREATED:20250227T220937Z
LAST-MODIFIED:20251231T160939Z
UID:10019425-1746183600-1746187200@www.wlcnonline.com
SUMMARY:Alcoholics Anonymous meetings at Trinity Episcopal Church in Lincoln
DESCRIPTION:Meetings are free to attend and take place at the following times: \n\nMondays at 7 PM\nWednesdays at 6 PM\nFridays at 11 AM\nSundays at 6 PM\n\nEvent codes
URL:https://www.wlcnonline.com/event/alcoholics-anonymous-meetings-at-trinity-episcopal-church-in-lincoln-3/2025-05-02/
LOCATION:Trinity Episcopal Church in Lincoln\, 402 Pekin Street\, Lincoln\, 62656\, United States
ORGANIZER;CN="Logan Mason Recovery Oriented Systems of Care (ROSC)":MAILTO:jedavis@chestnut.org
END:VEVENT
BEGIN:VEVENT
DTSTART;TZID=America/Chicago:20250502T100000
DTEND;TZID=America/Chicago:20250502T170000
DTSTAMP:20260420T065333
CREATED:20250501T213434Z
LAST-MODIFIED:20250501T213434Z
UID:10020009-1746180000-1746205200@www.wlcnonline.com
SUMMARY:Summer fashion launch event at Beauty of a Site boutique in Delavan
DESCRIPTION:Attendees will have the first chance to shop Beauty of a Site’s summer fashion collection. \nEvent codes cclbep
URL:https://www.wlcnonline.com/event/summer-fashion-launch-event-at-beauty-of-a-site-boutique-in-delavan/
LOCATION:Beauty of a Site in Delavan\, 302 Locust Street\, Delavan\, IL\, 61734\, United States
ORGANIZER;CN="Beauty of a Site":MAILTO:info@beautyofasite.com
END:VEVENT
BEGIN:VEVENT
DTSTART;TZID=America/Chicago:20250502T100000
DTEND;TZID=America/Chicago:20250502T170000
DTSTAMP:20260420T065333
CREATED:20250424T143203Z
LAST-MODIFIED:20250424T143203Z
UID:10019975-1746180000-1746205200@www.wlcnonline.com
SUMMARY:Flower basket sale to benefit the Humane Society of Logan County at Rent One in Lincoln
DESCRIPTION:This is the 2nd annual flower basket sale\, and more baskets will be available this year which can be used as Mother’s Day gifts or for sprucing up around the home. Proceeds are used to care for animals at the Humane Society of Logan County. \nThe HSLC plans to sell baskets Friday 5/2 from 10 AM to 5 PM and Saturday 5/3 from 9 AM to noon; the sale may close earlier if sold out. \nEvent codes ccfdd
URL:https://www.wlcnonline.com/event/flower-basket-sale-to-benefit-the-humane-society-of-logan-county-at-rent-one-in-lincoln-2/2025-05-02/
LOCATION:Rent One of Lincoln\, 910 Woodlawn Road\, Lincoln\, IL\, 62656\, United States
ORGANIZER;CN="Humane Society of Logan County":MAILTO:shelter@hslclincoln.org
END:VEVENT
BEGIN:VEVENT
DTSTART;TZID=America/Chicago:20250502T100000
DTEND;TZID=America/Chicago:20250502T104500
DTSTAMP:20260420T065333
CREATED:20250403T194149Z
LAST-MODIFIED:20250403T194149Z
UID:10019841-1746180000-1746182700@www.wlcnonline.com
SUMMARY:Cardio and strength training by Silver Fox Fitness at Lincoln VFW Hall
DESCRIPTION:The sessions feature low-impact exercises to increase strength and endurance which are adaptable to any ability level. \nEvent codes: ccfs\, cchwf
URL:https://www.wlcnonline.com/event/cardio-and-strength-training-by-silver-fox-fitness-at-lincoln-vfw-hall/2025-05-02/
LOCATION:VFW Post 1756 Freedom Hall Event Center in Lincoln\, 915 5th Street\, Lincoln\, IL\, 62656\, United States
END:VEVENT
BEGIN:VEVENT
DTSTART;TZID=America/Chicago:20250502T090000
DTEND;TZID=America/Chicago:20250502T103000
DTSTAMP:20260420T065333
CREATED:20250327T164748Z
LAST-MODIFIED:20250424T142704Z
UID:10019788-1746176400-1746181800@www.wlcnonline.com
SUMMARY:Diamond art craft class at Oasis Senior Center in Lincoln
DESCRIPTION:All supplies will be provided for this diamond art craft class\, led by Janet Kvitle. In order to have enough supplies\, those planning to attend should sign up at the Oasis anytime Monday through Friday between 9 AM and 3 PM or indicate they will attend by clicking Going in the Facebook event. \nEvent codes ccaca
URL:https://www.wlcnonline.com/event/diamond-art-craft-class-at-oasis-senior-center-in-lincoln/
LOCATION:Oasis Senior Center\, 2810 Woodlawn Road\, Lincoln\, IL\, 62656\, United States
ORGANIZER;CN="Oasis Senior Center":MAILTO:nancy@oasisseniorcenter.com
END:VEVENT
BEGIN:VEVENT
DTSTART;TZID=America/Chicago:20250502T080000
DTEND;TZID=America/Chicago:20250502T150000
DTSTAMP:20260420T065333
CREATED:20250425T041358Z
LAST-MODIFIED:20250425T041358Z
UID:10019987-1746172800-1746198000@www.wlcnonline.com
SUMMARY:Townwide garage sale in McLean
DESCRIPTION:Sales will take place Friday and Saturday. \nEvent codes ccgs
URL:https://www.wlcnonline.com/event/townwide-garage-sale-in-mclean/2025-05-02/
LOCATION:Village of McLean\, McLean\, IL\, 61754\, United States
ORGANIZER;CN="CORE (Community Organization for Revitalization and Expansion) of McLean":MAILTO:core.mclean@gmail.com
END:VEVENT
BEGIN:VEVENT
DTSTART;VALUE=DATE:20250502
DTEND;VALUE=DATE:20250504
DTSTAMP:20260420T065334
CREATED:20250417T133059Z
LAST-MODIFIED:20250417T133059Z
UID:10019914-1746154800-1746241199@www.wlcnonline.com
SUMMARY:May "Miles of Sunshine Challenge" month-long virtual walking event by LMH Community Health Collaborative
DESCRIPTION:Participants are invited to step into spring with Miles of Sunshine\, a month-long walking challenge running the entire month of May 2025. Participants can track their cumulative miles using the Pacer 4 Teams app (free to all participants). Click this link to visit the information page about the event; use your phone to scan the QR code on that page to download the Pacer app and join the challenge. Participants who walk 75\, 125\, 175\, or 225 miles will earn a special club-level T-shirt. \nEvent codes ccfre cchwf
URL:https://www.wlcnonline.com/event/may-miles-of-sunshine-challenge-month-long-virtual-walking-event-by-lmh-community-health-collaborative/2025-05-02/
LOCATION:IL
END:VEVENT
BEGIN:VEVENT
DTSTART;TZID=America/Chicago:20250501T190000
DTEND;TZID=America/Chicago:20250501T220000
DTSTAMP:20260420T065334
CREATED:20250213T051033Z
LAST-MODIFIED:20250602T141945Z
UID:10018364-1746126000-1746136800@www.wlcnonline.com
SUMMARY:Open mic night at Spirited Republic in Lincoln
DESCRIPTION:Spirited Republic open mic nights are a solo acoustic musical experiment with the goal of cultivating friendship\, support and good times amongst musicians\, comedians\, poets and artists of all kinds. Performers are asked to bring their own instruments (no drum sets; hand drums and percussion equipment only). \nEvent codes: ccent\, ccfb\, cclm\, ccsoc
URL:https://www.wlcnonline.com/event/open-mic-night-at-spirited-republic-in-lincoln/2025-05-01/
LOCATION:Spirited Republic in Lincoln\, 509 Pulaski Street\, Lincoln\, IL\, 62656\, United States
ORGANIZER;CN="Spirited Republic/Limerick Brewing Company":MAILTO:spiritedrepublic@gmail.com
END:VEVENT
BEGIN:VEVENT
DTSTART;TZID=America/Chicago:20250501T190000
DTEND;TZID=America/Chicago:20250501T200000
DTSTAMP:20260420T065334
CREATED:20250227T221223Z
LAST-MODIFIED:20251231T171824Z
UID:10019512-1746126000-1746129600@www.wlcnonline.com
SUMMARY:Alcoholics Anonymous meetings at Atlanta Community House in Atlanta
DESCRIPTION:Meetings are free to attend and take place Thursdays at 7 PM. \nEvent codes
URL:https://www.wlcnonline.com/event/alcoholics-anonymous-meetings-at-atlanta-community-house-in-atlanta/2025-05-01/
LOCATION:Atlanta Memorial Community House\, 106 SW 6th Street\, Atlanta\, IL\, 61723\, United States
ORGANIZER;CN="Logan Mason Recovery Oriented Systems of Care (ROSC)":MAILTO:jedavis@chestnut.org
END:VEVENT
BEGIN:VEVENT
DTSTART;TZID=America/Chicago:20250501T190000
DTEND;TZID=America/Chicago:20250501T200000
DTSTAMP:20260420T065334
CREATED:20250227T220255Z
LAST-MODIFIED:20251231T170522Z
UID:10019294-1746126000-1746129600@www.wlcnonline.com
SUMMARY:Celebrate recovery events at Open Arms Christian Fellowship in Lincoln
DESCRIPTION:Events take place on Thursday evenings with snacks served at 6 PM and the meeting starting at 7 PM.
URL:https://www.wlcnonline.com/event/celebrate-recovery-events-at-open-arms-christian-fellowship-in-lincoln/2025-05-01/
LOCATION:Open Arms Christian Fellowship\, 1321 State Route 10\, Lincoln\, IL\, 62656\, United States
ORGANIZER;CN="Hope on 5th":MAILTO:rhss2005th@gmail.com
END:VEVENT
BEGIN:VEVENT
DTSTART;TZID=America/Chicago:20250501T190000
DTEND;TZID=America/Chicago:20250501T190000
DTSTAMP:20260420T065334
CREATED:20240329T042327Z
LAST-MODIFIED:20251231T163130Z
UID:10016942-1746126000-1746126000@www.wlcnonline.com
SUMMARY:Xtreme Bar Bingo at The Rusty Rail in Lincoln
DESCRIPTION:Xtreme Bar Bingo is bingo game with awesome prizes. The Rusty Rail features Xtreme Bar Bingo on Thursday nights beginning at 7 PM. \nEvent codes: ccgc\, ccsoc ccbin
URL:https://www.wlcnonline.com/event/xtreme-bar-bingo-at-the-rusty-rail-in-lincoln/2025-05-01/
LOCATION:The Rusty Rail Pub in Lincoln\, 405 Pulaski Street\, Lincoln\, IL\, 62656\, United States
END:VEVENT
BEGIN:VEVENT
DTSTART;TZID=America/Chicago:20250501T180000
DTEND;TZID=America/Chicago:20250501T190000
DTSTAMP:20260420T065334
CREATED:20250425T040659Z
LAST-MODIFIED:20250425T040810Z
UID:10019982-1746122400-1746126000@www.wlcnonline.com
SUMMARY:Waltz lessons (4 weeks starting 5/1) at Lincoln Park District
DESCRIPTION:This four week course on the waltz will teach participants some of basic patterns each week. The classes meet the first four Thursdays in May (5/1\, 5/8\, 5/15\, 5/22) from 6 PM to 7 PM. Contact the Lincoln Park District to register. \nEvent codes cchwf
URL:https://www.wlcnonline.com/event/waltz-lessons-4-weeks-starting-5-1-at-lincoln-park-district/2025-05-01/
LOCATION:Lincoln Park District\, 1400 Primm Road\, Lincoln\, IL\, 62656\, United States
ORGANIZER;CN="Lincoln Park District":MAILTO:info@lincolnparkdistrict.com
END:VEVENT
BEGIN:VEVENT
DTSTART;TZID=America/Chicago:20250501T180000
DTEND;TZID=America/Chicago:20250501T190000
DTSTAMP:20260420T065334
CREATED:20250227T215251Z
LAST-MODIFIED:20251231T170747Z
UID:10019187-1746122400-1746126000@www.wlcnonline.com
SUMMARY:Narcotics Anonymous meetings by Land of Lincoln Recovery Group at Hope on 5th in Lincoln
DESCRIPTION:Meetings are free to attend and take place at 6 PM Thursdays as well as at 5 PM on Sundays. \nEvent codes
URL:https://www.wlcnonline.com/event/narcotics-anonymous-meetings-by-land-of-lincoln-recovery-group-at-hope-on-5th-in-lincoln-2/2025-05-01/
LOCATION:Hope on 5th in Lincoln\, 200 5th Street\, Lincoln\, 62656\, United States
ORGANIZER;CN="Logan Mason Recovery Oriented Systems of Care (ROSC)":MAILTO:jedavis@chestnut.org
END:VEVENT
BEGIN:VEVENT
DTSTART;TZID=America/Chicago:20250501T130000
DTEND;TZID=America/Chicago:20250501T180000
DTSTAMP:20260420T065334
CREATED:20250425T043415Z
LAST-MODIFIED:20250425T043415Z
UID:10019993-1746104400-1746122400@www.wlcnonline.com
SUMMARY:Community blood drive at Mount Hope-Funks Grove Fire Protection District in McLean
DESCRIPTION:Donations can be made between 1 PM and 6 PM. Click here to reserve a time online. \nEvent codes: ccbld\, ccserv
URL:https://www.wlcnonline.com/event/community-blood-drive-at-mount-hope-funks-grove-fire-protection-district-in-mclean/
LOCATION:Mt. Hope-Funks Grove Fire Protection District in McLean\, 209 South Hamilton Street\, McLean\, IL\, 61754\, United States
END:VEVENT
BEGIN:VEVENT
DTSTART;TZID=America/Chicago:20250501T120000
DTEND;TZID=America/Chicago:20250501T180000
DTSTAMP:20260420T065334
CREATED:20250425T043200Z
LAST-MODIFIED:20250425T043200Z
UID:10019992-1746100800-1746122400@www.wlcnonline.com
SUMMARY:Community blood drive at Atlanta Christian Church
DESCRIPTION:This community blood drive will take place at Atlanta Christian Church. Click here to register online.. \nEvent codes cchwf ccbld
URL:https://www.wlcnonline.com/event/community-blood-drive-at-atlanta-christian-church/
LOCATION:Atlanta Christian Church\, 300 NE 3rd Street\, Atlanta\, IL\, 61723\, United States
END:VEVENT
BEGIN:VEVENT
DTSTART;TZID=America/Chicago:20250501T100000
DTEND;TZID=America/Chicago:20250501T220000
DTSTAMP:20260420T065334
CREATED:20250130T143650Z
LAST-MODIFIED:20260417T033139Z
UID:10018070-1746093600-1746136800@www.wlcnonline.com
SUMMARY:Fundraiser for Zion Lutheran School of Mt. Pulaski at Culver's of Lincoln
DESCRIPTION:Purchase food from Culver’s of Lincoln and help support a worthy cause whether dining in\, carrying out\, using the drive-thru or ordering through DoorDash. During the hours of the fundraiser\, a portion of all proceeds will be donated to the organization. Fundraisers for all schools run all day. Those making purchases during school fundraisers must fill out a slip to designate the class to which the donation is to be credited; those ordering via DoorDash can call Culver’s (217-732-7300) to designate how the donation from their purchase should be allocated. \nEvent codes ccfb\, ccfdd
URL:https://www.wlcnonline.com/event/fundraiser-for-zion-lutheran-school-of-mt-pulaski-at-culvers-of-lincoln-2/2025-05-01/
LOCATION:Culver’s of Lincoln\, 2530 Woodlawn Road\, Lincoln\, IL\, 62656\, United States
ORGANIZER;CN="Culver's of Lincoln":MAILTO:lincolnculvers@comcast.net
END:VEVENT
BEGIN:VEVENT
DTSTART;TZID=America/Chicago:20250501T100000
DTEND;TZID=America/Chicago:20250501T104500
DTSTAMP:20260420T065334
CREATED:20250109T220309Z
LAST-MODIFIED:20250403T210913Z
UID:10019874-1746093600-1746096300@www.wlcnonline.com
SUMMARY:Fall prevention/balance building class by Silver Fox Fitness at Lincoln YMCA
DESCRIPTION:This class is designed for participants to build strength and endurance to help with building balance and preventing falls. \nEvent codes cchwf ccsen
URL:https://www.wlcnonline.com/event/fall-prevention-balance-building-class-by-silver-fox-fitness-at-lincoln-ymca-2/2025-05-01/
LOCATION:Lincoln Area YMCA\, 719 Wyatt Avenue\, Lincoln\, IL\, 62656\, United States
END:VEVENT
BEGIN:VEVENT
DTSTART;VALUE=DATE:20250501
DTEND;VALUE=DATE:20250503
DTSTAMP:20260420T065334
CREATED:20250417T133059Z
LAST-MODIFIED:20250417T133059Z
UID:10019913-1746068400-1746154799@www.wlcnonline.com
SUMMARY:May "Miles of Sunshine Challenge" month-long virtual walking event by LMH Community Health Collaborative
DESCRIPTION:Participants are invited to step into spring with Miles of Sunshine\, a month-long walking challenge running the entire month of May 2025. Participants can track their cumulative miles using the Pacer 4 Teams app (free to all participants). Click this link to visit the information page about the event; use your phone to scan the QR code on that page to download the Pacer app and join the challenge. Participants who walk 75\, 125\, 175\, or 225 miles will earn a special club-level T-shirt. \nEvent codes ccfre cchwf
URL:https://www.wlcnonline.com/event/may-miles-of-sunshine-challenge-month-long-virtual-walking-event-by-lmh-community-health-collaborative/2025-05-01/
LOCATION:IL
END:VEVENT
BEGIN:VEVENT
DTSTART;TZID=America/Chicago:20250430T180000
DTEND;TZID=America/Chicago:20250430T190000
DTSTAMP:20260420T065334
CREATED:20250423T160306Z
LAST-MODIFIED:20250425T050736Z
UID:10019969-1746036000-1746039600@www.wlcnonline.com
SUMMARY:Weight loss challenge at LoCo Nutrition in Lincoln
DESCRIPTION:This weekly program runs through June 4 and can be used by participants to lose weight\, gain energy\, or just feel their best. \nEvent codes cchwf cclbep
URL:https://www.wlcnonline.com/event/weight-loss-challenge-at-loco-nutrition-in-lincoln/2025-04-30/
LOCATION:LoCo Nutrition in Lincoln\, 622 N. Chicago Street\, Lincoln\, IL\, 62656\, United States
END:VEVENT
BEGIN:VEVENT
DTSTART;TZID=America/Chicago:20250430T180000
DTEND;TZID=America/Chicago:20250430T190000
DTSTAMP:20260420T065334
CREATED:20250227T221550Z
LAST-MODIFIED:20251231T171533Z
UID:10019555-1746036000-1746039600@www.wlcnonline.com
SUMMARY:Odds & Ends peer recovery support group meeting at Hardee's in Havana
DESCRIPTION:Meetings are free to attend and take place Wednesdays at 6 PM. \nEvent codes
URL:https://www.wlcnonline.com/event/odds-ends-peer-recovery-support-group-meeting-at-hardees-in-havana/2025-04-30/
LOCATION:Hardee’s in Havana\, 401 W. Dearborn Street\, Havana\, 62644\, United States
ORGANIZER;CN="Logan Mason Recovery Oriented Systems of Care (ROSC)":MAILTO:jedavis@chestnut.org
END:VEVENT
BEGIN:VEVENT
DTSTART;TZID=America/Chicago:20250430T180000
DTEND;TZID=America/Chicago:20250430T190000
DTSTAMP:20260420T065334
CREATED:20250227T220829Z
LAST-MODIFIED:20251231T164443Z
UID:10019381-1746036000-1746039600@www.wlcnonline.com
SUMMARY:Alcoholics Anonymous meetings at Trinity Episcopal Church in Lincoln
DESCRIPTION:Meetings are free to attend and take place at the following times: \n\nMondays at 7 PM\nWednesdays at 6 PM\nFridays at 11 AM\nSundays at 6 PM\n\nEvent codes
URL:https://www.wlcnonline.com/event/alcoholics-anonymous-meetings-at-trinity-episcopal-church-in-lincoln-2/2025-04-30/
LOCATION:Trinity Episcopal Church in Lincoln\, 402 Pekin Street\, Lincoln\, 62656\, United States
ORGANIZER;CN="Logan Mason Recovery Oriented Systems of Care (ROSC)":MAILTO:jedavis@chestnut.org
END:VEVENT
END:VCALENDAR