BEGIN:VCALENDAR
VERSION:2.0
PRODID:-//WLCN 96.3 FM - ECPv6.15.20//NONSGML v1.0//EN
CALSCALE:GREGORIAN
METHOD:PUBLISH
X-WR-CALNAME:WLCN 96.3 FM
X-ORIGINAL-URL:https://www.wlcnonline.com
X-WR-CALDESC:Events for WLCN 96.3 FM
REFRESH-INTERVAL;VALUE=DURATION:PT1H
X-Robots-Tag:noindex
X-PUBLISHED-TTL:PT1H
BEGIN:VTIMEZONE
TZID:America/Chicago
BEGIN:DAYLIGHT
TZOFFSETFROM:-0600
TZOFFSETTO:-0500
TZNAME:CDT
DTSTART:20240310T080000
END:DAYLIGHT
BEGIN:STANDARD
TZOFFSETFROM:-0500
TZOFFSETTO:-0600
TZNAME:CST
DTSTART:20241103T070000
END:STANDARD
BEGIN:DAYLIGHT
TZOFFSETFROM:-0600
TZOFFSETTO:-0500
TZNAME:CDT
DTSTART:20250309T080000
END:DAYLIGHT
BEGIN:STANDARD
TZOFFSETFROM:-0500
TZOFFSETTO:-0600
TZNAME:CST
DTSTART:20251102T070000
END:STANDARD
BEGIN:DAYLIGHT
TZOFFSETFROM:-0600
TZOFFSETTO:-0500
TZNAME:CDT
DTSTART:20260308T080000
END:DAYLIGHT
BEGIN:STANDARD
TZOFFSETFROM:-0500
TZOFFSETTO:-0600
TZNAME:CST
DTSTART:20261101T070000
END:STANDARD
END:VTIMEZONE
BEGIN:VEVENT
DTSTART;TZID=America/Chicago:20250508T190000
DTEND;TZID=America/Chicago:20250508T220000
DTSTAMP:20260420T033737
CREATED:20250213T051033Z
LAST-MODIFIED:20250602T141945Z
UID:10018365-1746730800-1746741600@www.wlcnonline.com
SUMMARY:Open mic night at Spirited Republic in Lincoln
DESCRIPTION:Spirited Republic open mic nights are a solo acoustic musical experiment with the goal of cultivating friendship\, support and good times amongst musicians\, comedians\, poets and artists of all kinds. Performers are asked to bring their own instruments (no drum sets; hand drums and percussion equipment only). \nEvent codes: ccent\, ccfb\, cclm\, ccsoc
URL:https://www.wlcnonline.com/event/open-mic-night-at-spirited-republic-in-lincoln/2025-05-08/
LOCATION:Spirited Republic in Lincoln\, 509 Pulaski Street\, Lincoln\, IL\, 62656\, United States
ORGANIZER;CN="Spirited Republic/Limerick Brewing Company":MAILTO:spiritedrepublic@gmail.com
END:VEVENT
BEGIN:VEVENT
DTSTART;TZID=America/Chicago:20250508T190000
DTEND;TZID=America/Chicago:20250508T203000
DTSTAMP:20260420T033737
CREATED:20250501T212652Z
LAST-MODIFIED:20250501T212652Z
UID:10020006-1746730800-1746736200@www.wlcnonline.com
SUMMARY:Music bingo (greatest hits) (food/drinks @ 5:30 PM; bingo at 7 PM) at LaTeaDa Cafe/Barn Bar/Events in Clinton
DESCRIPTION:Kicking off this year’s music bingo season with great hits from all genres and all decades. If a song on your card is played\, cross it off; the first person one to bingo wins a fun prize. \nMusic Bingo is free to play; participants must be 18 or older. \nNo reservations are needed. No outside food or drink allowed. The Barn Bar & Outdoor Kitchen begins serving at 5:30 PM before the games begin at 7 PM. \nEvent codes: ccent\, ccfb\, cfre\, ccgc\, ccdj
URL:https://www.wlcnonline.com/event/music-bingo-greatest-hits-food-drinks-530-pm-bingo-at-7-pm-at-lateada-cafe-barn-bar-events-in-clinton/
LOCATION:LaTeaDa Cafe/Barn Bar/Events in Clinton\, 1100 S. Madison Street\, Clinton\, IL\, 61727\, United States
ORGANIZER;CN="LaTeaDa Cafe/Barn Bar/Events":MAILTO:lateadaladies@gmail.com
END:VEVENT
BEGIN:VEVENT
DTSTART;TZID=America/Chicago:20250508T190000
DTEND;TZID=America/Chicago:20250508T200000
DTSTAMP:20260420T033737
CREATED:20250227T221223Z
LAST-MODIFIED:20251231T171824Z
UID:10019513-1746730800-1746734400@www.wlcnonline.com
SUMMARY:Alcoholics Anonymous meetings at Atlanta Community House in Atlanta
DESCRIPTION:Meetings are free to attend and take place Thursdays at 7 PM. \nEvent codes
URL:https://www.wlcnonline.com/event/alcoholics-anonymous-meetings-at-atlanta-community-house-in-atlanta/2025-05-08/
LOCATION:Atlanta Memorial Community House\, 106 SW 6th Street\, Atlanta\, IL\, 61723\, United States
ORGANIZER;CN="Logan Mason Recovery Oriented Systems of Care (ROSC)":MAILTO:jedavis@chestnut.org
END:VEVENT
BEGIN:VEVENT
DTSTART;TZID=America/Chicago:20250508T190000
DTEND;TZID=America/Chicago:20250508T200000
DTSTAMP:20260420T033738
CREATED:20250227T220255Z
LAST-MODIFIED:20251231T170522Z
UID:10019295-1746730800-1746734400@www.wlcnonline.com
SUMMARY:Celebrate recovery events at Open Arms Christian Fellowship in Lincoln
DESCRIPTION:Events take place on Thursday evenings with snacks served at 6 PM and the meeting starting at 7 PM.
URL:https://www.wlcnonline.com/event/celebrate-recovery-events-at-open-arms-christian-fellowship-in-lincoln/2025-05-08/
LOCATION:Open Arms Christian Fellowship\, 1321 State Route 10\, Lincoln\, IL\, 62656\, United States
ORGANIZER;CN="Hope on 5th":MAILTO:rhss2005th@gmail.com
END:VEVENT
BEGIN:VEVENT
DTSTART;TZID=America/Chicago:20250508T190000
DTEND;TZID=America/Chicago:20250508T190000
DTSTAMP:20260420T033738
CREATED:20240329T042327Z
LAST-MODIFIED:20251231T163130Z
UID:10016943-1746730800-1746730800@www.wlcnonline.com
SUMMARY:Xtreme Bar Bingo at The Rusty Rail in Lincoln
DESCRIPTION:Xtreme Bar Bingo is bingo game with awesome prizes. The Rusty Rail features Xtreme Bar Bingo on Thursday nights beginning at 7 PM. \nEvent codes: ccgc\, ccsoc ccbin
URL:https://www.wlcnonline.com/event/xtreme-bar-bingo-at-the-rusty-rail-in-lincoln/2025-05-08/
LOCATION:The Rusty Rail Pub in Lincoln\, 405 Pulaski Street\, Lincoln\, IL\, 62656\, United States
END:VEVENT
BEGIN:VEVENT
DTSTART;TZID=America/Chicago:20250508T183000
DTEND;TZID=America/Chicago:20250508T210000
DTSTAMP:20260420T033738
CREATED:20250507T234314Z
LAST-MODIFIED:20250507T234314Z
UID:10020019-1746729000-1746738000@www.wlcnonline.com
SUMMARY:Quarter auction fundraiser by Williamsville Community Foundation at Williamsville Community Center
DESCRIPTION:Doors open at 5:45 PM and the auction begins at 6:30 PM. Funds raised will benefit the Williamsville Scholastic Team. \nBidding paddles can be purchased for $2 each (bring your quarters). An “all-in paddle” will also be available\, where you pay one price and are automatically in for everything on the bid sheet. \nEach monthly quarter auction raises money for a local charity or organization. \nThere will be prizes\, as well as food and drinks available for purchase. \nEvent codes ccfdd ccfb ccsoc
URL:https://www.wlcnonline.com/event/quarter-auction-fundraiser-by-williamsville-community-foundation-at-williamsville-community-center-4/
LOCATION:Williamsville Community Center\, 141 W Main Street\, Williamsville\, IL\, 62693\, United States
ORGANIZER;CN="Williamsville Community Foundation":MAILTO:wville@gcctv.com
END:VEVENT
BEGIN:VEVENT
DTSTART;TZID=America/Chicago:20250508T183000
DTEND;TZID=America/Chicago:20250508T200000
DTSTAMP:20260420T033738
CREATED:20250507T234022Z
LAST-MODIFIED:20250507T234022Z
UID:10020018-1746729000-1746734400@www.wlcnonline.com
SUMMARY:Mt. Pulaski Community Association Meeting
DESCRIPTION:Monthly meeting of the Community Association of Mt. Pulaski\, during which plans and ideas for events and other items are discussed. \nEvent codes ccgoe ccgovt
URL:https://www.wlcnonline.com/event/mt-pulaski-community-association-meeting-3/
LOCATION:104 S. Washington Street in Mt. Pulaski\, 104 S. Washington Street\, Mt. Pulaski\, IL\, 62548\, United States
ORGANIZER;CN="Mt. Pulaski Community Association":MAILTO:mtpulaskibusinessassociation@gmail.com
END:VEVENT
BEGIN:VEVENT
DTSTART;TZID=America/Chicago:20250508T180000
DTEND;TZID=America/Chicago:20250508T220000
DTSTAMP:20260420T033738
CREATED:20250501T203713Z
LAST-MODIFIED:20250501T203713Z
UID:10019997-1746727200-1746741600@www.wlcnonline.com
SUMMARY:2025 Castrol FloRacing Night in America at Lincoln Speedway at the Logan County Fairgrounds
DESCRIPTION:FloRacing Night in America presented by Kubota returns with the Graue Chevrolet Showdown on Thursday\, May 8. This will be the third straight season the popular series makes a Lincoln stop during Illinois Speedweek. The DIRTcar Modifieds will also race. \nPits Open at noon\nGates Open at 3 PM\nHot Laps at 6 PM\nRacing at 7 PM \nAdvance Grandstand Pricing:\nAdults – $35\nChildren 11 & Under – $10\nClick here to order discounted tickets in advance. \nDay Of Grandstand Pricing:\nAdults – $40\nChildren 11 & Under – $10 \nPit passes will be sold at track on raceday. \nEvent codes cccavse ccmrac
URL:https://www.wlcnonline.com/event/2025-castrol-floracing-night-in-america-at-lincoln-speedway-at-the-logan-county-fairgrounds/
LOCATION:Lincoln Speedway at Logan County Fairgrounds\, 230 N. Postville Drive\, Lincoln\, IL\, 62656\, United States
ORGANIZER;CN="Lincoln Speedway":MAILTO:track@trackenterprises.com
END:VEVENT
BEGIN:VEVENT
DTSTART;TZID=America/Chicago:20250508T180000
DTEND;TZID=America/Chicago:20250508T190000
DTSTAMP:20260420T033738
CREATED:20250425T040659Z
LAST-MODIFIED:20250425T040810Z
UID:10019983-1746727200-1746730800@www.wlcnonline.com
SUMMARY:Waltz lessons (4 weeks starting 5/1) at Lincoln Park District
DESCRIPTION:This four week course on the waltz will teach participants some of basic patterns each week. The classes meet the first four Thursdays in May (5/1\, 5/8\, 5/15\, 5/22) from 6 PM to 7 PM. Contact the Lincoln Park District to register. \nEvent codes cchwf
URL:https://www.wlcnonline.com/event/waltz-lessons-4-weeks-starting-5-1-at-lincoln-park-district/2025-05-08/
LOCATION:Lincoln Park District\, 1400 Primm Road\, Lincoln\, IL\, 62656\, United States
ORGANIZER;CN="Lincoln Park District":MAILTO:info@lincolnparkdistrict.com
END:VEVENT
BEGIN:VEVENT
DTSTART;TZID=America/Chicago:20250508T180000
DTEND;TZID=America/Chicago:20250508T190000
DTSTAMP:20260420T033738
CREATED:20250227T215251Z
LAST-MODIFIED:20251231T170747Z
UID:10019188-1746727200-1746730800@www.wlcnonline.com
SUMMARY:Narcotics Anonymous meetings by Land of Lincoln Recovery Group at Hope on 5th in Lincoln
DESCRIPTION:Meetings are free to attend and take place at 6 PM Thursdays as well as at 5 PM on Sundays. \nEvent codes
URL:https://www.wlcnonline.com/event/narcotics-anonymous-meetings-by-land-of-lincoln-recovery-group-at-hope-on-5th-in-lincoln-2/2025-05-08/
LOCATION:Hope on 5th in Lincoln\, 200 5th Street\, Lincoln\, 62656\, United States
ORGANIZER;CN="Logan Mason Recovery Oriented Systems of Care (ROSC)":MAILTO:jedavis@chestnut.org
END:VEVENT
BEGIN:VEVENT
DTSTART;TZID=America/Chicago:20250508T100000
DTEND;TZID=America/Chicago:20250508T104500
DTSTAMP:20260420T033738
CREATED:20250109T220309Z
LAST-MODIFIED:20250403T210913Z
UID:10019875-1746698400-1746701100@www.wlcnonline.com
SUMMARY:Fall prevention/balance building class by Silver Fox Fitness at Lincoln YMCA
DESCRIPTION:This class is designed for participants to build strength and endurance to help with building balance and preventing falls. \nEvent codes cchwf ccsen
URL:https://www.wlcnonline.com/event/fall-prevention-balance-building-class-by-silver-fox-fitness-at-lincoln-ymca-2/2025-05-08/
LOCATION:Lincoln Area YMCA\, 719 Wyatt Avenue\, Lincoln\, IL\, 62656\, United States
END:VEVENT
BEGIN:VEVENT
DTSTART;VALUE=DATE:20250508
DTEND;VALUE=DATE:20250510
DTSTAMP:20260420T033738
CREATED:20250417T133059Z
LAST-MODIFIED:20250417T133059Z
UID:10019920-1746673200-1746759599@www.wlcnonline.com
SUMMARY:May "Miles of Sunshine Challenge" month-long virtual walking event by LMH Community Health Collaborative
DESCRIPTION:Participants are invited to step into spring with Miles of Sunshine\, a month-long walking challenge running the entire month of May 2025. Participants can track their cumulative miles using the Pacer 4 Teams app (free to all participants). Click this link to visit the information page about the event; use your phone to scan the QR code on that page to download the Pacer app and join the challenge. Participants who walk 75\, 125\, 175\, or 225 miles will earn a special club-level T-shirt. \nEvent codes ccfre cchwf
URL:https://www.wlcnonline.com/event/may-miles-of-sunshine-challenge-month-long-virtual-walking-event-by-lmh-community-health-collaborative/2025-05-08/
LOCATION:IL
END:VEVENT
BEGIN:VEVENT
DTSTART;TZID=America/Chicago:20250507T180000
DTEND;TZID=America/Chicago:20250507T190000
DTSTAMP:20260420T033738
CREATED:20250423T160306Z
LAST-MODIFIED:20250425T050736Z
UID:10019970-1746640800-1746644400@www.wlcnonline.com
SUMMARY:Weight loss challenge at LoCo Nutrition in Lincoln
DESCRIPTION:This weekly program runs through June 4 and can be used by participants to lose weight\, gain energy\, or just feel their best. \nEvent codes cchwf cclbep
URL:https://www.wlcnonline.com/event/weight-loss-challenge-at-loco-nutrition-in-lincoln/2025-05-07/
LOCATION:LoCo Nutrition in Lincoln\, 622 N. Chicago Street\, Lincoln\, IL\, 62656\, United States
END:VEVENT
BEGIN:VEVENT
DTSTART;TZID=America/Chicago:20250507T180000
DTEND;TZID=America/Chicago:20250507T190000
DTSTAMP:20260420T033738
CREATED:20250227T221550Z
LAST-MODIFIED:20251231T171533Z
UID:10019556-1746640800-1746644400@www.wlcnonline.com
SUMMARY:Odds & Ends peer recovery support group meeting at Hardee's in Havana
DESCRIPTION:Meetings are free to attend and take place Wednesdays at 6 PM. \nEvent codes
URL:https://www.wlcnonline.com/event/odds-ends-peer-recovery-support-group-meeting-at-hardees-in-havana/2025-05-07/
LOCATION:Hardee’s in Havana\, 401 W. Dearborn Street\, Havana\, 62644\, United States
ORGANIZER;CN="Logan Mason Recovery Oriented Systems of Care (ROSC)":MAILTO:jedavis@chestnut.org
END:VEVENT
BEGIN:VEVENT
DTSTART;TZID=America/Chicago:20250507T180000
DTEND;TZID=America/Chicago:20250507T190000
DTSTAMP:20260420T033738
CREATED:20250227T220829Z
LAST-MODIFIED:20251231T164443Z
UID:10019382-1746640800-1746644400@www.wlcnonline.com
SUMMARY:Alcoholics Anonymous meetings at Trinity Episcopal Church in Lincoln
DESCRIPTION:Meetings are free to attend and take place at the following times: \n\nMondays at 7 PM\nWednesdays at 6 PM\nFridays at 11 AM\nSundays at 6 PM\n\nEvent codes
URL:https://www.wlcnonline.com/event/alcoholics-anonymous-meetings-at-trinity-episcopal-church-in-lincoln-2/2025-05-07/
LOCATION:Trinity Episcopal Church in Lincoln\, 402 Pekin Street\, Lincoln\, 62656\, United States
ORGANIZER;CN="Logan Mason Recovery Oriented Systems of Care (ROSC)":MAILTO:jedavis@chestnut.org
END:VEVENT
BEGIN:VEVENT
DTSTART;TZID=America/Chicago:20250507T180000
DTEND;TZID=America/Chicago:20250507T190000
DTSTAMP:20260420T033738
CREATED:20250227T214713Z
LAST-MODIFIED:20251231T161900Z
UID:10018953-1746640800-1746644400@www.wlcnonline.com
SUMMARY:Alcoholics Anonymous meetings by Land of Lincoln Recovery Group at Hope on 5th in Lincoln
DESCRIPTION:Meetings are free to attend and take place at 6 PM on Tuesdays\, Wednesdays\, Fridays and Saturdays as well as at 9 AM on Saturdays and Sundays. \nEvent codes
URL:https://www.wlcnonline.com/event/alcoholics-anonymous-meetings-by-land-of-lincoln-recovery-group-at-hope-on-5th-in-lincoln/2025-05-07/
LOCATION:Hope on 5th in Lincoln\, 200 5th Street\, Lincoln\, 62656\, United States
ORGANIZER;CN="Logan Mason Recovery Oriented Systems of Care (ROSC)":MAILTO:jedavis@chestnut.org
END:VEVENT
BEGIN:VEVENT
DTSTART;TZID=America/Chicago:20250507T120000
DTEND;TZID=America/Chicago:20250507T170000
DTSTAMP:20260420T033738
CREATED:20250502T041221Z
LAST-MODIFIED:20250502T041221Z
UID:10020016-1746619200-1746637200@www.wlcnonline.com
SUMMARY:Community blood drive at Lincoln Park District
DESCRIPTION:Click here to reserve a time online. \nEvent codes: ccbld\, ccserv
URL:https://www.wlcnonline.com/event/community-blood-drive-at-lincoln-park-district-11/
LOCATION:Lincoln Park District\, 1400 Primm Road\, Lincoln\, IL\, 62656\, United States
ORGANIZER;CN="Lincoln Park District":MAILTO:info@lincolnparkdistrict.com
END:VEVENT
BEGIN:VEVENT
DTSTART;TZID=America/Chicago:20250507T100000
DTEND;TZID=America/Chicago:20250507T220000
DTSTAMP:20260420T033738
CREATED:20250130T143349Z
LAST-MODIFIED:20250417T125551Z
UID:10018093-1746612000-1746655200@www.wlcnonline.com
SUMMARY:Fundraiser for West Lincoln Broadwell School at Culver's of Lincoln
DESCRIPTION:Purchase food from Culver’s of Lincoln and help support a worthy cause whether dining in\, carrying out\, using the drive-thru or ordering through DoorDash. During the hours of the fundraiser\, a portion of all proceeds will be donated to the organization. Fundraisers for all schools run all day. Those making purchases during school fundraisers must fill out a slip to designate the class to which the donation is to be credited; those ordering via DoorDash can call Culver’s (217-732-7300) to designate how the donation from their purchase should be allocated. \nEvent codes ccfb\, ccfdd
URL:https://www.wlcnonline.com/event/fundraiser-for-west-lincoln-broadwell-school-at-culvers-of-lincoln-2/2025-05-07/
LOCATION:Culver’s of Lincoln\, 2530 Woodlawn Road\, Lincoln\, IL\, 62656\, United States
ORGANIZER;CN="Culver's of Lincoln":MAILTO:lincolnculvers@comcast.net
END:VEVENT
BEGIN:VEVENT
DTSTART;TZID=America/Chicago:20250507T100000
DTEND;TZID=America/Chicago:20250507T110000
DTSTAMP:20260420T033738
CREATED:20250501T214124Z
LAST-MODIFIED:20250501T214124Z
UID:10020011-1746612000-1746615600@www.wlcnonline.com
SUMMARY:Health & Wellness Series event on cardiovascular disease prevention and holistic treatment with Kimberly Anne Oglesby Martin at Lincoln Park District
DESCRIPTION:Kimberly Anne Oglesby Martin will lead this session on cardiovascular disease prevention and holistic treatment. \nThe event is free to the public; you do not need to be a member of the Lincoln Park District to attend. \nEvent codes ccfre cchwf ccedu
URL:https://www.wlcnonline.com/event/health-wellness-series-event-on-cardiovascular-disease-prevention-and-holistic-treatment-with-kimberly-anne-oglesby-martin-at-lincoln-park-district/
LOCATION:Lincoln Park District\, 1400 Primm Road\, Lincoln\, IL\, 62656\, United States
ORGANIZER;CN="Lincoln Park District":MAILTO:info@lincolnparkdistrict.com
END:VEVENT
BEGIN:VEVENT
DTSTART;VALUE=DATE:20250507
DTEND;VALUE=DATE:20250509
DTSTAMP:20260420T033738
CREATED:20250417T133059Z
LAST-MODIFIED:20250417T133059Z
UID:10019919-1746586800-1746673199@www.wlcnonline.com
SUMMARY:May "Miles of Sunshine Challenge" month-long virtual walking event by LMH Community Health Collaborative
DESCRIPTION:Participants are invited to step into spring with Miles of Sunshine\, a month-long walking challenge running the entire month of May 2025. Participants can track their cumulative miles using the Pacer 4 Teams app (free to all participants). Click this link to visit the information page about the event; use your phone to scan the QR code on that page to download the Pacer app and join the challenge. Participants who walk 75\, 125\, 175\, or 225 miles will earn a special club-level T-shirt. \nEvent codes ccfre cchwf
URL:https://www.wlcnonline.com/event/may-miles-of-sunshine-challenge-month-long-virtual-walking-event-by-lmh-community-health-collaborative/2025-05-07/
LOCATION:IL
END:VEVENT
BEGIN:VEVENT
DTSTART;TZID=America/Chicago:20250506T180000
DTEND;TZID=America/Chicago:20250506T190000
DTSTAMP:20260420T033738
CREATED:20250227T214713Z
LAST-MODIFIED:20251231T161900Z
UID:10018952-1746554400-1746558000@www.wlcnonline.com
SUMMARY:Alcoholics Anonymous meetings by Land of Lincoln Recovery Group at Hope on 5th in Lincoln
DESCRIPTION:Meetings are free to attend and take place at 6 PM on Tuesdays\, Wednesdays\, Fridays and Saturdays as well as at 9 AM on Saturdays and Sundays. \nEvent codes
URL:https://www.wlcnonline.com/event/alcoholics-anonymous-meetings-by-land-of-lincoln-recovery-group-at-hope-on-5th-in-lincoln/2025-05-06/
LOCATION:Hope on 5th in Lincoln\, 200 5th Street\, Lincoln\, 62656\, United States
ORGANIZER;CN="Logan Mason Recovery Oriented Systems of Care (ROSC)":MAILTO:jedavis@chestnut.org
END:VEVENT
BEGIN:VEVENT
DTSTART;TZID=America/Chicago:20250506T180000
DTEND;TZID=America/Chicago:20250506T180000
DTSTAMP:20260420T033738
CREATED:20250501T210009Z
LAST-MODIFIED:20250501T210009Z
UID:10020002-1746554400-1746554400@www.wlcnonline.com
SUMMARY:"Retirement 101" public education class at Heartland Community College Lincoln
DESCRIPTION:Attendees will learn strategies to build wealth\, minimize taxes\, and be confident in their financial future in retirement. Also to be covered: the basics of Social Security\, Medicare\, pensions\, investments\, tax brackets\, and strategies to minimize taxes. \nAdvance registration is required;
URL:https://www.wlcnonline.com/event/retirement-101-public-education-class-at-heartland-community-college-lincoln/
LOCATION:Heartland Community College Lincoln\, 2201 Woodlawn Road\, Suite 200\, Lincoln\, IL\, 62656\, United States
ORGANIZER;CN="Heartland Community College Lincoln":MAILTO:Lincoln.Center@heartland.edu
END:VEVENT
BEGIN:VEVENT
DTSTART;TZID=America/Chicago:20250506T170000
DTEND;TZID=America/Chicago:20250506T203000
DTSTAMP:20260420T033738
CREATED:20250220T233455Z
LAST-MODIFIED:20251231T163935Z
UID:10018857-1746550800-1746563400@www.wlcnonline.com
SUMMARY:Tuesday night bingo (meal @ 5 PM\, bingo @ 6:30 PM) at Oasis Senior Center in Lincoln﻿
DESCRIPTION:Bingo takes place on Tuesday evenings from 6:30 PM to 8:30 PM and is open to the public. Doors open at 5 PM for a meal\, snack and beverages. \nEvent codes ccgc ccbin ccfb ccsoc
URL:https://www.wlcnonline.com/event/tuesday-night-bingo-meal-5-pm-bingo-630-pm-at-oasis-senior-center-in-lincoln/2025-05-06/
LOCATION:Oasis Senior Center\, 2810 Woodlawn Road\, Lincoln\, IL\, 62656\, United States
ORGANIZER;CN="Oasis Senior Center":MAILTO:nancy@oasisseniorcenter.com
END:VEVENT
BEGIN:VEVENT
DTSTART;TZID=America/Chicago:20250506T170000
DTEND;TZID=America/Chicago:20250506T200000
DTSTAMP:20260420T033738
CREATED:20250130T142928Z
LAST-MODIFIED:20250228T024515Z
UID:10018083-1746550800-1746561600@www.wlcnonline.com
SUMMARY:Fundraiser for Faith Church of Lincoln at Culver's of Lincoln
DESCRIPTION:Purchase food from Culver’s of Lincoln and help support a worthy cause whether dining in\, carrying out\, using the drive-thru or ordering through DoorDash. During the hours of the fundraiser\, a portion of all proceeds will be donated to the organization. \nEvent codes ccfb\, ccfdd
URL:https://www.wlcnonline.com/event/fundraiser-for-faith-church-of-lincoln-at-culvers-of-lincoln/2025-05-06/
LOCATION:Culver’s of Lincoln\, 2530 Woodlawn Road\, Lincoln\, IL\, 62656\, United States
ORGANIZER;CN="Culver's of Lincoln":MAILTO:lincolnculvers@comcast.net
END:VEVENT
BEGIN:VEVENT
DTSTART;VALUE=DATE:20250506
DTEND;VALUE=DATE:20250508
DTSTAMP:20260420T033738
CREATED:20250417T133059Z
LAST-MODIFIED:20250417T133059Z
UID:10019918-1746500400-1746586799@www.wlcnonline.com
SUMMARY:May "Miles of Sunshine Challenge" month-long virtual walking event by LMH Community Health Collaborative
DESCRIPTION:Participants are invited to step into spring with Miles of Sunshine\, a month-long walking challenge running the entire month of May 2025. Participants can track their cumulative miles using the Pacer 4 Teams app (free to all participants). Click this link to visit the information page about the event; use your phone to scan the QR code on that page to download the Pacer app and join the challenge. Participants who walk 75\, 125\, 175\, or 225 miles will earn a special club-level T-shirt. \nEvent codes ccfre cchwf
URL:https://www.wlcnonline.com/event/may-miles-of-sunshine-challenge-month-long-virtual-walking-event-by-lmh-community-health-collaborative/2025-05-06/
LOCATION:IL
END:VEVENT
BEGIN:VEVENT
DTSTART;TZID=America/Chicago:20250505T190000
DTEND;TZID=America/Chicago:20250505T200000
DTSTAMP:20260420T033738
CREATED:20250227T220659Z
LAST-MODIFIED:20251231T163725Z
UID:10019338-1746471600-1746475200@www.wlcnonline.com
SUMMARY:Alcoholics Anonymous meetings at Trinity Episcopal Church in Lincoln
DESCRIPTION:Meetings are free to attend and take place at the following times: \n\nMondays at 7 PM\nWednesdays at 6 PM\nFridays at 11 AM\nSundays at 6 PM\n\nEvent codes
URL:https://www.wlcnonline.com/event/alcoholics-anonymous-meetings-at-trinity-episcopal-church-in-lincoln/2025-05-05/
LOCATION:Trinity Episcopal Church in Lincoln\, 402 Pekin Street\, Lincoln\, 62656\, United States
ORGANIZER;CN="Logan Mason Recovery Oriented Systems of Care (ROSC)":MAILTO:jedavis@chestnut.org
END:VEVENT
BEGIN:VEVENT
DTSTART;TZID=America/Chicago:20250505T180000
DTEND;TZID=America/Chicago:20250505T200000
DTSTAMP:20260420T033738
CREATED:20240926T041522Z
LAST-MODIFIED:20240926T041522Z
UID:10016848-1746468000-1746475200@www.wlcnonline.com
SUMMARY:Xtreme Bar Bingo at Stag R Inn in Emden
DESCRIPTION:Enjoy Xtreme Bar Bingo along with drink and food specials each week. Participants will have the chance to win prizes and cash. \nEvent codes: ccgc\, ccsoc ccbin
URL:https://www.wlcnonline.com/event/xtreme-bar-bingo-at-stag-r-inn-in-emden-2/2025-05-05/
LOCATION:Stag R Inn in Emden\, 102 Lincoln Street\, Emden\, IL\, 62635\, United States
END:VEVENT
BEGIN:VEVENT
DTSTART;TZID=America/Chicago:20250505T180000
DTEND;TZID=America/Chicago:20250505T190000
DTSTAMP:20260420T033738
CREATED:20250227T215503Z
LAST-MODIFIED:20251231T163530Z
UID:10019231-1746468000-1746471600@www.wlcnonline.com
SUMMARY:Co-Dependents Anonymous (CoDA) meetings by Land of Lincoln Recovery Group at Hope on 5th in Lincoln
DESCRIPTION:Meetings are free to attend and take place at 6 PM Mondays. \nEvent codes
URL:https://www.wlcnonline.com/event/co-dependents-anonymous-coda-meetings-by-land-of-lincoln-recovery-group-at-hope-on-5th-in-lincoln/2025-05-05/
LOCATION:Hope on 5th in Lincoln\, 200 5th Street\, Lincoln\, 62656\, United States
ORGANIZER;CN="Logan Mason Recovery Oriented Systems of Care (ROSC)":MAILTO:jedavis@chestnut.org
END:VEVENT
BEGIN:VEVENT
DTSTART;TZID=America/Chicago:20250505T173000
DTEND;TZID=America/Chicago:20250505T190000
DTSTAMP:20260420T033738
CREATED:20250501T213819Z
LAST-MODIFIED:20250501T213819Z
UID:10020010-1746466200-1746471600@www.wlcnonline.com
SUMMARY:Cinco de Mayo celebration with themed fitness classes at Lincoln Park District
DESCRIPTION:Partake in a fitness fiesta with special themed class led by 3 instructors. Click here to register online. \nEvent codes cchwf
URL:https://www.wlcnonline.com/event/cinco-de-mayo-celebration-with-themed-fitness-classes-at-lincoln-park-district/
LOCATION:Lincoln Park District\, 1400 Primm Road\, Lincoln\, IL\, 62656\, United States
ORGANIZER;CN="Lincoln Park District":MAILTO:info@lincolnparkdistrict.com
END:VEVENT
BEGIN:VEVENT
DTSTART;TZID=America/Chicago:20250505T170000
DTEND;TZID=America/Chicago:20250505T200000
DTSTAMP:20260420T033738
CREATED:20250130T142758Z
LAST-MODIFIED:20250417T125953Z
UID:10018073-1746464400-1746475200@www.wlcnonline.com
SUMMARY:Fundraiser for Jefferson Street Christian Church at Culver's of Lincoln
DESCRIPTION:Purchase food from Culver’s of Lincoln and help support a worthy cause whether dining in\, carrying out\, using the drive-thru or ordering through DoorDash. During the hours of the fundraiser\, a portion of all proceeds will be donated to the organization. \nEvent codes ccfb\, ccfdd
URL:https://www.wlcnonline.com/event/fundraiser-for-jefferson-street-christian-church-at-culvers-of-lincoln/2025-05-05/
LOCATION:Culver’s of Lincoln\, 2530 Woodlawn Road\, Lincoln\, IL\, 62656\, United States
ORGANIZER;CN="Culver's of Lincoln":MAILTO:lincolnculvers@comcast.net
END:VEVENT
END:VCALENDAR