BEGIN:VCALENDAR
VERSION:2.0
PRODID:-//WLCN 96.3 FM - ECPv6.15.20//NONSGML v1.0//EN
CALSCALE:GREGORIAN
METHOD:PUBLISH
X-WR-CALNAME:WLCN 96.3 FM
X-ORIGINAL-URL:https://www.wlcnonline.com
X-WR-CALDESC:Events for WLCN 96.3 FM
REFRESH-INTERVAL;VALUE=DURATION:PT1H
X-Robots-Tag:noindex
X-PUBLISHED-TTL:PT1H
BEGIN:VTIMEZONE
TZID:America/Chicago
BEGIN:DAYLIGHT
TZOFFSETFROM:-0600
TZOFFSETTO:-0500
TZNAME:CDT
DTSTART:20240310T080000
END:DAYLIGHT
BEGIN:STANDARD
TZOFFSETFROM:-0500
TZOFFSETTO:-0600
TZNAME:CST
DTSTART:20241103T070000
END:STANDARD
BEGIN:DAYLIGHT
TZOFFSETFROM:-0600
TZOFFSETTO:-0500
TZNAME:CDT
DTSTART:20250309T080000
END:DAYLIGHT
BEGIN:STANDARD
TZOFFSETFROM:-0500
TZOFFSETTO:-0600
TZNAME:CST
DTSTART:20251102T070000
END:STANDARD
BEGIN:DAYLIGHT
TZOFFSETFROM:-0600
TZOFFSETTO:-0500
TZNAME:CDT
DTSTART:20260308T080000
END:DAYLIGHT
BEGIN:STANDARD
TZOFFSETFROM:-0500
TZOFFSETTO:-0600
TZNAME:CST
DTSTART:20261101T070000
END:STANDARD
END:VTIMEZONE
BEGIN:VEVENT
DTSTART;TZID=America/Chicago:20250511T090000
DTEND;TZID=America/Chicago:20250511T100000
DTSTAMP:20260420T014549
CREATED:20250227T214918Z
LAST-MODIFIED:20251231T162155Z
UID:10019111-1746954000-1746957600@www.wlcnonline.com
SUMMARY:Alcoholics Anonymous meetings by Land of Lincoln Recovery Group at Hope on 5th in Lincoln
DESCRIPTION:Meetings are free to attend and take place at 6 PM on Tuesdays\, Wednesdays\, Fridays and Saturdays as well as at 9 AM on Saturdays and Sundays. \nEvent codes
URL:https://www.wlcnonline.com/event/alcoholics-anonymous-meetings-by-land-of-lincoln-recovery-group-at-hope-on-5th-in-lincoln-2/2025-05-11/
LOCATION:Hope on 5th in Lincoln\, 200 5th Street\, Lincoln\, 62656\, United States
ORGANIZER;CN="Logan Mason Recovery Oriented Systems of Care (ROSC)":MAILTO:jedavis@chestnut.org
END:VEVENT
BEGIN:VEVENT
DTSTART;TZID=America/Chicago:20250511T080000
DTEND;TZID=America/Chicago:20250511T110000
DTSTAMP:20260420T014549
CREATED:20250501T204257Z
LAST-MODIFIED:20250501T204257Z
UID:10019998-1746950400-1746961200@www.wlcnonline.com
SUMMARY:Humane Society of Logan County breakfast buffet and pie sale fundraiser at Lincoln American Legion Hall
DESCRIPTION:Breakfast Buffet on Mother’s Day at the American Legion in Lincoln. The menu includes scrambled eggs\, bacon\, ham\, potatoes\, biscuits and gravy\, fruit and doughnuts. Tickets cost $12 each for adults; and children under 10 eat for free. \nA variety of pies will be available for purchase at the event as well. \nEvent codes ccfb ccfdd
URL:https://www.wlcnonline.com/event/humane-society-of-logan-county-breakfast-buffet-and-pie-sale-fundraiser-at-lincoln-american-legion-hall/
LOCATION:Lincoln American Legion Post #263\, 1740 5th Street\, Lincoln\, IL\, 62656\, United States
ORGANIZER;CN="Humane Society of Logan County":MAILTO:shelter@hslclincoln.org
END:VEVENT
BEGIN:VEVENT
DTSTART;VALUE=DATE:20250511
DTEND;VALUE=DATE:20250513
DTSTAMP:20260420T014549
CREATED:20250417T133059Z
LAST-MODIFIED:20250417T133059Z
UID:10019923-1746932400-1747018799@www.wlcnonline.com
SUMMARY:May "Miles of Sunshine Challenge" month-long virtual walking event by LMH Community Health Collaborative
DESCRIPTION:Participants are invited to step into spring with Miles of Sunshine\, a month-long walking challenge running the entire month of May 2025. Participants can track their cumulative miles using the Pacer 4 Teams app (free to all participants). Click this link to visit the information page about the event; use your phone to scan the QR code on that page to download the Pacer app and join the challenge. Participants who walk 75\, 125\, 175\, or 225 miles will earn a special club-level T-shirt. \nEvent codes ccfre cchwf
URL:https://www.wlcnonline.com/event/may-miles-of-sunshine-challenge-month-long-virtual-walking-event-by-lmh-community-health-collaborative/2025-05-11/
LOCATION:IL
END:VEVENT
BEGIN:VEVENT
DTSTART;TZID=America/Chicago:20250510T190000
DTEND;TZID=America/Chicago:20250510T220000
DTSTAMP:20260420T014549
CREATED:20250508T023630Z
LAST-MODIFIED:20250508T023630Z
UID:10020025-1746903600-1746914400@www.wlcnonline.com
SUMMARY:Live music by Next Thing Smokin' at LaTeaDa Tea Room/Cafe/Barn Bar/Events in Clinton
DESCRIPTION:Next Thing Smokin’ opens LaTeaDa’s 2025 Concerts & Cocktails season as the band brings its catalog of country hits to the stage. \nFood and drinks will be available for purchase starting at 6 PM; food will be available until 9 PM. \nThe outdoor concert is free of charge. Attendees can bring their own lawn chairs. No outside coolers/food/drinks are allowed; food and drinks will be available for purchase starting at noon. \nEvent codes: ccent cclm ccsoc ccfd
URL:https://www.wlcnonline.com/event/live-music-by-next-thing-smokin-at-lateada-tea-room-cafe-barn-bar-events-in-clinton/
LOCATION:LaTeaDa Cafe/Barn Bar/Events in Clinton\, 1100 S. Madison Street\, Clinton\, IL\, 61727\, United States
ORGANIZER;CN="LaTeaDa Cafe/Barn Bar/Events":MAILTO:lateadaladies@gmail.com
END:VEVENT
BEGIN:VEVENT
DTSTART;TZID=America/Chicago:20250510T190000
DTEND;TZID=America/Chicago:20250510T220000
DTSTAMP:20260420T014549
CREATED:20250507T235719Z
LAST-MODIFIED:20250507T235719Z
UID:10020023-1746903600-1746914400@www.wlcnonline.com
SUMMARY:Live music by The Killer Riffs at Gracie's Sports Bar in Green Valley
DESCRIPTION:The Killer Riffs feature blues of the ’70s\, hits of the ’80s and tunes from the ’90s. \nEvent codes ccfb cclm ccent ccsoc
URL:https://www.wlcnonline.com/event/live-music-by-the-killer-riffs-at-gracies-sports-bar-in-green-valley/
LOCATION:Gracie’s Sports Bar in Green Valley\, 6031 IL Route 29\, Green Valley\, IL\, 61534\, United States
ORGANIZER;CN="Gracie's Sports Bar":MAILTO:bobnbec@yahoo.com
END:VEVENT
BEGIN:VEVENT
DTSTART;TZID=America/Chicago:20250510T180000
DTEND;TZID=America/Chicago:20250510T190000
DTSTAMP:20260420T014549
CREATED:20250227T214713Z
LAST-MODIFIED:20251231T161900Z
UID:10018955-1746900000-1746903600@www.wlcnonline.com
SUMMARY:Alcoholics Anonymous meetings by Land of Lincoln Recovery Group at Hope on 5th in Lincoln
DESCRIPTION:Meetings are free to attend and take place at 6 PM on Tuesdays\, Wednesdays\, Fridays and Saturdays as well as at 9 AM on Saturdays and Sundays. \nEvent codes
URL:https://www.wlcnonline.com/event/alcoholics-anonymous-meetings-by-land-of-lincoln-recovery-group-at-hope-on-5th-in-lincoln/2025-05-10/
LOCATION:Hope on 5th in Lincoln\, 200 5th Street\, Lincoln\, 62656\, United States
ORGANIZER;CN="Logan Mason Recovery Oriented Systems of Care (ROSC)":MAILTO:jedavis@chestnut.org
END:VEVENT
BEGIN:VEVENT
DTSTART;TZID=America/Chicago:20250510T170000
DTEND;TZID=America/Chicago:20250510T190000
DTSTAMP:20260420T014549
CREATED:20250508T031512Z
LAST-MODIFIED:20250508T031512Z
UID:10020060-1746896400-1746903600@www.wlcnonline.com
SUMMARY:Spaghetti dinner fundraiser for Masonic Lodge #210 in Lincoln
DESCRIPTION:This spaghetti dinner fundraiser benefits the Masonic Lodge #210 building committee and includes spaghetti\, meat sauce\, garlic bread\, dessert and drink. Free-will donations will be accepted; carry-outs are available. \nEvent codes ccfdd ccfb
URL:https://www.wlcnonline.com/event/spaghetti-dinner-fundraiser-for-masonic-lodge-210-in-lincoln/
LOCATION:Lincoln Masonic Lodge\, 2022 N. Kickapoo Street\, Lincoln\, IL\, 62656\, United States
ORGANIZER;CN="Lincoln Masonic Lodge #210":MAILTO:steven-charron@comcast.net
END:VEVENT
BEGIN:VEVENT
DTSTART;TZID=America/Chicago:20250510T110000
DTEND;TZID=America/Chicago:20250510T123000
DTSTAMP:20260420T014549
CREATED:20250508T130027Z
LAST-MODIFIED:20250508T130027Z
UID:10020067-1746874800-1746880200@www.wlcnonline.com
SUMMARY:2025 commencement exercises at Lincoln Community High School
DESCRIPTION:Commencement Exercises for the Lincoln Community High School Class of 2025 will be held on Saturday\, May 10 at 11 AM at Roy S. Anderson Gymnasium on the LCHS campus. Doors open to the public at 10:30 AM; tickets are not required. Graduates should report to the Back Gym at 10:30. \nA limited number of accessible seats will be available.  Individuals requiring accessible seating should contact Jamie Jones at the school via phone or email: jjones@lchsrailers.org or (217) 732-4131 x1200.
URL:https://www.wlcnonline.com/event/2025-commencement-exercises-at-lincoln-community-high-school/
LOCATION:Lincoln Community High School\, 1000 Railer Way\, Lincoln\, IL\, 62656\, United States
END:VEVENT
BEGIN:VEVENT
DTSTART;TZID=America/Chicago:20250510T110000
DTEND;TZID=America/Chicago:20250510T110000
DTSTAMP:20260420T014549
CREATED:20250501T205118Z
LAST-MODIFIED:20250501T205118Z
UID:10020000-1746874800-1746874800@www.wlcnonline.com
SUMMARY:Salt Creek ABATE cookout and membership drive at Farm & Home Supply in Lincoln
DESCRIPTION:Interested persons are invited to attend and enjoy food while learning more about the group. There will be ribeye and pulled pork sandwiches as well as potato chips and soda. ABATE of Illinois bike raffle tickets will also be available with the Top 3 raffle prizes on display at the event. Hot dogs will be available for children. \nEvent codes ccgoe ccfb
URL:https://www.wlcnonline.com/event/salt-creek-abate-cookout-and-membership-drive-at-farm-home-supply-in-lincoln/
LOCATION:Farm & Home Supply in Lincoln\, 1501 Woodlawn Road\, Lincoln\, IL\, 62656\, United States
ORGANIZER;CN="Salt Creek ABATE Chapter":MAILTO:saltcreekabate@groups.facebook.com
END:VEVENT
BEGIN:VEVENT
DTSTART;TZID=America/Chicago:20250510T094500
DTEND;TZID=America/Chicago:20250510T094500
DTSTAMP:20260420T014549
CREATED:20250508T030119Z
LAST-MODIFIED:20250508T030119Z
UID:10020058-1746870300-1746870300@www.wlcnonline.com
SUMMARY:Ribbon cutting/grand opening for The Overstock Outlet in downtown Lincoln
DESCRIPTION:The Overstock Outlet officially opens its doors in downtown Lincoln featuring a ribbon cutting at 9:50 AM followed by the doors opening to the public at 10 AM. \nEvent codes cclbep
URL:https://www.wlcnonline.com/event/ribbon-cutting-grand-opening-for-the-overstock-outlet-in-downtown-lincoln/
LOCATION:The Overstock Outlet in Lincoln\, 129 S Kickapoo Street\, Lincoln\, 62656\, United States
ORGANIZER;CN="The Overstock Outlet":MAILTO:mc.overstockoutlet@gmail.com
END:VEVENT
BEGIN:VEVENT
DTSTART;TZID=America/Chicago:20250510T090000
DTEND;TZID=America/Chicago:20250510T100000
DTSTAMP:20260420T014549
CREATED:20250227T214918Z
LAST-MODIFIED:20251231T162155Z
UID:10019110-1746867600-1746871200@www.wlcnonline.com
SUMMARY:Alcoholics Anonymous meetings by Land of Lincoln Recovery Group at Hope on 5th in Lincoln
DESCRIPTION:Meetings are free to attend and take place at 6 PM on Tuesdays\, Wednesdays\, Fridays and Saturdays as well as at 9 AM on Saturdays and Sundays. \nEvent codes
URL:https://www.wlcnonline.com/event/alcoholics-anonymous-meetings-by-land-of-lincoln-recovery-group-at-hope-on-5th-in-lincoln-2/2025-05-10/
LOCATION:Hope on 5th in Lincoln\, 200 5th Street\, Lincoln\, 62656\, United States
ORGANIZER;CN="Logan Mason Recovery Oriented Systems of Care (ROSC)":MAILTO:jedavis@chestnut.org
END:VEVENT
BEGIN:VEVENT
DTSTART;TZID=America/Chicago:20250510T080000
DTEND;TZID=America/Chicago:20250510T150000
DTSTAMP:20260420T014549
CREATED:20250508T025602Z
LAST-MODIFIED:20250508T025602Z
UID:10020057-1746864000-1746889200@www.wlcnonline.com
SUMMARY:Garden plant sale by Route 66 Garden Plants in McLean
DESCRIPTION:The sale takes place at 300 N. East Street in McLean and will include different varieties of tomatoes\, dahlias\, zinnia\, coneflowers\, tithonia\, tropical milkweed and others. \nEvent codes cclbep
URL:https://www.wlcnonline.com/event/garden-plant-sale-by-route-66-garden-plants-in-mclean/
LOCATION:300 N. East Street in McLean\, 300 N. East Street\, McLean\, 61754\, United States
ORGANIZER;CN="Route 66 Garden Plants":MAILTO:jeffvd42@gmail.com
END:VEVENT
BEGIN:VEVENT
DTSTART;TZID=America/Chicago:20250510T080000
DTEND;TZID=America/Chicago:20250510T100000
DTSTAMP:20260420T014549
CREATED:20250507T235402Z
LAST-MODIFIED:20250507T235402Z
UID:10020022-1746864000-1746871200@www.wlcnonline.com
SUMMARY:Precision Church Faith + Fitness workout session at Precision Movement in Lincoln
DESCRIPTION:This event mixes faith and fitness to strengthen both bodies and spirits. The class is open to the public; attendees do not have to be a member to come break a sweat\, share positive energy and connect with other believers. \nThe event will start with prayer\, a group workout session suitable for all fitness levels\, followed by a time of fellowship and reflection. \nEvent codes cchwf ccrel
URL:https://www.wlcnonline.com/event/precision-church-faith-fitness-workout-session-at-precision-movement-in-lincoln-4/
LOCATION:Precision Movement in Lincoln\, 1417 N. Kickapoo Street\, Lincoln\, IL\, 62656\, United States
ORGANIZER;CN="Precision Movement in Lincoln":MAILTO:ashley@precision-movement.com
END:VEVENT
BEGIN:VEVENT
DTSTART;VALUE=DATE:20250510
DTEND;VALUE=DATE:20250512
DTSTAMP:20260420T014549
CREATED:20250506T130036Z
LAST-MODIFIED:20250506T130036Z
UID:10020017-1746846000-1746932399@www.wlcnonline.com
SUMMARY:2025 Stamp Out Hunger Food Drive by U.S. Postal Service Lincoln Branch
DESCRIPTION:City and rural carriers of the Lincoln Post Office will take part in the 33rd annual Stamp Out Hunger Food Drive on Saturday\, May 10. \nCustomers wishing to donate may leave their items in or around the mailbox for carrier pickup. Volunteers will also be helping to collect the food.  \nFood items donated should be canned goods or nonperishables in boxes. Please do not leave any items packaged in glass. Please be sure to check the expiration date of items donated as the food pantries cannot distribute expired items. \nThe food collected will be donated to the various food banks in Logan County. \nThe event is sponsored by the National Association of Letter Carriers and is the nation’s largest one-day food drive.
URL:https://www.wlcnonline.com/event/2025-stamp-out-hunger-food-drive-by-u-s-postal-service-lincoln-branch/
LOCATION:Mail pickup locations in and around Lincoln\, Lincoln and rural Lincoln\, 62656\, United States
END:VEVENT
BEGIN:VEVENT
DTSTART;VALUE=DATE:20250510
DTEND;VALUE=DATE:20250512
DTSTAMP:20260420T014549
CREATED:20250417T133059Z
LAST-MODIFIED:20250417T133059Z
UID:10019922-1746846000-1746932399@www.wlcnonline.com
SUMMARY:May "Miles of Sunshine Challenge" month-long virtual walking event by LMH Community Health Collaborative
DESCRIPTION:Participants are invited to step into spring with Miles of Sunshine\, a month-long walking challenge running the entire month of May 2025. Participants can track their cumulative miles using the Pacer 4 Teams app (free to all participants). Click this link to visit the information page about the event; use your phone to scan the QR code on that page to download the Pacer app and join the challenge. Participants who walk 75\, 125\, 175\, or 225 miles will earn a special club-level T-shirt. \nEvent codes ccfre cchwf
URL:https://www.wlcnonline.com/event/may-miles-of-sunshine-challenge-month-long-virtual-walking-event-by-lmh-community-health-collaborative/2025-05-10/
LOCATION:IL
END:VEVENT
BEGIN:VEVENT
DTSTART;TZID=America/Chicago:20250509T190000
DTEND;TZID=America/Chicago:20250509T220000
DTSTAMP:20260420T014549
CREATED:20250507T235210Z
LAST-MODIFIED:20250507T235210Z
UID:10020021-1746817200-1746828000@www.wlcnonline.com
SUMMARY:Live music by The Tucked In T's at the Irish Circle in Wapella
DESCRIPTION:Enjoy an eclectic acoustic mix of folk\, blues\, rock and more with a catalog of songs that include The Beatles\, The Rolling Stones\, The Doobie Brothers\, The Allman Brothers\, Chris Stapleton\, Grateful Dead\, Keb’ Mo’\, John Prine\, Neil Young\, Steve Earl\, Fleetwood Mac and many more. \nEvent codes ccent cclm ccfb
URL:https://www.wlcnonline.com/event/live-music-by-the-tucked-in-ts-at-the-irish-circle-in-wapella-2/
LOCATION:The Irish Circle in Wapella\, 405 N Walnut Street\, Wapella\, IL\, 61777\, United States
END:VEVENT
BEGIN:VEVENT
DTSTART;TZID=America/Chicago:20250509T190000
DTEND;TZID=America/Chicago:20250509T220000
DTSTAMP:20260420T014549
CREATED:20250501T212951Z
LAST-MODIFIED:20250501T212951Z
UID:10020007-1746817200-1746828000@www.wlcnonline.com
SUMMARY:Live music by Outland at Red Wing Bowl in Atlanta
DESCRIPTION:Outland is based in central Illinois\, with members hailing from Washington\, Bloomington\, and Atlanta. The band’s set list includes country favorites along with rock and alternative classics. \nEvent codes ccent cclm ccsoc ccfb
URL:https://www.wlcnonline.com/event/live-music-by-outland-at-red-wing-bowl-in-atlanta/
LOCATION:Red Wing Bowl in Atlanta\, 200 SW 1st Street\, Atlanta\, IL\, 61723\, United States
ORGANIZER;CN="Red Wing Bowl":MAILTO:redwingbowl@yahoo.com
END:VEVENT
BEGIN:VEVENT
DTSTART;TZID=America/Chicago:20250509T180000
DTEND;TZID=America/Chicago:20250509T210000
DTSTAMP:20260420T014549
CREATED:20250501T205555Z
LAST-MODIFIED:20250501T205555Z
UID:10020001-1746813600-1746824400@www.wlcnonline.com
SUMMARY:Second Friday event with live music from Jason Bassett on the square in Mt. Pulaski
DESCRIPTION:The 2nd Friday on the Square events in Mt. Pulaski are free family-friendly events to attend with plenty of craft vendors\, food and drinks\, and activities for kids from 5 PM to 8 PM. Kids will have fun with free activities just for them\, parents will enjoy tasty food and drink vendors\, and everyone will love the crafts on display and live entertainment. Jason Bassett will provide live music.  \nEvent codes ccff ccent cclm ccvs ccfb ccfk
URL:https://www.wlcnonline.com/event/second-friday-event-with-live-music-from-jason-bassett-on-the-square-in-mt-pulaski/
LOCATION:Downtown Square in Mt. Pulaski\, 113 S. Lafayette Street\, Mt. Pulaski\, 62548
ORGANIZER;CN="Mt. Pulaski Community Association":MAILTO:mtpulaskibusinessassociation@gmail.com
END:VEVENT
BEGIN:VEVENT
DTSTART;TZID=America/Chicago:20250509T180000
DTEND;TZID=America/Chicago:20250509T190000
DTSTAMP:20260420T014549
CREATED:20250227T214713Z
LAST-MODIFIED:20251231T161900Z
UID:10018954-1746813600-1746817200@www.wlcnonline.com
SUMMARY:Alcoholics Anonymous meetings by Land of Lincoln Recovery Group at Hope on 5th in Lincoln
DESCRIPTION:Meetings are free to attend and take place at 6 PM on Tuesdays\, Wednesdays\, Fridays and Saturdays as well as at 9 AM on Saturdays and Sundays. \nEvent codes
URL:https://www.wlcnonline.com/event/alcoholics-anonymous-meetings-by-land-of-lincoln-recovery-group-at-hope-on-5th-in-lincoln/2025-05-09/
LOCATION:Hope on 5th in Lincoln\, 200 5th Street\, Lincoln\, 62656\, United States
ORGANIZER;CN="Logan Mason Recovery Oriented Systems of Care (ROSC)":MAILTO:jedavis@chestnut.org
END:VEVENT
BEGIN:VEVENT
DTSTART;TZID=America/Chicago:20250509T170000
DTEND;TZID=America/Chicago:20250509T203000
DTSTAMP:20260420T014549
CREATED:20250507T234929Z
LAST-MODIFIED:20250508T124535Z
UID:10020020-1746810000-1746822600@www.wlcnonline.com
SUMMARY:Fundraiser dinner and quarter auction at Waynesville American Legion Post #1189
DESCRIPTION:Tenderloins\, mini corn dogs and ribeye sandwiches will be available starting at 5 PM with carry-out available. \nVendors for the quarter auction will be available around 5:30 PM with paddle sales starting at 6 PM and the auction getting underway at 7 PM. Funds raised will support the upcoming Waynesville sesquicentennial celebration as well as the Waynesville Fire Department. \nEvent codes ccqa ccsoc ccfb ccfdd
URL:https://www.wlcnonline.com/event/fundraiser-dinner-and-quarter-auction-at-waynesville-american-legion-post-1189/
LOCATION:American Legion Post #1189 in Waynesville\, 212 Second Street\, Waynesville\, IL\, 61778\, United States
ORGANIZER;CN="Waynesville Fire Department":MAILTO:wfpd721@gmail.com
END:VEVENT
BEGIN:VEVENT
DTSTART;TZID=America/Chicago:20250509T170000
DTEND;TZID=America/Chicago:20250509T170000
DTSTAMP:20260420T014549
CREATED:20250501T213240Z
LAST-MODIFIED:20250501T213240Z
UID:10020008-1746810000-1746810000@www.wlcnonline.com
SUMMARY:Friday night live featuring live music by Michael Helgeson at The Lodge Off 66 in rural Hartsburg
DESCRIPTION:Enjoy live music from Michael Helgeson as he plays tunes from the 1960s through some of todays popular songs. \nEvent codes ccent cclm ccfb
URL:https://www.wlcnonline.com/event/friday-night-live-featuring-live-music-by-michael-helgeson-at-the-lodge-off-66-in-rural-hartsburg/
LOCATION:The Lodge off 66 in rural Hartsburg\, 2265 900th Avenue\, Hartsburg\, IL\, 62643\, United States
END:VEVENT
BEGIN:VEVENT
DTSTART;TZID=America/Chicago:20250509T120000
DTEND;TZID=America/Chicago:20250509T133000
DTSTAMP:20260420T014549
CREATED:20250227T221857Z
LAST-MODIFIED:20251231T161051Z
UID:10019601-1746792000-1746797400@www.wlcnonline.com
SUMMARY:SMART (Self-Management and Recovery Training) recovery meetings at Hope on 5th in Lincoln
DESCRIPTION:Meetings are free to attend and take place Fridays from noon to 1:30 PM. \nEvent codes
URL:https://www.wlcnonline.com/event/smart-self-management-and-recovery-training-recovery-meetings-at-hope-on-5th-in-lincoln/2025-05-09/
LOCATION:Hope on 5th in Lincoln\, 200 5th Street\, Lincoln\, 62656\, United States
ORGANIZER;CN="Logan Mason Recovery Oriented Systems of Care (ROSC)":MAILTO:jedavis@chestnut.org
END:VEVENT
BEGIN:VEVENT
DTSTART;TZID=America/Chicago:20250509T110000
DTEND;TZID=America/Chicago:20250509T120000
DTSTAMP:20260420T014549
CREATED:20250227T220937Z
LAST-MODIFIED:20251231T160939Z
UID:10019426-1746788400-1746792000@www.wlcnonline.com
SUMMARY:Alcoholics Anonymous meetings at Trinity Episcopal Church in Lincoln
DESCRIPTION:Meetings are free to attend and take place at the following times: \n\nMondays at 7 PM\nWednesdays at 6 PM\nFridays at 11 AM\nSundays at 6 PM\n\nEvent codes
URL:https://www.wlcnonline.com/event/alcoholics-anonymous-meetings-at-trinity-episcopal-church-in-lincoln-3/2025-05-09/
LOCATION:Trinity Episcopal Church in Lincoln\, 402 Pekin Street\, Lincoln\, 62656\, United States
ORGANIZER;CN="Logan Mason Recovery Oriented Systems of Care (ROSC)":MAILTO:jedavis@chestnut.org
END:VEVENT
BEGIN:VEVENT
DTSTART;TZID=America/Chicago:20250509T100000
DTEND;TZID=America/Chicago:20250509T104500
DTSTAMP:20260420T014549
CREATED:20250403T194149Z
LAST-MODIFIED:20250403T194149Z
UID:10019842-1746784800-1746787500@www.wlcnonline.com
SUMMARY:Cardio and strength training by Silver Fox Fitness at Lincoln VFW Hall
DESCRIPTION:The sessions feature low-impact exercises to increase strength and endurance which are adaptable to any ability level. \nEvent codes: ccfs\, cchwf
URL:https://www.wlcnonline.com/event/cardio-and-strength-training-by-silver-fox-fitness-at-lincoln-vfw-hall/2025-05-09/
LOCATION:VFW Post 1756 Freedom Hall Event Center in Lincoln\, 915 5th Street\, Lincoln\, IL\, 62656\, United States
END:VEVENT
BEGIN:VEVENT
DTSTART;VALUE=DATE:20250509
DTEND;VALUE=DATE:20250511
DTSTAMP:20260420T014549
CREATED:20250417T133059Z
LAST-MODIFIED:20250417T133059Z
UID:10019921-1746759600-1746845999@www.wlcnonline.com
SUMMARY:May "Miles of Sunshine Challenge" month-long virtual walking event by LMH Community Health Collaborative
DESCRIPTION:Participants are invited to step into spring with Miles of Sunshine\, a month-long walking challenge running the entire month of May 2025. Participants can track their cumulative miles using the Pacer 4 Teams app (free to all participants). Click this link to visit the information page about the event; use your phone to scan the QR code on that page to download the Pacer app and join the challenge. Participants who walk 75\, 125\, 175\, or 225 miles will earn a special club-level T-shirt. \nEvent codes ccfre cchwf
URL:https://www.wlcnonline.com/event/may-miles-of-sunshine-challenge-month-long-virtual-walking-event-by-lmh-community-health-collaborative/2025-05-09/
LOCATION:IL
END:VEVENT
BEGIN:VEVENT
DTSTART;TZID=America/Chicago:20250508T190000
DTEND;TZID=America/Chicago:20250508T220000
DTSTAMP:20260420T014549
CREATED:20250213T051033Z
LAST-MODIFIED:20250602T141945Z
UID:10018365-1746730800-1746741600@www.wlcnonline.com
SUMMARY:Open mic night at Spirited Republic in Lincoln
DESCRIPTION:Spirited Republic open mic nights are a solo acoustic musical experiment with the goal of cultivating friendship\, support and good times amongst musicians\, comedians\, poets and artists of all kinds. Performers are asked to bring their own instruments (no drum sets; hand drums and percussion equipment only). \nEvent codes: ccent\, ccfb\, cclm\, ccsoc
URL:https://www.wlcnonline.com/event/open-mic-night-at-spirited-republic-in-lincoln/2025-05-08/
LOCATION:Spirited Republic in Lincoln\, 509 Pulaski Street\, Lincoln\, IL\, 62656\, United States
ORGANIZER;CN="Spirited Republic/Limerick Brewing Company":MAILTO:spiritedrepublic@gmail.com
END:VEVENT
BEGIN:VEVENT
DTSTART;TZID=America/Chicago:20250508T190000
DTEND;TZID=America/Chicago:20250508T203000
DTSTAMP:20260420T014549
CREATED:20250501T212652Z
LAST-MODIFIED:20250501T212652Z
UID:10020006-1746730800-1746736200@www.wlcnonline.com
SUMMARY:Music bingo (greatest hits) (food/drinks @ 5:30 PM; bingo at 7 PM) at LaTeaDa Cafe/Barn Bar/Events in Clinton
DESCRIPTION:Kicking off this year’s music bingo season with great hits from all genres and all decades. If a song on your card is played\, cross it off; the first person one to bingo wins a fun prize. \nMusic Bingo is free to play; participants must be 18 or older. \nNo reservations are needed. No outside food or drink allowed. The Barn Bar & Outdoor Kitchen begins serving at 5:30 PM before the games begin at 7 PM. \nEvent codes: ccent\, ccfb\, cfre\, ccgc\, ccdj
URL:https://www.wlcnonline.com/event/music-bingo-greatest-hits-food-drinks-530-pm-bingo-at-7-pm-at-lateada-cafe-barn-bar-events-in-clinton/
LOCATION:LaTeaDa Cafe/Barn Bar/Events in Clinton\, 1100 S. Madison Street\, Clinton\, IL\, 61727\, United States
ORGANIZER;CN="LaTeaDa Cafe/Barn Bar/Events":MAILTO:lateadaladies@gmail.com
END:VEVENT
BEGIN:VEVENT
DTSTART;TZID=America/Chicago:20250508T190000
DTEND;TZID=America/Chicago:20250508T200000
DTSTAMP:20260420T014549
CREATED:20250227T221223Z
LAST-MODIFIED:20251231T171824Z
UID:10019513-1746730800-1746734400@www.wlcnonline.com
SUMMARY:Alcoholics Anonymous meetings at Atlanta Community House in Atlanta
DESCRIPTION:Meetings are free to attend and take place Thursdays at 7 PM. \nEvent codes
URL:https://www.wlcnonline.com/event/alcoholics-anonymous-meetings-at-atlanta-community-house-in-atlanta/2025-05-08/
LOCATION:Atlanta Memorial Community House\, 106 SW 6th Street\, Atlanta\, IL\, 61723\, United States
ORGANIZER;CN="Logan Mason Recovery Oriented Systems of Care (ROSC)":MAILTO:jedavis@chestnut.org
END:VEVENT
BEGIN:VEVENT
DTSTART;TZID=America/Chicago:20250508T190000
DTEND;TZID=America/Chicago:20250508T200000
DTSTAMP:20260420T014549
CREATED:20250227T220255Z
LAST-MODIFIED:20251231T170522Z
UID:10019295-1746730800-1746734400@www.wlcnonline.com
SUMMARY:Celebrate recovery events at Open Arms Christian Fellowship in Lincoln
DESCRIPTION:Events take place on Thursday evenings with snacks served at 6 PM and the meeting starting at 7 PM.
URL:https://www.wlcnonline.com/event/celebrate-recovery-events-at-open-arms-christian-fellowship-in-lincoln/2025-05-08/
LOCATION:Open Arms Christian Fellowship\, 1321 State Route 10\, Lincoln\, IL\, 62656\, United States
ORGANIZER;CN="Hope on 5th":MAILTO:rhss2005th@gmail.com
END:VEVENT
BEGIN:VEVENT
DTSTART;TZID=America/Chicago:20250508T190000
DTEND;TZID=America/Chicago:20250508T190000
DTSTAMP:20260420T014549
CREATED:20240329T042327Z
LAST-MODIFIED:20251231T163130Z
UID:10016943-1746730800-1746730800@www.wlcnonline.com
SUMMARY:Xtreme Bar Bingo at The Rusty Rail in Lincoln
DESCRIPTION:Xtreme Bar Bingo is bingo game with awesome prizes. The Rusty Rail features Xtreme Bar Bingo on Thursday nights beginning at 7 PM. \nEvent codes: ccgc\, ccsoc ccbin
URL:https://www.wlcnonline.com/event/xtreme-bar-bingo-at-the-rusty-rail-in-lincoln/2025-05-08/
LOCATION:The Rusty Rail Pub in Lincoln\, 405 Pulaski Street\, Lincoln\, IL\, 62656\, United States
END:VEVENT
END:VCALENDAR