BEGIN:VCALENDAR
VERSION:2.0
PRODID:-//WLCN 96.3 FM - ECPv6.15.20//NONSGML v1.0//EN
CALSCALE:GREGORIAN
METHOD:PUBLISH
X-WR-CALNAME:WLCN 96.3 FM
X-ORIGINAL-URL:https://www.wlcnonline.com
X-WR-CALDESC:Events for WLCN 96.3 FM
REFRESH-INTERVAL;VALUE=DURATION:PT1H
X-Robots-Tag:noindex
X-PUBLISHED-TTL:PT1H
BEGIN:VTIMEZONE
TZID:America/Chicago
BEGIN:DAYLIGHT
TZOFFSETFROM:-0600
TZOFFSETTO:-0500
TZNAME:CDT
DTSTART:20240310T080000
END:DAYLIGHT
BEGIN:STANDARD
TZOFFSETFROM:-0500
TZOFFSETTO:-0600
TZNAME:CST
DTSTART:20241103T070000
END:STANDARD
BEGIN:DAYLIGHT
TZOFFSETFROM:-0600
TZOFFSETTO:-0500
TZNAME:CDT
DTSTART:20250309T080000
END:DAYLIGHT
BEGIN:STANDARD
TZOFFSETFROM:-0500
TZOFFSETTO:-0600
TZNAME:CST
DTSTART:20251102T070000
END:STANDARD
BEGIN:DAYLIGHT
TZOFFSETFROM:-0600
TZOFFSETTO:-0500
TZNAME:CDT
DTSTART:20260308T080000
END:DAYLIGHT
BEGIN:STANDARD
TZOFFSETFROM:-0500
TZOFFSETTO:-0600
TZNAME:CST
DTSTART:20261101T070000
END:STANDARD
END:VTIMEZONE
BEGIN:VEVENT
DTSTART;TZID=America/Chicago:20250515T190000
DTEND;TZID=America/Chicago:20250515T190000
DTSTAMP:20260420T000515
CREATED:20240329T042327Z
LAST-MODIFIED:20251231T163130Z
UID:10016944-1747335600-1747335600@www.wlcnonline.com
SUMMARY:Xtreme Bar Bingo at The Rusty Rail in Lincoln
DESCRIPTION:Xtreme Bar Bingo is bingo game with awesome prizes. The Rusty Rail features Xtreme Bar Bingo on Thursday nights beginning at 7 PM. \nEvent codes: ccgc\, ccsoc ccbin
URL:https://www.wlcnonline.com/event/xtreme-bar-bingo-at-the-rusty-rail-in-lincoln/2025-05-15/
LOCATION:The Rusty Rail Pub in Lincoln\, 405 Pulaski Street\, Lincoln\, IL\, 62656\, United States
END:VEVENT
BEGIN:VEVENT
DTSTART;TZID=America/Chicago:20250515T180000
DTEND;TZID=America/Chicago:20250515T190000
DTSTAMP:20260420T000515
CREATED:20250425T040659Z
LAST-MODIFIED:20250425T040810Z
UID:10019984-1747332000-1747335600@www.wlcnonline.com
SUMMARY:Waltz lessons (4 weeks starting 5/1) at Lincoln Park District
DESCRIPTION:This four week course on the waltz will teach participants some of basic patterns each week. The classes meet the first four Thursdays in May (5/1\, 5/8\, 5/15\, 5/22) from 6 PM to 7 PM. Contact the Lincoln Park District to register. \nEvent codes cchwf
URL:https://www.wlcnonline.com/event/waltz-lessons-4-weeks-starting-5-1-at-lincoln-park-district/2025-05-15/
LOCATION:Lincoln Park District\, 1400 Primm Road\, Lincoln\, IL\, 62656\, United States
ORGANIZER;CN="Lincoln Park District":MAILTO:info@lincolnparkdistrict.com
END:VEVENT
BEGIN:VEVENT
DTSTART;TZID=America/Chicago:20250515T180000
DTEND;TZID=America/Chicago:20250515T190000
DTSTAMP:20260420T000515
CREATED:20250227T215251Z
LAST-MODIFIED:20251231T170747Z
UID:10019189-1747332000-1747335600@www.wlcnonline.com
SUMMARY:Narcotics Anonymous meetings by Land of Lincoln Recovery Group at Hope on 5th in Lincoln
DESCRIPTION:Meetings are free to attend and take place at 6 PM Thursdays as well as at 5 PM on Sundays. \nEvent codes
URL:https://www.wlcnonline.com/event/narcotics-anonymous-meetings-by-land-of-lincoln-recovery-group-at-hope-on-5th-in-lincoln-2/2025-05-15/
LOCATION:Hope on 5th in Lincoln\, 200 5th Street\, Lincoln\, 62656\, United States
ORGANIZER;CN="Logan Mason Recovery Oriented Systems of Care (ROSC)":MAILTO:jedavis@chestnut.org
END:VEVENT
BEGIN:VEVENT
DTSTART;TZID=America/Chicago:20250515T160000
DTEND;TZID=America/Chicago:20250515T180000
DTSTAMP:20260420T000515
CREATED:20250508T004509Z
LAST-MODIFIED:20250508T004509Z
UID:10020024-1747324800-1747332000@www.wlcnonline.com
SUMMARY:Free trauma-informed care education event at Lincoln Memorial Hospital
DESCRIPTION:Memorial Health is offering free in-person and virtual trainings on trauma-informed care for people who work in community-based organizations\, healthcare or education settings or who work closely with people in vulnerable populations. Two continuing education credits are available for people who work in clinical settings. Click here for more information or to register online for the event. \nEvent codes cchwf
URL:https://www.wlcnonline.com/event/free-trauma-informed-care-education-event-at-lincoln-memorial-hospital-2/
LOCATION:Lincoln Memorial Hospital\, 200 Stahlhut Drive\, Lincoln\, IL\, 62656\, United States
END:VEVENT
BEGIN:VEVENT
DTSTART;TZID=America/Chicago:20250515T100000
DTEND;TZID=America/Chicago:20250515T104500
DTSTAMP:20260420T000515
CREATED:20250109T220309Z
LAST-MODIFIED:20250403T210913Z
UID:10019876-1747303200-1747305900@www.wlcnonline.com
SUMMARY:Fall prevention/balance building class by Silver Fox Fitness at Lincoln YMCA
DESCRIPTION:This class is designed for participants to build strength and endurance to help with building balance and preventing falls. \nEvent codes cchwf ccsen
URL:https://www.wlcnonline.com/event/fall-prevention-balance-building-class-by-silver-fox-fitness-at-lincoln-ymca-2/2025-05-15/
LOCATION:Lincoln Area YMCA\, 719 Wyatt Avenue\, Lincoln\, IL\, 62656\, United States
END:VEVENT
BEGIN:VEVENT
DTSTART;VALUE=DATE:20250515
DTEND;VALUE=DATE:20250517
DTSTAMP:20260420T000515
CREATED:20250417T133059Z
LAST-MODIFIED:20250417T133059Z
UID:10019927-1747278000-1747364399@www.wlcnonline.com
SUMMARY:May "Miles of Sunshine Challenge" month-long virtual walking event by LMH Community Health Collaborative
DESCRIPTION:Participants are invited to step into spring with Miles of Sunshine\, a month-long walking challenge running the entire month of May 2025. Participants can track their cumulative miles using the Pacer 4 Teams app (free to all participants). Click this link to visit the information page about the event; use your phone to scan the QR code on that page to download the Pacer app and join the challenge. Participants who walk 75\, 125\, 175\, or 225 miles will earn a special club-level T-shirt. \nEvent codes ccfre cchwf
URL:https://www.wlcnonline.com/event/may-miles-of-sunshine-challenge-month-long-virtual-walking-event-by-lmh-community-health-collaborative/2025-05-15/
END:VEVENT
BEGIN:VEVENT
DTSTART;TZID=America/Chicago:20250514T180000
DTEND;TZID=America/Chicago:20250514T235900
DTSTAMP:20260420T000515
CREATED:20250508T140922Z
LAST-MODIFIED:20250508T140922Z
UID:10020071-1747245600-1747267140@www.wlcnonline.com
SUMMARY:Bike night at The Rusty Rail Pub in Lincoln
DESCRIPTION:Bike Nights are back on Wednesdays through thru October 8. Enjoy drinks\, games\, contests\, prizes and of course bikes Wednesdays starting at 6 PM. \nEvent codes cclbep ccfb ccsoc
URL:https://www.wlcnonline.com/event/bike-night-at-the-rusty-rail-pub-in-lincoln/2025-05-14/
LOCATION:The Rusty Rail Pub in Lincoln\, 405 Pulaski Street\, Lincoln\, IL\, 62656\, United States
END:VEVENT
BEGIN:VEVENT
DTSTART;TZID=America/Chicago:20250514T180000
DTEND;TZID=America/Chicago:20250514T190000
DTSTAMP:20260420T000515
CREATED:20250423T160306Z
LAST-MODIFIED:20250425T050736Z
UID:10019971-1747245600-1747249200@www.wlcnonline.com
SUMMARY:Weight loss challenge at LoCo Nutrition in Lincoln
DESCRIPTION:This weekly program runs through June 4 and can be used by participants to lose weight\, gain energy\, or just feel their best. \nEvent codes cchwf cclbep
URL:https://www.wlcnonline.com/event/weight-loss-challenge-at-loco-nutrition-in-lincoln/2025-05-14/
LOCATION:LoCo Nutrition in Lincoln\, 622 N. Chicago Street\, Lincoln\, IL\, 62656\, United States
END:VEVENT
BEGIN:VEVENT
DTSTART;TZID=America/Chicago:20250514T180000
DTEND;TZID=America/Chicago:20250514T190000
DTSTAMP:20260420T000515
CREATED:20250227T221550Z
LAST-MODIFIED:20251231T171533Z
UID:10019557-1747245600-1747249200@www.wlcnonline.com
SUMMARY:Odds & Ends peer recovery support group meeting at Hardee's in Havana
DESCRIPTION:Meetings are free to attend and take place Wednesdays at 6 PM. \nEvent codes
URL:https://www.wlcnonline.com/event/odds-ends-peer-recovery-support-group-meeting-at-hardees-in-havana/2025-05-14/
LOCATION:Hardee’s in Havana\, 401 W. Dearborn Street\, Havana\, 62644\, United States
ORGANIZER;CN="Logan Mason Recovery Oriented Systems of Care (ROSC)":MAILTO:jedavis@chestnut.org
END:VEVENT
BEGIN:VEVENT
DTSTART;TZID=America/Chicago:20250514T180000
DTEND;TZID=America/Chicago:20250514T190000
DTSTAMP:20260420T000515
CREATED:20250227T220829Z
LAST-MODIFIED:20251231T164443Z
UID:10019383-1747245600-1747249200@www.wlcnonline.com
SUMMARY:Alcoholics Anonymous meetings at Trinity Episcopal Church in Lincoln
DESCRIPTION:Meetings are free to attend and take place at the following times: \n\nMondays at 7 PM\nWednesdays at 6 PM\nFridays at 11 AM\nSundays at 6 PM\n\nEvent codes
URL:https://www.wlcnonline.com/event/alcoholics-anonymous-meetings-at-trinity-episcopal-church-in-lincoln-2/2025-05-14/
LOCATION:Trinity Episcopal Church in Lincoln\, 402 Pekin Street\, Lincoln\, 62656\, United States
ORGANIZER;CN="Logan Mason Recovery Oriented Systems of Care (ROSC)":MAILTO:jedavis@chestnut.org
END:VEVENT
BEGIN:VEVENT
DTSTART;TZID=America/Chicago:20250514T180000
DTEND;TZID=America/Chicago:20250514T190000
DTSTAMP:20260420T000515
CREATED:20250227T214713Z
LAST-MODIFIED:20251231T161900Z
UID:10018957-1747245600-1747249200@www.wlcnonline.com
SUMMARY:Alcoholics Anonymous meetings by Land of Lincoln Recovery Group at Hope on 5th in Lincoln
DESCRIPTION:Meetings are free to attend and take place at 6 PM on Tuesdays\, Wednesdays\, Fridays and Saturdays as well as at 9 AM on Saturdays and Sundays. \nEvent codes
URL:https://www.wlcnonline.com/event/alcoholics-anonymous-meetings-by-land-of-lincoln-recovery-group-at-hope-on-5th-in-lincoln/2025-05-14/
LOCATION:Hope on 5th in Lincoln\, 200 5th Street\, Lincoln\, 62656\, United States
ORGANIZER;CN="Logan Mason Recovery Oriented Systems of Care (ROSC)":MAILTO:jedavis@chestnut.org
END:VEVENT
BEGIN:VEVENT
DTSTART;VALUE=DATE:20250514
DTEND;VALUE=DATE:20250516
DTSTAMP:20260420T000515
CREATED:20250417T133059Z
LAST-MODIFIED:20250417T133059Z
UID:10019926-1747191600-1747277999@www.wlcnonline.com
SUMMARY:May "Miles of Sunshine Challenge" month-long virtual walking event by LMH Community Health Collaborative
DESCRIPTION:Participants are invited to step into spring with Miles of Sunshine\, a month-long walking challenge running the entire month of May 2025. Participants can track their cumulative miles using the Pacer 4 Teams app (free to all participants). Click this link to visit the information page about the event; use your phone to scan the QR code on that page to download the Pacer app and join the challenge. Participants who walk 75\, 125\, 175\, or 225 miles will earn a special club-level T-shirt. \nEvent codes ccfre cchwf
URL:https://www.wlcnonline.com/event/may-miles-of-sunshine-challenge-month-long-virtual-walking-event-by-lmh-community-health-collaborative/2025-05-14/
END:VEVENT
BEGIN:VEVENT
DTSTART;TZID=America/Chicago:20250513T180000
DTEND;TZID=America/Chicago:20250513T190000
DTSTAMP:20260420T000515
CREATED:20250227T214713Z
LAST-MODIFIED:20251231T161900Z
UID:10018956-1747159200-1747162800@www.wlcnonline.com
SUMMARY:Alcoholics Anonymous meetings by Land of Lincoln Recovery Group at Hope on 5th in Lincoln
DESCRIPTION:Meetings are free to attend and take place at 6 PM on Tuesdays\, Wednesdays\, Fridays and Saturdays as well as at 9 AM on Saturdays and Sundays. \nEvent codes
URL:https://www.wlcnonline.com/event/alcoholics-anonymous-meetings-by-land-of-lincoln-recovery-group-at-hope-on-5th-in-lincoln/2025-05-13/
LOCATION:Hope on 5th in Lincoln\, 200 5th Street\, Lincoln\, 62656\, United States
ORGANIZER;CN="Logan Mason Recovery Oriented Systems of Care (ROSC)":MAILTO:jedavis@chestnut.org
END:VEVENT
BEGIN:VEVENT
DTSTART;TZID=America/Chicago:20250513T170000
DTEND;TZID=America/Chicago:20250513T203000
DTSTAMP:20260420T000515
CREATED:20250220T233455Z
LAST-MODIFIED:20251231T163935Z
UID:10018858-1747155600-1747168200@www.wlcnonline.com
SUMMARY:Tuesday night bingo (meal @ 5 PM\, bingo @ 6:30 PM) at Oasis Senior Center in Lincoln﻿
DESCRIPTION:Bingo takes place on Tuesday evenings from 6:30 PM to 8:30 PM and is open to the public. Doors open at 5 PM for a meal\, snack and beverages. \nEvent codes ccgc ccbin ccfb ccsoc
URL:https://www.wlcnonline.com/event/tuesday-night-bingo-meal-5-pm-bingo-630-pm-at-oasis-senior-center-in-lincoln/2025-05-13/
LOCATION:Oasis Senior Center\, 2810 Woodlawn Road\, Lincoln\, IL\, 62656\, United States
ORGANIZER;CN="Oasis Senior Center":MAILTO:nancy@oasisseniorcenter.com
END:VEVENT
BEGIN:VEVENT
DTSTART;TZID=America/Chicago:20250513T133000
DTEND;TZID=America/Chicago:20250513T143000
DTSTAMP:20260420T000515
CREATED:20250204T163133Z
LAST-MODIFIED:20250204T163338Z
UID:10018199-1747143000-1747146600@www.wlcnonline.com
SUMMARY:Homeschool meetup at Heyworth Public Library
DESCRIPTION:The focus of these meetups is on resources and other activities helpful to homeschool families. \nEvent codes ccedu
URL:https://www.wlcnonline.com/event/homeschool-meetup-at-heyworth-public-library/2025-05-13/
LOCATION:Heyworth Public Library\, 119 E Main Street\, Heyworth\, IL\, 61745\, United States
ORGANIZER;CN="Heyworth Public LIbrary":MAILTO:questions@heyworthlibrary.com
END:VEVENT
BEGIN:VEVENT
DTSTART;VALUE=DATE:20250513
DTEND;VALUE=DATE:20250515
DTSTAMP:20260420T000515
CREATED:20250417T133059Z
LAST-MODIFIED:20250417T133059Z
UID:10019925-1747105200-1747191599@www.wlcnonline.com
SUMMARY:May "Miles of Sunshine Challenge" month-long virtual walking event by LMH Community Health Collaborative
DESCRIPTION:Participants are invited to step into spring with Miles of Sunshine\, a month-long walking challenge running the entire month of May 2025. Participants can track their cumulative miles using the Pacer 4 Teams app (free to all participants). Click this link to visit the information page about the event; use your phone to scan the QR code on that page to download the Pacer app and join the challenge. Participants who walk 75\, 125\, 175\, or 225 miles will earn a special club-level T-shirt. \nEvent codes ccfre cchwf
URL:https://www.wlcnonline.com/event/may-miles-of-sunshine-challenge-month-long-virtual-walking-event-by-lmh-community-health-collaborative/2025-05-13/
END:VEVENT
BEGIN:VEVENT
DTSTART;TZID=America/Chicago:20250512T190000
DTEND;TZID=America/Chicago:20250512T200000
DTSTAMP:20260420T000515
CREATED:20250227T220659Z
LAST-MODIFIED:20251231T163725Z
UID:10019339-1747076400-1747080000@www.wlcnonline.com
SUMMARY:Alcoholics Anonymous meetings at Trinity Episcopal Church in Lincoln
DESCRIPTION:Meetings are free to attend and take place at the following times: \n\nMondays at 7 PM\nWednesdays at 6 PM\nFridays at 11 AM\nSundays at 6 PM\n\nEvent codes
URL:https://www.wlcnonline.com/event/alcoholics-anonymous-meetings-at-trinity-episcopal-church-in-lincoln/2025-05-12/
LOCATION:Trinity Episcopal Church in Lincoln\, 402 Pekin Street\, Lincoln\, 62656\, United States
ORGANIZER;CN="Logan Mason Recovery Oriented Systems of Care (ROSC)":MAILTO:jedavis@chestnut.org
END:VEVENT
BEGIN:VEVENT
DTSTART;TZID=America/Chicago:20250512T180000
DTEND;TZID=America/Chicago:20250512T200000
DTSTAMP:20260420T000515
CREATED:20240926T041522Z
LAST-MODIFIED:20240926T041522Z
UID:10016849-1747072800-1747080000@www.wlcnonline.com
SUMMARY:Xtreme Bar Bingo at Stag R Inn in Emden
DESCRIPTION:Enjoy Xtreme Bar Bingo along with drink and food specials each week. Participants will have the chance to win prizes and cash. \nEvent codes: ccgc\, ccsoc ccbin
URL:https://www.wlcnonline.com/event/xtreme-bar-bingo-at-stag-r-inn-in-emden-2/2025-05-12/
LOCATION:Stag R Inn in Emden\, 102 Lincoln Street\, Emden\, IL\, 62635\, United States
END:VEVENT
BEGIN:VEVENT
DTSTART;TZID=America/Chicago:20250512T180000
DTEND;TZID=America/Chicago:20250512T190000
DTSTAMP:20260420T000515
CREATED:20250227T215503Z
LAST-MODIFIED:20251231T163530Z
UID:10019232-1747072800-1747076400@www.wlcnonline.com
SUMMARY:Co-Dependents Anonymous (CoDA) meetings by Land of Lincoln Recovery Group at Hope on 5th in Lincoln
DESCRIPTION:Meetings are free to attend and take place at 6 PM Mondays. \nEvent codes
URL:https://www.wlcnonline.com/event/co-dependents-anonymous-coda-meetings-by-land-of-lincoln-recovery-group-at-hope-on-5th-in-lincoln/2025-05-12/
LOCATION:Hope on 5th in Lincoln\, 200 5th Street\, Lincoln\, 62656\, United States
ORGANIZER;CN="Logan Mason Recovery Oriented Systems of Care (ROSC)":MAILTO:jedavis@chestnut.org
END:VEVENT
BEGIN:VEVENT
DTSTART;TZID=America/Chicago:20250512T160000
DTEND;TZID=America/Chicago:20250512T164500
DTSTAMP:20260420T000515
CREATED:20250327T011644Z
LAST-MODIFIED:20250327T011644Z
UID:10019770-1747065600-1747068300@www.wlcnonline.com
SUMMARY:Chair yoga by Silver Fox Fitness at Oasis Senior Center in Lincoln﻿
DESCRIPTION:Seated and standing poses will be utilized with the goal of increasing flexibility\, balance and strength along with providing relaxation. Participants never get down on the floor. \nEvent codes: ccfs\, cchwf
URL:https://www.wlcnonline.com/event/chair-yoga-by-silver-fox-fitness-at-oasis-senior-center-in-lincoln-2/2025-05-12/
LOCATION:Oasis Senior Center\, 2810 Woodlawn Road\, Lincoln\, IL\, 62656\, United States
END:VEVENT
BEGIN:VEVENT
DTSTART;TZID=America/Chicago:20250512T100000
DTEND;TZID=America/Chicago:20250512T104500
DTSTAMP:20260420T000515
CREATED:20250403T194442Z
LAST-MODIFIED:20250403T194442Z
UID:10019851-1747044000-1747046700@www.wlcnonline.com
SUMMARY:Chair yoga by Silver Fox Fitness at Lincoln VFW Hall
DESCRIPTION:Seated and standing poses will be utilized with the goal of increasing flexibility\, balance and strength along with providing relaxation. Participants never get down on the floor. \nEvent codes: ccfs\, cchwf
URL:https://www.wlcnonline.com/event/chair-yoga-by-silver-fox-fitness-at-lincoln-vfw-hall/2025-05-12/
LOCATION:VFW Post 1756 Freedom Hall Event Center in Lincoln\, 915 5th Street\, Lincoln\, IL\, 62656\, United States
END:VEVENT
BEGIN:VEVENT
DTSTART;VALUE=DATE:20250512
DTEND;VALUE=DATE:20250514
DTSTAMP:20260420T000515
CREATED:20250417T133059Z
LAST-MODIFIED:20250417T133059Z
UID:10019924-1747018800-1747105199@www.wlcnonline.com
SUMMARY:May "Miles of Sunshine Challenge" month-long virtual walking event by LMH Community Health Collaborative
DESCRIPTION:Participants are invited to step into spring with Miles of Sunshine\, a month-long walking challenge running the entire month of May 2025. Participants can track their cumulative miles using the Pacer 4 Teams app (free to all participants). Click this link to visit the information page about the event; use your phone to scan the QR code on that page to download the Pacer app and join the challenge. Participants who walk 75\, 125\, 175\, or 225 miles will earn a special club-level T-shirt. \nEvent codes ccfre cchwf
URL:https://www.wlcnonline.com/event/may-miles-of-sunshine-challenge-month-long-virtual-walking-event-by-lmh-community-health-collaborative/2025-05-12/
END:VEVENT
BEGIN:VEVENT
DTSTART;TZID=America/Chicago:20250511T180000
DTEND;TZID=America/Chicago:20250511T190000
DTSTAMP:20260420T000515
CREATED:20250227T221038Z
LAST-MODIFIED:20251231T162443Z
UID:10019470-1746986400-1746990000@www.wlcnonline.com
SUMMARY:Alcoholics Anonymous meetings at Trinity Episcopal Church in Lincoln
DESCRIPTION:Meetings are free to attend and take place at the following times: \n\nMondays at 7 PM\nWednesdays at 6 PM\nFridays at 11 AM\nSundays at 6 PM\n\nEvent codes
URL:https://www.wlcnonline.com/event/alcoholics-anonymous-meetings-at-trinity-episcopal-church-in-lincoln-4/2025-05-11/
LOCATION:Trinity Episcopal Church in Lincoln\, 402 Pekin Street\, Lincoln\, 62656\, United States
ORGANIZER;CN="Logan Mason Recovery Oriented Systems of Care (ROSC)":MAILTO:jedavis@chestnut.org
END:VEVENT
BEGIN:VEVENT
DTSTART;TZID=America/Chicago:20250511T170000
DTEND;TZID=America/Chicago:20250511T180000
DTSTAMP:20260420T000515
CREATED:20250227T215139Z
LAST-MODIFIED:20251231T162319Z
UID:10019645-1746982800-1746986400@www.wlcnonline.com
SUMMARY:Narcotics Anonymous meetings by Land of Lincoln Recovery Group at Hope on 5th in Lincoln
DESCRIPTION:Meetings are free to attend and take place at 6 PM Thursdays as well as at 5 PM on Sundays. \nEvent codes
URL:https://www.wlcnonline.com/event/narcotics-anonymous-meetings-by-land-of-lincoln-recovery-group-at-hope-on-5th-in-lincoln/2025-05-11/
LOCATION:Hope on 5th in Lincoln\, 200 5th Street\, Lincoln\, 62656\, United States
ORGANIZER;CN="Logan Mason Recovery Oriented Systems of Care (ROSC)":MAILTO:jedavis@chestnut.org
END:VEVENT
BEGIN:VEVENT
DTSTART;TZID=America/Chicago:20250511T140000
DTEND;TZID=America/Chicago:20250511T160000
DTSTAMP:20260420T000515
CREATED:20240607T073345Z
LAST-MODIFIED:20251231T163021Z
UID:10016982-1746972000-1746979200@www.wlcnonline.com
SUMMARY:Xtreme Bar Bingo at The Next Stop Saloon in Mt. Pulaski
DESCRIPTION:Games take place every Sunday from 2 PM to 4 PM. \nEvent codes ccfb ccbin
URL:https://www.wlcnonline.com/event/xtreme-bar-bingo-at-the-next-stop-saloon-in-mt-pulaski/2025-05-11/
LOCATION:The Next Stop Saloon in Mt. Pulaski\, 100 E. Cooke Street\, Mt. Pulaski\, IL\, 62548\, United States
END:VEVENT
BEGIN:VEVENT
DTSTART;TZID=America/Chicago:20250511T090000
DTEND;TZID=America/Chicago:20250511T100000
DTSTAMP:20260420T000515
CREATED:20250227T214918Z
LAST-MODIFIED:20251231T162155Z
UID:10019111-1746954000-1746957600@www.wlcnonline.com
SUMMARY:Alcoholics Anonymous meetings by Land of Lincoln Recovery Group at Hope on 5th in Lincoln
DESCRIPTION:Meetings are free to attend and take place at 6 PM on Tuesdays\, Wednesdays\, Fridays and Saturdays as well as at 9 AM on Saturdays and Sundays. \nEvent codes
URL:https://www.wlcnonline.com/event/alcoholics-anonymous-meetings-by-land-of-lincoln-recovery-group-at-hope-on-5th-in-lincoln-2/2025-05-11/
LOCATION:Hope on 5th in Lincoln\, 200 5th Street\, Lincoln\, 62656\, United States
ORGANIZER;CN="Logan Mason Recovery Oriented Systems of Care (ROSC)":MAILTO:jedavis@chestnut.org
END:VEVENT
BEGIN:VEVENT
DTSTART;TZID=America/Chicago:20250511T080000
DTEND;TZID=America/Chicago:20250511T110000
DTSTAMP:20260420T000515
CREATED:20250501T204257Z
LAST-MODIFIED:20250501T204257Z
UID:10019998-1746950400-1746961200@www.wlcnonline.com
SUMMARY:Humane Society of Logan County breakfast buffet and pie sale fundraiser at Lincoln American Legion Hall
DESCRIPTION:Breakfast Buffet on Mother’s Day at the American Legion in Lincoln. The menu includes scrambled eggs\, bacon\, ham\, potatoes\, biscuits and gravy\, fruit and doughnuts. Tickets cost $12 each for adults; and children under 10 eat for free. \nA variety of pies will be available for purchase at the event as well. \nEvent codes ccfb ccfdd
URL:https://www.wlcnonline.com/event/humane-society-of-logan-county-breakfast-buffet-and-pie-sale-fundraiser-at-lincoln-american-legion-hall/
LOCATION:Lincoln American Legion Post #263\, 1740 5th Street\, Lincoln\, IL\, 62656\, United States
ORGANIZER;CN="Humane Society of Logan County":MAILTO:shelter@hslclincoln.org
END:VEVENT
BEGIN:VEVENT
DTSTART;VALUE=DATE:20250511
DTEND;VALUE=DATE:20250513
DTSTAMP:20260420T000515
CREATED:20250417T133059Z
LAST-MODIFIED:20250417T133059Z
UID:10019923-1746932400-1747018799@www.wlcnonline.com
SUMMARY:May "Miles of Sunshine Challenge" month-long virtual walking event by LMH Community Health Collaborative
DESCRIPTION:Participants are invited to step into spring with Miles of Sunshine\, a month-long walking challenge running the entire month of May 2025. Participants can track their cumulative miles using the Pacer 4 Teams app (free to all participants). Click this link to visit the information page about the event; use your phone to scan the QR code on that page to download the Pacer app and join the challenge. Participants who walk 75\, 125\, 175\, or 225 miles will earn a special club-level T-shirt. \nEvent codes ccfre cchwf
URL:https://www.wlcnonline.com/event/may-miles-of-sunshine-challenge-month-long-virtual-walking-event-by-lmh-community-health-collaborative/2025-05-11/
END:VEVENT
BEGIN:VEVENT
DTSTART;TZID=America/Chicago:20250510T190000
DTEND;TZID=America/Chicago:20250510T220000
DTSTAMP:20260420T000515
CREATED:20250508T023630Z
LAST-MODIFIED:20250508T023630Z
UID:10020025-1746903600-1746914400@www.wlcnonline.com
SUMMARY:Live music by Next Thing Smokin' at LaTeaDa Tea Room/Cafe/Barn Bar/Events in Clinton
DESCRIPTION:Next Thing Smokin’ opens LaTeaDa’s 2025 Concerts & Cocktails season as the band brings its catalog of country hits to the stage. \nFood and drinks will be available for purchase starting at 6 PM; food will be available until 9 PM. \nThe outdoor concert is free of charge. Attendees can bring their own lawn chairs. No outside coolers/food/drinks are allowed; food and drinks will be available for purchase starting at noon. \nEvent codes: ccent cclm ccsoc ccfd
URL:https://www.wlcnonline.com/event/live-music-by-next-thing-smokin-at-lateada-tea-room-cafe-barn-bar-events-in-clinton/
LOCATION:LaTeaDa Cafe/Barn Bar/Events in Clinton\, 1100 S. Madison Street\, Clinton\, IL\, 61727\, United States
ORGANIZER;CN="LaTeaDa Cafe/Barn Bar/Events":MAILTO:lateadaladies@gmail.com
END:VEVENT
BEGIN:VEVENT
DTSTART;TZID=America/Chicago:20250510T190000
DTEND;TZID=America/Chicago:20250510T220000
DTSTAMP:20260420T000515
CREATED:20250507T235719Z
LAST-MODIFIED:20250507T235719Z
UID:10020023-1746903600-1746914400@www.wlcnonline.com
SUMMARY:Live music by The Killer Riffs at Gracie's Sports Bar in Green Valley
DESCRIPTION:The Killer Riffs feature blues of the ’70s\, hits of the ’80s and tunes from the ’90s. \nEvent codes ccfb cclm ccent ccsoc
URL:https://www.wlcnonline.com/event/live-music-by-the-killer-riffs-at-gracies-sports-bar-in-green-valley/
LOCATION:Gracie’s Sports Bar in Green Valley\, 6031 IL Route 29\, Green Valley\, IL\, 61534\, United States
ORGANIZER;CN="Gracie's Sports Bar":MAILTO:bobnbec@yahoo.com
END:VEVENT
END:VCALENDAR