BEGIN:VCALENDAR
VERSION:2.0
PRODID:-//WLCN 96.3 FM - ECPv6.15.20//NONSGML v1.0//EN
CALSCALE:GREGORIAN
METHOD:PUBLISH
X-WR-CALNAME:WLCN 96.3 FM
X-ORIGINAL-URL:https://www.wlcnonline.com
X-WR-CALDESC:Events for WLCN 96.3 FM
REFRESH-INTERVAL;VALUE=DURATION:PT1H
X-Robots-Tag:noindex
X-PUBLISHED-TTL:PT1H
BEGIN:VTIMEZONE
TZID:America/Chicago
BEGIN:DAYLIGHT
TZOFFSETFROM:-0600
TZOFFSETTO:-0500
TZNAME:CDT
DTSTART:20240310T080000
END:DAYLIGHT
BEGIN:STANDARD
TZOFFSETFROM:-0500
TZOFFSETTO:-0600
TZNAME:CST
DTSTART:20241103T070000
END:STANDARD
BEGIN:DAYLIGHT
TZOFFSETFROM:-0600
TZOFFSETTO:-0500
TZNAME:CDT
DTSTART:20250309T080000
END:DAYLIGHT
BEGIN:STANDARD
TZOFFSETFROM:-0500
TZOFFSETTO:-0600
TZNAME:CST
DTSTART:20251102T070000
END:STANDARD
BEGIN:DAYLIGHT
TZOFFSETFROM:-0600
TZOFFSETTO:-0500
TZNAME:CDT
DTSTART:20260308T080000
END:DAYLIGHT
BEGIN:STANDARD
TZOFFSETFROM:-0500
TZOFFSETTO:-0600
TZNAME:CST
DTSTART:20261101T070000
END:STANDARD
END:VTIMEZONE
BEGIN:VEVENT
DTSTART;TZID=America/Chicago:20250601T090000
DTEND;TZID=America/Chicago:20250601T100000
DTSTAMP:20260419T153357
CREATED:20250227T214918Z
LAST-MODIFIED:20251231T162155Z
UID:10019117-1748768400-1748772000@www.wlcnonline.com
SUMMARY:Alcoholics Anonymous meetings by Land of Lincoln Recovery Group at Hope on 5th in Lincoln
DESCRIPTION:Meetings are free to attend and take place at 6 PM on Tuesdays\, Wednesdays\, Fridays and Saturdays as well as at 9 AM on Saturdays and Sundays. \nEvent codes
URL:https://www.wlcnonline.com/event/alcoholics-anonymous-meetings-by-land-of-lincoln-recovery-group-at-hope-on-5th-in-lincoln-2/2025-06-01/
LOCATION:Hope on 5th in Lincoln\, 200 5th Street\, Lincoln\, 62656\, United States
ORGANIZER;CN="Logan Mason Recovery Oriented Systems of Care (ROSC)":MAILTO:jedavis@chestnut.org
END:VEVENT
BEGIN:VEVENT
DTSTART;TZID=America/Chicago:20250531T200000
DTEND;TZID=America/Chicago:20250531T230000
DTSTAMP:20260419T153357
CREATED:20250529T160206Z
LAST-MODIFIED:20251231T202325Z
UID:10020157-1748721600-1748732400@www.wlcnonline.com
SUMMARY:Live music by Deuces Wild acoustic duo at The Thirsty Barrel in Mason City
DESCRIPTION:Deuces Wild blends the diverse styles of the acoustic duo to create a unique sound to appeal to audiences of all ages. \nEvent codes ccsoc ccfb ccent cclm
URL:https://www.wlcnonline.com/event/live-music-by-deuces-wild-acoustic-duo-at-the-thirsty-barrel-in-mason-city/2025-05-31/
LOCATION:The Thirsty Barrel in Mason City\, 118 S. Tonica Street\, Mason City\, IL\, 62664\, United States
ORGANIZER;CN="The Thirsty Barrel in Mason City":MAILTO:thirstybarrelbar@gmail.com
END:VEVENT
BEGIN:VEVENT
DTSTART;TZID=America/Chicago:20250531T190000
DTEND;TZID=America/Chicago:20250531T220000
DTSTAMP:20260419T153357
CREATED:20250522T181653Z
LAST-MODIFIED:20250522T181653Z
UID:10020112-1748718000-1748728800@www.wlcnonline.com
SUMMARY:Live music by Bad Medicine at LaTeaDa Cafe/Barn Bar/Events in Clinton
DESCRIPTION:Bad Medicine brings its catalog of current hits to tunes from past decades to the stage. \nFood and drinks will be available for purchase starting at 6 PM; music begins at 7 PM; food will be available until 9 PM. \nThe outdoor concert is free of charge. Attendees can bring their own lawn chairs. No outside coolers/food/drinks are allowed; food and drinks will be available for purchase starting at noon. \nEvent codes: ccent\, cclm\, ccfd
URL:https://www.wlcnonline.com/event/live-music-by-bad-medicine-at-lateada-cafe-barn-bar-events-in-clinton/
LOCATION:LaTeaDa Cafe/Barn Bar/Events in Clinton\, 1100 S. Madison Street\, Clinton\, IL\, 61727\, United States
ORGANIZER;CN="LaTeaDa Cafe/Barn Bar/Events":MAILTO:lateadaladies@gmail.com
END:VEVENT
BEGIN:VEVENT
DTSTART;TZID=America/Chicago:20250531T180000
DTEND;TZID=America/Chicago:20250531T190000
DTSTAMP:20260419T153357
CREATED:20250227T214713Z
LAST-MODIFIED:20251231T161900Z
UID:10018967-1748714400-1748718000@www.wlcnonline.com
SUMMARY:Alcoholics Anonymous meetings by Land of Lincoln Recovery Group at Hope on 5th in Lincoln
DESCRIPTION:Meetings are free to attend and take place at 6 PM on Tuesdays\, Wednesdays\, Fridays and Saturdays as well as at 9 AM on Saturdays and Sundays. \nEvent codes
URL:https://www.wlcnonline.com/event/alcoholics-anonymous-meetings-by-land-of-lincoln-recovery-group-at-hope-on-5th-in-lincoln/2025-05-31/
LOCATION:Hope on 5th in Lincoln\, 200 5th Street\, Lincoln\, 62656\, United States
ORGANIZER;CN="Logan Mason Recovery Oriented Systems of Care (ROSC)":MAILTO:jedavis@chestnut.org
END:VEVENT
BEGIN:VEVENT
DTSTART;TZID=America/Chicago:20250531T150000
DTEND;TZID=America/Chicago:20250531T220000
DTSTAMP:20260419T153357
CREATED:20250522T165636Z
LAST-MODIFIED:20250522T165636Z
UID:10020105-1748703600-1748728800@www.wlcnonline.com
SUMMARY:Ballroom dance workshop by guest instructors Jonathon and Danyelle through Young Dance Inc. at Lincoln Park District
DESCRIPTION:This event features two workshops on the Cha Cha and the Foxtrot. Following a dinner break\, there will be an individual workshop on ballroom styling with leads and follows. \nThe schedule for the afternoon:\n2:30 PM – Doors open\n3 PM – Cha Cha workshop (novice level)\n4 PM – FoxTrot workshop (novice level)\n5 PM – Dinner break/warm up practice\n6 PM – Novice West Coast Swing lesson\n7 PM to 10 PM – Social dance including ballroom\, Latin and swing music \nCosts:\n$20 per workshop (3 PM and 4 PM)\n$10 – Dinner\n$10 – Beginners lesson and/or social dance\n$40 for all events \nTickets can be purchased online or at the door; click here to purchase online. \nEvent codes cchwf ccdj ccdnc
URL:https://www.wlcnonline.com/event/ballroom-dance-workshop-by-guest-instructors-jonathon-and-danyelle-through-young-dance-inc-at-lincoln-park-district/
LOCATION:Lincoln Park District\, 1400 Primm Road\, Lincoln\, IL\, 62656\, United States
ORGANIZER;CN="Young Dance%2C Inc.":MAILTO:youngdanceinc@gmail.com
END:VEVENT
BEGIN:VEVENT
DTSTART;TZID=America/Chicago:20250531T130000
DTEND;TZID=America/Chicago:20250531T130000
DTSTAMP:20260419T153357
CREATED:20250529T155213Z
LAST-MODIFIED:20250529T155213Z
UID:10020156-1748696400-1748696400@www.wlcnonline.com
SUMMARY:May 2025 Crafternoon at Leading Men Fiber Arts in Clinton
DESCRIPTION:Attendees can bring any craft they would like to work on in an atmosphere of camraderie and conversation. \nEvent codes ccaca ccsoc
URL:https://www.wlcnonline.com/event/may-2025-crafternoon-at-leading-men-fiber-arts-in-clinton/
LOCATION:Leading Men Fiber Arts in Clinton\, 704 North Side Square\, Clinton\, IL\, 61727\, United States
ORGANIZER;CN="Leading Men Fiber Arts":MAILTO:leadingmenfiberarts@gmail.com
END:VEVENT
BEGIN:VEVENT
DTSTART;TZID=America/Chicago:20250531T110000
DTEND;TZID=America/Chicago:20250531T130000
DTSTAMP:20260419T153357
CREATED:20250522T181443Z
LAST-MODIFIED:20250522T181443Z
UID:10020111-1748689200-1748696400@www.wlcnonline.com
SUMMARY:Pork chop and ribeye sandwich sale fundraiser for Mt. Pulaski Masonic Lodge at Lincoln IGA
DESCRIPTION:Proceeds from this fundraiser benefit the Mt. Pulaski Masonic Lodge. \nEvent codes ccfdd ccfb
URL:https://www.wlcnonline.com/event/pork-chop-and-ribeye-sandwich-sale-fundraiser-for-mt-pulaski-masonic-lodge-at-lincoln-iga/
LOCATION:Lincoln IGA\, 713 Pulaski Street\, Lincoln\, IL\, 62656\, United States
END:VEVENT
BEGIN:VEVENT
DTSTART;TZID=America/Chicago:20250531T090000
DTEND;TZID=America/Chicago:20250531T160000
DTSTAMP:20260419T153357
CREATED:20250529T152520Z
LAST-MODIFIED:20250529T152520Z
UID:10020131-1748682000-1748707200@www.wlcnonline.com
SUMMARY:Spring flower and plant sale at Mariah's Mums & More in rural Clinton
DESCRIPTION:Celebrate the start of the season with fresh blooms and garden plants to get your garden’s perfect start at this Spring Opening Sale. \nEvent codes cclbep
URL:https://www.wlcnonline.com/event/spring-flower-and-plant-sale-at-mariahs-mums-more-in-rural-clinton/2025-05-31/
LOCATION:Mariah’s Mums & More in rural Clinton\, 16727 Airport Road\, Clinton\, IL\, 61727\, United States
ORGANIZER;CN="Mariah's Mums & More in rural Clinton":MAILTO:mariahandgreg@mariahsmums.com
END:VEVENT
BEGIN:VEVENT
DTSTART;TZID=America/Chicago:20250531T090000
DTEND;TZID=America/Chicago:20250531T150000
DTSTAMP:20260419T153357
CREATED:20250529T154649Z
LAST-MODIFIED:20250529T154649Z
UID:10020134-1748682000-1748703600@www.wlcnonline.com
SUMMARY:Strawberry season at Mariah's Mums and More in rural Clinton
DESCRIPTION:Mariah’s offers U-Pick strawberries grown in vertical high tunnels for the entire six-month picking season. \nBerry availability can vary throughout the season; the best way to stay informed about picking conditions and volume is by subscribing to Mariah’s weekly e-newsletter. You can also check the Mariah’s Facebook page to see if any updates have been posted. \nMariah’s recommends arriving as soon as they open during the spring and summer hours for the best chance to pick; depending on the number of pickers\, some days Mariah’s is picked out by noon. \nMariah’s opens at 9 AM until September\, when opening time switches to 10 AM. \nEvent codes cclbep
URL:https://www.wlcnonline.com/event/strawberry-season-at-mariahs-mums-and-more-in-rural-clinton/2025-05-31/
LOCATION:Mariah’s Mums & More in rural Clinton\, 16727 Airport Road\, Clinton\, IL\, 61727\, United States
ORGANIZER;CN="Mariah's Mums & More in rural Clinton":MAILTO:mariahandgreg@mariahsmums.com
END:VEVENT
BEGIN:VEVENT
DTSTART;TZID=America/Chicago:20250531T090000
DTEND;TZID=America/Chicago:20250531T100000
DTSTAMP:20260419T153357
CREATED:20250227T214918Z
LAST-MODIFIED:20251231T162155Z
UID:10019116-1748682000-1748685600@www.wlcnonline.com
SUMMARY:Alcoholics Anonymous meetings by Land of Lincoln Recovery Group at Hope on 5th in Lincoln
DESCRIPTION:Meetings are free to attend and take place at 6 PM on Tuesdays\, Wednesdays\, Fridays and Saturdays as well as at 9 AM on Saturdays and Sundays. \nEvent codes
URL:https://www.wlcnonline.com/event/alcoholics-anonymous-meetings-by-land-of-lincoln-recovery-group-at-hope-on-5th-in-lincoln-2/2025-05-31/
LOCATION:Hope on 5th in Lincoln\, 200 5th Street\, Lincoln\, 62656\, United States
ORGANIZER;CN="Logan Mason Recovery Oriented Systems of Care (ROSC)":MAILTO:jedavis@chestnut.org
END:VEVENT
BEGIN:VEVENT
DTSTART;TZID=America/Chicago:20250531T080000
DTEND;TZID=America/Chicago:20250531T120000
DTSTAMP:20260419T153357
CREATED:20250417T142149Z
LAST-MODIFIED:20250417T142149Z
UID:10019946-1748678400-1748692800@www.wlcnonline.com
SUMMARY:LMH Market hosted by the LMH Health Collaborative at Logan County Fairgrounds
DESCRIPTION:The Lincoln Memorial Hospital Market opens for its 10th season on Saturday\, May 17 and runs through September 20 in the expo buildings on the Logan County Fairgrounds. Sponsored by the Lincoln Memorial Foundation\, the indoor event is a “producer-only” farmers market\, which means vendors sell only what they have grown or produced themselves. Vendors at The LMH Market offer fruits\, vegetables\, eggs\, poultry\, baked goods\, honey and more. Shoppers enrolled in the Supplemental Nutrition Assistance Program (SNAP)\, which provides assistance to supplement the grocery budgets of families in need\, may use a Link card to purchase food at the farmers market. The Market offers SNAP matching for Link card holders\, and the match is tripled every third Saturday. \nOther offerings at The LMH Market include free health screenings on the second and fourth Saturdays of each month. The Power of Produce (POP) Club provides activities for children from 5 to 12 years old to engage them in the local food system with educational games and demonstrations\, conversations with farmers and exposure to fruits and vegetables. Attendees will also find a “Local Roots” booth that provides an opportunity for vendors who are not producer-only\, but who have a local connection and a quality product to share with customers. The LMH Market is presented by Lincoln Memorial Hospital and promotes health and wellness through fresh food and health-focused programs. For additional information\, click here to visit The LMH Market page on Facebook. \nEvent codes cchwf cclbep ccfd
URL:https://www.wlcnonline.com/event/lmh-market-hosted-by-the-lmh-health-collaborative-at-logan-county-fairgrounds/2025-05-31/
LOCATION:Logan County Fairgrounds\, 230 N. Postville Drive\, Lincoln\, IL\, 62656\, United States
ORGANIZER;CN="Lincoln Memorial Hospital Market Coordinator":MAILTO:jones.jamie@mhsil.com
END:VEVENT
BEGIN:VEVENT
DTSTART;VALUE=DATE:20250531
DTEND;VALUE=DATE:20250602
DTSTAMP:20260419T153357
CREATED:20250417T133059Z
LAST-MODIFIED:20250417T133059Z
UID:10019943-1748660400-1748746799@www.wlcnonline.com
SUMMARY:May "Miles of Sunshine Challenge" month-long virtual walking event by LMH Community Health Collaborative
DESCRIPTION:Participants are invited to step into spring with Miles of Sunshine\, a month-long walking challenge running the entire month of May 2025. Participants can track their cumulative miles using the Pacer 4 Teams app (free to all participants). Click this link to visit the information page about the event; use your phone to scan the QR code on that page to download the Pacer app and join the challenge. Participants who walk 75\, 125\, 175\, or 225 miles will earn a special club-level T-shirt. \nEvent codes ccfre cchwf
URL:https://www.wlcnonline.com/event/may-miles-of-sunshine-challenge-month-long-virtual-walking-event-by-lmh-community-health-collaborative/2025-05-31/
END:VEVENT
BEGIN:VEVENT
DTSTART;TZID=America/Chicago:20250530T190000
DTEND;TZID=America/Chicago:20250530T220000
DTSTAMP:20260419T153357
CREATED:20250522T181136Z
LAST-MODIFIED:20250522T181136Z
UID:10020110-1748631600-1748642400@www.wlcnonline.com
SUMMARY:Live music by Blonderosa at LargeCar Lounge in Lincoln
DESCRIPTION:Start the weekend right with drink specials while listening to tunes from the Blonderosa band. \nEvent codes  ccf21 ccfb ccent ccsoc ccdj
URL:https://www.wlcnonline.com/event/live-music-by-blonderosa-at-largecar-lounge-in-lincoln/
LOCATION:LargeCar Lounge in Lincoln\, 2821 Woodlawn Road\, Lincoln\, IL\, 62656\, United States
END:VEVENT
BEGIN:VEVENT
DTSTART;TZID=America/Chicago:20250530T180000
DTEND;TZID=America/Chicago:20250530T220000
DTSTAMP:20260419T153357
CREATED:20250522T180955Z
LAST-MODIFIED:20250522T180955Z
UID:10020109-1748628000-1748642400@www.wlcnonline.com
SUMMARY:MOWA Sprint Cars and full show at Lincoln Speedway
DESCRIPTION:The Morrow Brothers Ford MOWA Sprint Cars return to Lincoln Speedway for the first of their two visits in 2025. Joining MOWA will be Pro Lates\, Mods\, MARA Midgets\, and Crown Vics. \nTickets as well as all pit passes will be sold at track on race day. \nEvent codes cccavse ccmrac
URL:https://www.wlcnonline.com/event/mowa-sprint-cars-and-full-show-at-lincoln-speedway/
LOCATION:Lincoln Speedway at Logan County Fairgrounds\, 230 N. Postville Drive\, Lincoln\, IL\, 62656\, United States
ORGANIZER;CN="Track Enterprises":MAILTO:track@trackenterprises.com
END:VEVENT
BEGIN:VEVENT
DTSTART;TZID=America/Chicago:20250530T180000
DTEND;TZID=America/Chicago:20250530T190000
DTSTAMP:20260419T153357
CREATED:20250227T214713Z
LAST-MODIFIED:20251231T161900Z
UID:10018966-1748628000-1748631600@www.wlcnonline.com
SUMMARY:Alcoholics Anonymous meetings by Land of Lincoln Recovery Group at Hope on 5th in Lincoln
DESCRIPTION:Meetings are free to attend and take place at 6 PM on Tuesdays\, Wednesdays\, Fridays and Saturdays as well as at 9 AM on Saturdays and Sundays. \nEvent codes
URL:https://www.wlcnonline.com/event/alcoholics-anonymous-meetings-by-land-of-lincoln-recovery-group-at-hope-on-5th-in-lincoln/2025-05-30/
LOCATION:Hope on 5th in Lincoln\, 200 5th Street\, Lincoln\, 62656\, United States
ORGANIZER;CN="Logan Mason Recovery Oriented Systems of Care (ROSC)":MAILTO:jedavis@chestnut.org
END:VEVENT
BEGIN:VEVENT
DTSTART;TZID=America/Chicago:20250530T120000
DTEND;TZID=America/Chicago:20250530T133000
DTSTAMP:20260419T153357
CREATED:20250227T221857Z
LAST-MODIFIED:20251231T161051Z
UID:10019604-1748606400-1748611800@www.wlcnonline.com
SUMMARY:SMART (Self-Management and Recovery Training) recovery meetings at Hope on 5th in Lincoln
DESCRIPTION:Meetings are free to attend and take place Fridays from noon to 1:30 PM. \nEvent codes
URL:https://www.wlcnonline.com/event/smart-self-management-and-recovery-training-recovery-meetings-at-hope-on-5th-in-lincoln/2025-05-30/
LOCATION:Hope on 5th in Lincoln\, 200 5th Street\, Lincoln\, 62656\, United States
ORGANIZER;CN="Logan Mason Recovery Oriented Systems of Care (ROSC)":MAILTO:jedavis@chestnut.org
END:VEVENT
BEGIN:VEVENT
DTSTART;TZID=America/Chicago:20250530T110000
DTEND;TZID=America/Chicago:20250530T120000
DTSTAMP:20260419T153357
CREATED:20250227T220937Z
LAST-MODIFIED:20251231T160939Z
UID:10019429-1748602800-1748606400@www.wlcnonline.com
SUMMARY:Alcoholics Anonymous meetings at Trinity Episcopal Church in Lincoln
DESCRIPTION:Meetings are free to attend and take place at the following times: \n\nMondays at 7 PM\nWednesdays at 6 PM\nFridays at 11 AM\nSundays at 6 PM\n\nEvent codes
URL:https://www.wlcnonline.com/event/alcoholics-anonymous-meetings-at-trinity-episcopal-church-in-lincoln-3/2025-05-30/
LOCATION:Trinity Episcopal Church in Lincoln\, 402 Pekin Street\, Lincoln\, 62656\, United States
ORGANIZER;CN="Logan Mason Recovery Oriented Systems of Care (ROSC)":MAILTO:jedavis@chestnut.org
END:VEVENT
BEGIN:VEVENT
DTSTART;TZID=America/Chicago:20250530T100000
DTEND;TZID=America/Chicago:20250530T104500
DTSTAMP:20260419T153357
CREATED:20250403T194149Z
LAST-MODIFIED:20250403T194149Z
UID:10019845-1748599200-1748601900@www.wlcnonline.com
SUMMARY:Cardio and strength training by Silver Fox Fitness at Lincoln VFW Hall
DESCRIPTION:The sessions feature low-impact exercises to increase strength and endurance which are adaptable to any ability level. \nEvent codes: ccfs\, cchwf
URL:https://www.wlcnonline.com/event/cardio-and-strength-training-by-silver-fox-fitness-at-lincoln-vfw-hall/2025-05-30/
LOCATION:VFW Post 1756 Freedom Hall Event Center in Lincoln\, 915 5th Street\, Lincoln\, IL\, 62656\, United States
END:VEVENT
BEGIN:VEVENT
DTSTART;TZID=America/Chicago:20250530T090000
DTEND;TZID=America/Chicago:20250530T160000
DTSTAMP:20260419T153357
CREATED:20250529T152520Z
LAST-MODIFIED:20250529T152520Z
UID:10020130-1748595600-1748620800@www.wlcnonline.com
SUMMARY:Spring flower and plant sale at Mariah's Mums & More in rural Clinton
DESCRIPTION:Celebrate the start of the season with fresh blooms and garden plants to get your garden’s perfect start at this Spring Opening Sale. \nEvent codes cclbep
URL:https://www.wlcnonline.com/event/spring-flower-and-plant-sale-at-mariahs-mums-more-in-rural-clinton/2025-05-30/
LOCATION:Mariah’s Mums & More in rural Clinton\, 16727 Airport Road\, Clinton\, IL\, 61727\, United States
ORGANIZER;CN="Mariah's Mums & More in rural Clinton":MAILTO:mariahandgreg@mariahsmums.com
END:VEVENT
BEGIN:VEVENT
DTSTART;TZID=America/Chicago:20250530T090000
DTEND;TZID=America/Chicago:20250530T150000
DTSTAMP:20260419T153357
CREATED:20250417T145555Z
LAST-MODIFIED:20250522T180637Z
UID:10019962-1748595600-1748617200@www.wlcnonline.com
SUMMARY:Free safe sitter babysitting class at Lincoln Memorial Hospital
DESCRIPTION:All participants will learn the safety skills needed to care for babysitting children. \nThe LMH Auxiliary offers this class free of charge. Attendees may bring a lunch or purchase lunch in the cafeteria. \nThe course will be offered on three dates: May 30\, July 9 and August 4 at Lincoln Memorial Hospital. Each class takes place from 9 AM to 3 PM in the Steinfort Conference Rooms at Lincoln Memorial Hospital. Students will use mannequins to practice lifesaving skills. There will also be role playing\, games and activities as students learn how to handle everyday situations that could present a risk to children’s safety\, including what to do when severe weather occurs. \nSpace is limited; those interested should register in advance. Click here to complete the online registration form.  \nEvent codes ccedu ccteen ccfre
URL:https://www.wlcnonline.com/event/free-safe-sitter-babysitting-class-at-lincoln-memorial-hospital/2025-05-30/
LOCATION:Steinfort Conference Rooms at Lincoln Memorial Hospital\, 200 Stahlhut Drive\, Lincoln\, IL\, 62656\, United States
END:VEVENT
BEGIN:VEVENT
DTSTART;VALUE=DATE:20250530
DTEND;VALUE=DATE:20250601
DTSTAMP:20260419T153357
CREATED:20250417T133059Z
LAST-MODIFIED:20250417T133059Z
UID:10019942-1748574000-1748660399@www.wlcnonline.com
SUMMARY:May "Miles of Sunshine Challenge" month-long virtual walking event by LMH Community Health Collaborative
DESCRIPTION:Participants are invited to step into spring with Miles of Sunshine\, a month-long walking challenge running the entire month of May 2025. Participants can track their cumulative miles using the Pacer 4 Teams app (free to all participants). Click this link to visit the information page about the event; use your phone to scan the QR code on that page to download the Pacer app and join the challenge. Participants who walk 75\, 125\, 175\, or 225 miles will earn a special club-level T-shirt. \nEvent codes ccfre cchwf
URL:https://www.wlcnonline.com/event/may-miles-of-sunshine-challenge-month-long-virtual-walking-event-by-lmh-community-health-collaborative/2025-05-30/
END:VEVENT
BEGIN:VEVENT
DTSTART;TZID=America/Chicago:20250529T190000
DTEND;TZID=America/Chicago:20250529T220000
DTSTAMP:20260419T153357
CREATED:20250213T051033Z
LAST-MODIFIED:20250602T141945Z
UID:10018368-1748545200-1748556000@www.wlcnonline.com
SUMMARY:Open mic night at Spirited Republic in Lincoln
DESCRIPTION:Spirited Republic open mic nights are a solo acoustic musical experiment with the goal of cultivating friendship\, support and good times amongst musicians\, comedians\, poets and artists of all kinds. Performers are asked to bring their own instruments (no drum sets; hand drums and percussion equipment only). \nEvent codes: ccent\, ccfb\, cclm\, ccsoc
URL:https://www.wlcnonline.com/event/open-mic-night-at-spirited-republic-in-lincoln/2025-05-29/
LOCATION:Spirited Republic in Lincoln\, 509 Pulaski Street\, Lincoln\, IL\, 62656\, United States
ORGANIZER;CN="Spirited Republic/Limerick Brewing Company":MAILTO:spiritedrepublic@gmail.com
END:VEVENT
BEGIN:VEVENT
DTSTART;TZID=America/Chicago:20250529T190000
DTEND;TZID=America/Chicago:20250529T203000
DTSTAMP:20260419T153357
CREATED:20250522T180449Z
LAST-MODIFIED:20250522T180449Z
UID:10020108-1748545200-1748550600@www.wlcnonline.com
SUMMARY:Music bingo (1980s) (food/drinks @ 5:30 PM; bingo at 7 PM) at LaTeaDa Cafe/Barn Bar/Events in Clinton
DESCRIPTION:Kicking off this year’s music bingo season with great hits from the 1980s. If a song on your card is played\, cross it off; the first person one to bingo wins a fun prize. \nMusic Bingo is free to play; participants must be 18 or older. \nNo reservations are needed. No outside food or drink allowed. The Barn Bar & Outdoor Kitchen begins serving at 5:30 PM before the games begin at 7 PM. \nEvent codes: ccent\, ccfb\, cfre\, ccgc\, ccdj
URL:https://www.wlcnonline.com/event/music-bingo-1980s-food-drinks-530-pm-bingo-at-7-pm-at-lateada-cafe-barn-bar-events-in-clinton/
LOCATION:LaTeaDa Cafe/Barn Bar/Events in Clinton\, 1100 S. Madison Street\, Clinton\, IL\, 61727\, United States
ORGANIZER;CN="LaTeaDa Cafe/Barn Bar/Events":MAILTO:lateadaladies@gmail.com
END:VEVENT
BEGIN:VEVENT
DTSTART;TZID=America/Chicago:20250529T190000
DTEND;TZID=America/Chicago:20250529T200000
DTSTAMP:20260419T153357
CREATED:20250227T221223Z
LAST-MODIFIED:20251231T171824Z
UID:10019516-1748545200-1748548800@www.wlcnonline.com
SUMMARY:Alcoholics Anonymous meetings at Atlanta Community House in Atlanta
DESCRIPTION:Meetings are free to attend and take place Thursdays at 7 PM. \nEvent codes
URL:https://www.wlcnonline.com/event/alcoholics-anonymous-meetings-at-atlanta-community-house-in-atlanta/2025-05-29/
LOCATION:Atlanta Memorial Community House\, 106 SW 6th Street\, Atlanta\, IL\, 61723\, United States
ORGANIZER;CN="Logan Mason Recovery Oriented Systems of Care (ROSC)":MAILTO:jedavis@chestnut.org
END:VEVENT
BEGIN:VEVENT
DTSTART;TZID=America/Chicago:20250529T190000
DTEND;TZID=America/Chicago:20250529T200000
DTSTAMP:20260419T153357
CREATED:20250227T220255Z
LAST-MODIFIED:20251231T170522Z
UID:10019298-1748545200-1748548800@www.wlcnonline.com
SUMMARY:Celebrate recovery events at Open Arms Christian Fellowship in Lincoln
DESCRIPTION:Events take place on Thursday evenings with snacks served at 6 PM and the meeting starting at 7 PM.
URL:https://www.wlcnonline.com/event/celebrate-recovery-events-at-open-arms-christian-fellowship-in-lincoln/2025-05-29/
LOCATION:Open Arms Christian Fellowship\, 1321 State Route 10\, Lincoln\, IL\, 62656\, United States
ORGANIZER;CN="Hope on 5th":MAILTO:rhss2005th@gmail.com
END:VEVENT
BEGIN:VEVENT
DTSTART;TZID=America/Chicago:20250529T190000
DTEND;TZID=America/Chicago:20250529T190000
DTSTAMP:20260419T153357
CREATED:20240329T042327Z
LAST-MODIFIED:20251231T163130Z
UID:10016946-1748545200-1748545200@www.wlcnonline.com
SUMMARY:Xtreme Bar Bingo at The Rusty Rail in Lincoln
DESCRIPTION:Xtreme Bar Bingo is bingo game with awesome prizes. The Rusty Rail features Xtreme Bar Bingo on Thursday nights beginning at 7 PM. \nEvent codes: ccgc\, ccsoc ccbin
URL:https://www.wlcnonline.com/event/xtreme-bar-bingo-at-the-rusty-rail-in-lincoln/2025-05-29/
LOCATION:The Rusty Rail Pub in Lincoln\, 405 Pulaski Street\, Lincoln\, IL\, 62656\, United States
END:VEVENT
BEGIN:VEVENT
DTSTART;TZID=America/Chicago:20250529T180000
DTEND;TZID=America/Chicago:20250529T190000
DTSTAMP:20260419T153357
CREATED:20250227T215251Z
LAST-MODIFIED:20251231T170747Z
UID:10019191-1748541600-1748545200@www.wlcnonline.com
SUMMARY:Narcotics Anonymous meetings by Land of Lincoln Recovery Group at Hope on 5th in Lincoln
DESCRIPTION:Meetings are free to attend and take place at 6 PM Thursdays as well as at 5 PM on Sundays. \nEvent codes
URL:https://www.wlcnonline.com/event/narcotics-anonymous-meetings-by-land-of-lincoln-recovery-group-at-hope-on-5th-in-lincoln-2/2025-05-29/
LOCATION:Hope on 5th in Lincoln\, 200 5th Street\, Lincoln\, 62656\, United States
ORGANIZER;CN="Logan Mason Recovery Oriented Systems of Care (ROSC)":MAILTO:jedavis@chestnut.org
END:VEVENT
BEGIN:VEVENT
DTSTART;TZID=America/Chicago:20250529T100000
DTEND;TZID=America/Chicago:20250529T104500
DTSTAMP:20260419T153357
CREATED:20250109T220309Z
LAST-MODIFIED:20250403T210913Z
UID:10019878-1748512800-1748515500@www.wlcnonline.com
SUMMARY:Fall prevention/balance building class by Silver Fox Fitness at Lincoln YMCA
DESCRIPTION:This class is designed for participants to build strength and endurance to help with building balance and preventing falls. \nEvent codes cchwf ccsen
URL:https://www.wlcnonline.com/event/fall-prevention-balance-building-class-by-silver-fox-fitness-at-lincoln-ymca-2/2025-05-29/
LOCATION:Lincoln Area YMCA\, 719 Wyatt Avenue\, Lincoln\, IL\, 62656\, United States
END:VEVENT
BEGIN:VEVENT
DTSTART;VALUE=DATE:20250529
DTEND;VALUE=DATE:20250531
DTSTAMP:20260419T153357
CREATED:20250417T133059Z
LAST-MODIFIED:20250417T133059Z
UID:10019941-1748487600-1748573999@www.wlcnonline.com
SUMMARY:May "Miles of Sunshine Challenge" month-long virtual walking event by LMH Community Health Collaborative
DESCRIPTION:Participants are invited to step into spring with Miles of Sunshine\, a month-long walking challenge running the entire month of May 2025. Participants can track their cumulative miles using the Pacer 4 Teams app (free to all participants). Click this link to visit the information page about the event; use your phone to scan the QR code on that page to download the Pacer app and join the challenge. Participants who walk 75\, 125\, 175\, or 225 miles will earn a special club-level T-shirt. \nEvent codes ccfre cchwf
URL:https://www.wlcnonline.com/event/may-miles-of-sunshine-challenge-month-long-virtual-walking-event-by-lmh-community-health-collaborative/2025-05-29/
END:VEVENT
BEGIN:VEVENT
DTSTART;TZID=America/Chicago:20250528T180000
DTEND;TZID=America/Chicago:20250528T235900
DTSTAMP:20260419T153357
CREATED:20250508T140922Z
LAST-MODIFIED:20250508T140922Z
UID:10020073-1748455200-1748476740@www.wlcnonline.com
SUMMARY:Bike night at The Rusty Rail Pub in Lincoln
DESCRIPTION:Bike Nights are back on Wednesdays through thru October 8. Enjoy drinks\, games\, contests\, prizes and of course bikes Wednesdays starting at 6 PM. \nEvent codes cclbep ccfb ccsoc
URL:https://www.wlcnonline.com/event/bike-night-at-the-rusty-rail-pub-in-lincoln/2025-05-28/
LOCATION:The Rusty Rail Pub in Lincoln\, 405 Pulaski Street\, Lincoln\, IL\, 62656\, United States
END:VEVENT
END:VCALENDAR