BEGIN:VCALENDAR
VERSION:2.0
PRODID:-//WLCN 96.3 FM - ECPv6.15.20//NONSGML v1.0//EN
CALSCALE:GREGORIAN
METHOD:PUBLISH
X-WR-CALNAME:WLCN 96.3 FM
X-ORIGINAL-URL:https://www.wlcnonline.com
X-WR-CALDESC:Events for WLCN 96.3 FM
REFRESH-INTERVAL;VALUE=DURATION:PT1H
X-Robots-Tag:noindex
X-PUBLISHED-TTL:PT1H
BEGIN:VTIMEZONE
TZID:America/Chicago
BEGIN:DAYLIGHT
TZOFFSETFROM:-0600
TZOFFSETTO:-0500
TZNAME:CDT
DTSTART:20240310T080000
END:DAYLIGHT
BEGIN:STANDARD
TZOFFSETFROM:-0500
TZOFFSETTO:-0600
TZNAME:CST
DTSTART:20241103T070000
END:STANDARD
BEGIN:DAYLIGHT
TZOFFSETFROM:-0600
TZOFFSETTO:-0500
TZNAME:CDT
DTSTART:20250309T080000
END:DAYLIGHT
BEGIN:STANDARD
TZOFFSETFROM:-0500
TZOFFSETTO:-0600
TZNAME:CST
DTSTART:20251102T070000
END:STANDARD
BEGIN:DAYLIGHT
TZOFFSETFROM:-0600
TZOFFSETTO:-0500
TZNAME:CDT
DTSTART:20260308T080000
END:DAYLIGHT
BEGIN:STANDARD
TZOFFSETFROM:-0500
TZOFFSETTO:-0600
TZNAME:CST
DTSTART:20261101T070000
END:STANDARD
END:VTIMEZONE
BEGIN:VEVENT
DTSTART;TZID=America/Chicago:20251106T170000
DTEND;TZID=America/Chicago:20251106T210000
DTSTAMP:20260421T115953
CREATED:20250717T215744Z
LAST-MODIFIED:20251231T171425Z
UID:10020499-1762448400-1762462800@www.wlcnonline.com
SUMMARY:Thursday night bingo (meal @ 5 PM\, bingo @ 6:30 PM) at Eagles Lodge in Lincoln﻿
DESCRIPTION:Doors open at 5 PM with food being served. Bingo starts at 6:30 PM and includes cash prizes\, jackpots as well as jar balls. Open to the public. \nEvent codes ccfb ccgc ccsoc ccbin
URL:https://www.wlcnonline.com/event/thursday-night-bingo-meal-5-pm-bingo-630-pm-at-eagles-lodge-in-lincoln/2025-11-06/
LOCATION:Fraternal Order Of Eagles #2708 in Lincoln\, 1621 N. Kickapoo Street\, Lincoln\, IL\, 62656\, United States
END:VEVENT
BEGIN:VEVENT
DTSTART;TZID=America/Chicago:20251106T163000
DTEND;TZID=America/Chicago:20251106T183000
DTSTAMP:20260421T115953
CREATED:20251030T154306Z
LAST-MODIFIED:20251030T154306Z
UID:10021035-1762446600-1762453800@www.wlcnonline.com
SUMMARY:Schnitzel sale supporting Lincoln Community High School FFA Alumni Scholarship fund at Lincoln American Legion Post #263
DESCRIPTION:Meals cost $12 and include schnitzel and chips. The meals will be distributed on a drive-thru basis. \nEvent codes ccfb ccfdd
URL:https://www.wlcnonline.com/event/schnitzel-sale-supporting-lincoln-community-high-school-ffa-alumni-scholarship-fund-at-lincoln-american-legion-post-263/
LOCATION:Lincoln American Legion Post #263\, 1740 5th Street\, Lincoln\, IL\, 62656\, United States
ORGANIZER;CN="Lincoln Community High School FFA":MAILTO:abode@lchsrailers.org
END:VEVENT
BEGIN:VEVENT
DTSTART;TZID=America/Chicago:20251106T120000
DTEND;TZID=America/Chicago:20251106T130000
DTSTAMP:20260421T115953
CREATED:20251023T205432Z
LAST-MODIFIED:20251023T205432Z
UID:10020983-1762430400-1762434000@www.wlcnonline.com
SUMMARY:2025 Logan County pumpkin smash & splash event at parks around Lincoln
DESCRIPTION:Join the Logan County Parks Coalition for a fun way to recycle your pumpkins and help the environment. Pumpkins can be dropped off between November 1 and November 14 from noon to 1 PM at Kickapoo Creek Park\, Madigan State Park\, the David W. Schroder Memorial Community Garden or the Lincoln Park District. Then on November 15\, pumpkins will be smashed from 9 AM to noon at the Schroder Memorial Garden\, and they’ll be “splashed” from 11 AM to 1 PM at Kickapoo Creek Park. \nEvent codes cchwf ccfre cchall
URL:https://www.wlcnonline.com/event/2025-logan-county-pumpkin-smash-splash-event-at-parks-around-lincoln/2025-11-06/
LOCATION:Kickapoo Creek Park in Lincoln\, 2000 Jefferson Street\, Lincoln\, IL\, 62656\, United States
END:VEVENT
BEGIN:VEVENT
DTSTART;TZID=America/Chicago:20251106T100000
DTEND;TZID=America/Chicago:20251106T104500
DTSTAMP:20260421T115953
CREATED:20250904T214858Z
LAST-MODIFIED:20260115T211934Z
UID:10020756-1762423200-1762425900@www.wlcnonline.com
SUMMARY:Fall prevention/balance building class by Silver Fox Fitness at Villas of Lincoln
DESCRIPTION:This class is designed for participants to build strength and endurance to help with building balance and preventing falls. \nEvent codes cchwf ccsen
URL:https://www.wlcnonline.com/event/fall-prevention-balance-building-class-by-silver-fox-fitness-at-villas-of-lincoln/2025-11-06/
LOCATION:Villas at Lincoln (formerly The Christian Village) in Lincoln\, 1507 7th Street\, Lincoln\, IL\, 62656\, United States
END:VEVENT
BEGIN:VEVENT
DTSTART;TZID=America/Chicago:20251106T090000
DTEND;TZID=America/Chicago:20251106T120000
DTSTAMP:20260421T115953
CREATED:20251030T161706Z
LAST-MODIFIED:20251030T161706Z
UID:10021046-1762419600-1762430400@www.wlcnonline.com
SUMMARY:Community resource information day at Salvation Army Lincoln 360 Life Center in Lincoln
DESCRIPTION:November is National Homelessness Awareness Month\, and this community resource information day is being presented to provide information about housing\, energy\, food\, water and self care. \nEvent codes ccfre ccedu
URL:https://www.wlcnonline.com/event/community-resource-information-day-at-salvation-army-lincoln-360-life-center-in-lincoln/
LOCATION:The Salvation Army Lincoln 360 Life Center in Lincoln\, 307 N. Kickapoo Street\, Lincoln\, IL\, 62656\, United States
END:VEVENT
BEGIN:VEVENT
DTSTART;TZID=America/Chicago:20251106T080000
DTEND;TZID=America/Chicago:20251106T170000
DTSTAMP:20260421T115953
CREATED:20251023T221915Z
LAST-MODIFIED:20251023T222054Z
UID:10021006-1762416000-1762448400@www.wlcnonline.com
SUMMARY:Donations for "Nourish Together" to benefit Logan County residents at sites around Lincoln
DESCRIPTION:Donations will be collected from November 1 through November 8 for this project to benefit Logan County residents. Hours of operation for dropping off items will vary between locations; see image posted here for locations. \nIn addition\, there will be four special events to highlight and support this cause; see image posted here for additional information. \nEvent codes ccfdd
URL:https://www.wlcnonline.com/event/donations-for-nourish-together-to-benefit-logan-county-residents-at-sites-around-lincoln/2025-11-06/
LOCATION:Top Hat Creamery in Lincoln\, 513 Pulaski Street\, Lincoln\, IL\, 62656\, United States
ORGANIZER;CN="First Presbyterian Church of Lincoln":MAILTO:office@preslincoln.org
END:VEVENT
BEGIN:VEVENT
DTSTART;TZID=America/Chicago:20251105T190000
DTEND;TZID=America/Chicago:20251105T210000
DTSTAMP:20260421T115953
CREATED:20251023T222656Z
LAST-MODIFIED:20251023T223126Z
UID:10021010-1762369200-1762376400@www.wlcnonline.com
SUMMARY:Trivia night event to support the "Nourish Together" series benefitting Logan County residents at Spirited Republic in Lincoln
DESCRIPTION:This event is one of four special events in support of the “Nourish Together” series of events benefitting Logan County residents in need; see image posted here for additional information. \nDonations will be collected from November 1 through November 8 for this project to benefit Logan County residents. Hours of operation for dropping off items will vary between locations; see image posted here for locations. \nEvent codes ccfdd
URL:https://www.wlcnonline.com/event/trivia-night-event-to-support-the-nourish-together-series-benefitting-logan-county-residents-at-spirited-republic-in-lincoln/
LOCATION:Spirited Republic in Lincoln\, 509 Pulaski Street\, Lincoln\, IL\, 62656\, United States
ORGANIZER;CN="First Presbyterian Church of Lincoln":MAILTO:office@preslincoln.org
END:VEVENT
BEGIN:VEVENT
DTSTART;TZID=America/Chicago:20251105T180000
DTEND;TZID=America/Chicago:20251105T190000
DTSTAMP:20260421T115953
CREATED:20250227T221550Z
LAST-MODIFIED:20251231T171533Z
UID:10019582-1762365600-1762369200@www.wlcnonline.com
SUMMARY:Odds & Ends peer recovery support group meeting at Hardee's in Havana
DESCRIPTION:Meetings are free to attend and take place Wednesdays at 6 PM. \nEvent codes
URL:https://www.wlcnonline.com/event/odds-ends-peer-recovery-support-group-meeting-at-hardees-in-havana/2025-11-05/
LOCATION:Hardee’s in Havana\, 401 W. Dearborn Street\, Havana\, 62644\, United States
ORGANIZER;CN="Logan Mason Recovery Oriented Systems of Care (ROSC)":MAILTO:jedavis@chestnut.org
END:VEVENT
BEGIN:VEVENT
DTSTART;TZID=America/Chicago:20251105T180000
DTEND;TZID=America/Chicago:20251105T190000
DTSTAMP:20260421T115953
CREATED:20250227T220829Z
LAST-MODIFIED:20251231T164443Z
UID:10019408-1762365600-1762369200@www.wlcnonline.com
SUMMARY:Alcoholics Anonymous meetings at Trinity Episcopal Church in Lincoln
DESCRIPTION:Meetings are free to attend and take place at the following times: \n\nMondays at 7 PM\nWednesdays at 6 PM\nFridays at 11 AM\nSundays at 6 PM\n\nEvent codes
URL:https://www.wlcnonline.com/event/alcoholics-anonymous-meetings-at-trinity-episcopal-church-in-lincoln-2/2025-11-05/
LOCATION:Trinity Episcopal Church in Lincoln\, 402 Pekin Street\, Lincoln\, 62656\, United States
ORGANIZER;CN="Logan Mason Recovery Oriented Systems of Care (ROSC)":MAILTO:jedavis@chestnut.org
END:VEVENT
BEGIN:VEVENT
DTSTART;TZID=America/Chicago:20251105T180000
DTEND;TZID=America/Chicago:20251105T190000
DTSTAMP:20260421T115953
CREATED:20250227T214713Z
LAST-MODIFIED:20251231T161900Z
UID:10019057-1762365600-1762369200@www.wlcnonline.com
SUMMARY:Alcoholics Anonymous meetings by Land of Lincoln Recovery Group at Hope on 5th in Lincoln
DESCRIPTION:Meetings are free to attend and take place at 6 PM on Tuesdays\, Wednesdays\, Fridays and Saturdays as well as at 9 AM on Saturdays and Sundays. \nEvent codes
URL:https://www.wlcnonline.com/event/alcoholics-anonymous-meetings-by-land-of-lincoln-recovery-group-at-hope-on-5th-in-lincoln/2025-11-05/
LOCATION:Hope on 5th in Lincoln\, 200 5th Street\, Lincoln\, 62656\, United States
ORGANIZER;CN="Logan Mason Recovery Oriented Systems of Care (ROSC)":MAILTO:jedavis@chestnut.org
END:VEVENT
BEGIN:VEVENT
DTSTART;TZID=America/Chicago:20251105T120000
DTEND;TZID=America/Chicago:20251105T170000
DTSTAMP:20260421T115953
CREATED:20251030T154644Z
LAST-MODIFIED:20251030T154644Z
UID:10021038-1762344000-1762362000@www.wlcnonline.com
SUMMARY:Community blood drive at Lincoln Park District
DESCRIPTION:Click here to reserve a time online. \nEvent codes: ccbld\, ccserv
URL:https://www.wlcnonline.com/event/community-blood-drive-at-lincoln-park-district-5/
LOCATION:Lincoln Park District\, 1400 Primm Road\, Lincoln\, IL\, 62656\, United States
ORGANIZER;CN="Lincoln Park District":MAILTO:info@lincolnparkdistrict.com
END:VEVENT
BEGIN:VEVENT
DTSTART;TZID=America/Chicago:20251105T120000
DTEND;TZID=America/Chicago:20251105T130000
DTSTAMP:20260421T115953
CREATED:20251023T205432Z
LAST-MODIFIED:20251023T205432Z
UID:10020982-1762344000-1762347600@www.wlcnonline.com
SUMMARY:2025 Logan County pumpkin smash & splash event at parks around Lincoln
DESCRIPTION:Join the Logan County Parks Coalition for a fun way to recycle your pumpkins and help the environment. Pumpkins can be dropped off between November 1 and November 14 from noon to 1 PM at Kickapoo Creek Park\, Madigan State Park\, the David W. Schroder Memorial Community Garden or the Lincoln Park District. Then on November 15\, pumpkins will be smashed from 9 AM to noon at the Schroder Memorial Garden\, and they’ll be “splashed” from 11 AM to 1 PM at Kickapoo Creek Park. \nEvent codes cchwf ccfre cchall
URL:https://www.wlcnonline.com/event/2025-logan-county-pumpkin-smash-splash-event-at-parks-around-lincoln/2025-11-05/
LOCATION:Kickapoo Creek Park in Lincoln\, 2000 Jefferson Street\, Lincoln\, IL\, 62656\, United States
END:VEVENT
BEGIN:VEVENT
DTSTART;TZID=America/Chicago:20251105T100000
DTEND;TZID=America/Chicago:20251105T220000
DTSTAMP:20260421T115953
CREATED:20250829T031235Z
LAST-MODIFIED:20250829T031235Z
UID:10020715-1762336800-1762380000@www.wlcnonline.com
SUMMARY:Fundraiser for West Lincoln Broadwell School at Culver's of Lincoln
DESCRIPTION:Purchase food from Culver’s of Lincoln and help support a worthy cause whether dining in\, carrying out\, using the drive-thru or ordering through DoorDash. During the hours of the fundraiser\, a portion of all proceeds will be donated to the organization. Fundraisers for all schools run all day. Those making purchases during school fundraisers must fill out a slip to designate the class to which the donation is to be credited; those ordering via DoorDash can call Culver’s (217-732-7300) to designate how the donation from their purchase should be allocated. \nEvent codes ccfb\, ccfdd
URL:https://www.wlcnonline.com/event/fundraiser-for-west-lincoln-broadwell-school-at-culvers-of-lincoln/2025-11-05/
LOCATION:Culver’s of Lincoln\, 2530 Woodlawn Road\, Lincoln\, IL\, 62656\, United States
ORGANIZER;CN="Culver's of Lincoln":MAILTO:lincolnculvers@comcast.net
END:VEVENT
BEGIN:VEVENT
DTSTART;TZID=America/Chicago:20251105T100000
DTEND;TZID=America/Chicago:20251105T113000
DTSTAMP:20260421T115953
CREATED:20251030T160817Z
LAST-MODIFIED:20251030T160817Z
UID:10021043-1762336800-1762342200@www.wlcnonline.com
SUMMARY:Health & Wellness Series Event: Ease Into Medicare presentation at Lincoln Park District
DESCRIPTION:This brief presentation by Juliette Chihade will cover relevant facts and the basics of Medicare. \nThe event is free to the public; you do not need to be a member of the Lincoln Park District to attend. \nEvent codes ccfre ccedu
URL:https://www.wlcnonline.com/event/health-wellness-series-event-ease-into-medicare-presentation-at-lincoln-park-district/
LOCATION:Lincoln Park District\, 1400 Primm Road\, Lincoln\, IL\, 62656\, United States
ORGANIZER;CN="Lincoln Park District":MAILTO:info@lincolnparkdistrict.com
END:VEVENT
BEGIN:VEVENT
DTSTART;TZID=America/Chicago:20251105T080000
DTEND;TZID=America/Chicago:20251105T170000
DTSTAMP:20260421T115953
CREATED:20251023T221915Z
LAST-MODIFIED:20251023T222054Z
UID:10021005-1762329600-1762362000@www.wlcnonline.com
SUMMARY:Donations for "Nourish Together" to benefit Logan County residents at sites around Lincoln
DESCRIPTION:Donations will be collected from November 1 through November 8 for this project to benefit Logan County residents. Hours of operation for dropping off items will vary between locations; see image posted here for locations. \nIn addition\, there will be four special events to highlight and support this cause; see image posted here for additional information. \nEvent codes ccfdd
URL:https://www.wlcnonline.com/event/donations-for-nourish-together-to-benefit-logan-county-residents-at-sites-around-lincoln/2025-11-05/
LOCATION:Top Hat Creamery in Lincoln\, 513 Pulaski Street\, Lincoln\, IL\, 62656\, United States
ORGANIZER;CN="First Presbyterian Church of Lincoln":MAILTO:office@preslincoln.org
END:VEVENT
BEGIN:VEVENT
DTSTART;TZID=America/Chicago:20251104T200000
DTEND;TZID=America/Chicago:20251105T000000
DTSTAMP:20260421T115953
CREATED:20250725T022208Z
LAST-MODIFIED:20251231T164013Z
UID:10020552-1762286400-1762300800@www.wlcnonline.com
SUMMARY:Karaoke at The Rusty Rail Pub in Lincoln
DESCRIPTION:Karaoke events are scheduled at the Rusty Rail each Tuesday night from 8 PM to midnight. \nEvent codes ccfb ccent cckar
URL:https://www.wlcnonline.com/event/karaoke-at-the-rusty-rail-pub-in-lincoln/2025-11-04/
LOCATION:The Rusty Rail Pub in Lincoln\, 405 Pulaski Street\, Lincoln\, IL\, 62656\, United States
END:VEVENT
BEGIN:VEVENT
DTSTART;TZID=America/Chicago:20251104T190000
DTEND;TZID=America/Chicago:20251104T220000
DTSTAMP:20260421T115953
CREATED:20251030T123955Z
LAST-MODIFIED:20251030T135320Z
UID:10021021-1762282800-1762293600@www.wlcnonline.com
SUMMARY:Harvest Hustle barrel racing series event at 4 Rocks Arena in rural Delavan
DESCRIPTION:The event will feature pee-wee barrels and open 4D barrels along with youth\, adult and senior sidepots. Expos will take place from 5:30 PM to 6:30 PM. Those who would like to participate in the event can sign up online at saddlebook.com. \nEvent codes ccsoc ccgc
URL:https://www.wlcnonline.com/event/harvest-hustle-barrel-racing-series-event-at-4-rocks-arena-in-rural-delavan/2025-11-04/
LOCATION:Four Rocks Arena in rural Delavan\, 24865 Ilinois Route122\, Delavan\, IL\, 61734\, United States
ORGANIZER;CN="BA Barrel Racing Productions":MAILTO:bcagility07@yahoo.com
END:VEVENT
BEGIN:VEVENT
DTSTART;TZID=America/Chicago:20251104T180000
DTEND;TZID=America/Chicago:20251104T190000
DTSTAMP:20260421T115953
CREATED:20250227T214713Z
LAST-MODIFIED:20251231T161900Z
UID:10019056-1762279200-1762282800@www.wlcnonline.com
SUMMARY:Alcoholics Anonymous meetings by Land of Lincoln Recovery Group at Hope on 5th in Lincoln
DESCRIPTION:Meetings are free to attend and take place at 6 PM on Tuesdays\, Wednesdays\, Fridays and Saturdays as well as at 9 AM on Saturdays and Sundays. \nEvent codes
URL:https://www.wlcnonline.com/event/alcoholics-anonymous-meetings-by-land-of-lincoln-recovery-group-at-hope-on-5th-in-lincoln/2025-11-04/
LOCATION:Hope on 5th in Lincoln\, 200 5th Street\, Lincoln\, 62656\, United States
ORGANIZER;CN="Logan Mason Recovery Oriented Systems of Care (ROSC)":MAILTO:jedavis@chestnut.org
END:VEVENT
BEGIN:VEVENT
DTSTART;TZID=America/Chicago:20251104T170000
DTEND;TZID=America/Chicago:20251104T203000
DTSTAMP:20260421T115953
CREATED:20250220T233455Z
LAST-MODIFIED:20251231T163935Z
UID:10018883-1762275600-1762288200@www.wlcnonline.com
SUMMARY:Tuesday night bingo (meal @ 5 PM\, bingo @ 6:30 PM) at Oasis Senior Center in Lincoln﻿
DESCRIPTION:Bingo takes place on Tuesday evenings from 6:30 PM to 8:30 PM and is open to the public. Doors open at 5 PM for a meal\, snack and beverages. \nEvent codes ccgc ccbin ccfb ccsoc
URL:https://www.wlcnonline.com/event/tuesday-night-bingo-meal-5-pm-bingo-630-pm-at-oasis-senior-center-in-lincoln/2025-11-04/
LOCATION:Oasis Senior Center\, 2810 Woodlawn Road\, Lincoln\, IL\, 62656\, United States
ORGANIZER;CN="Oasis Senior Center":MAILTO:nancy@oasisseniorcenter.com
END:VEVENT
BEGIN:VEVENT
DTSTART;TZID=America/Chicago:20251104T170000
DTEND;TZID=America/Chicago:20251104T200000
DTSTAMP:20260421T115953
CREATED:20250130T142928Z
LAST-MODIFIED:20250228T024515Z
UID:10018089-1762275600-1762286400@www.wlcnonline.com
SUMMARY:Fundraiser for Faith Church of Lincoln at Culver's of Lincoln
DESCRIPTION:Purchase food from Culver’s of Lincoln and help support a worthy cause whether dining in\, carrying out\, using the drive-thru or ordering through DoorDash. During the hours of the fundraiser\, a portion of all proceeds will be donated to the organization. \nEvent codes ccfb\, ccfdd
URL:https://www.wlcnonline.com/event/fundraiser-for-faith-church-of-lincoln-at-culvers-of-lincoln/2025-11-04/
LOCATION:Culver’s of Lincoln\, 2530 Woodlawn Road\, Lincoln\, IL\, 62656\, United States
ORGANIZER;CN="Culver's of Lincoln":MAILTO:lincolnculvers@comcast.net
END:VEVENT
BEGIN:VEVENT
DTSTART;TZID=America/Chicago:20251104T120000
DTEND;TZID=America/Chicago:20251104T130000
DTSTAMP:20260421T115953
CREATED:20251023T205432Z
LAST-MODIFIED:20251023T205432Z
UID:10020981-1762257600-1762261200@www.wlcnonline.com
SUMMARY:2025 Logan County pumpkin smash & splash event at parks around Lincoln
DESCRIPTION:Join the Logan County Parks Coalition for a fun way to recycle your pumpkins and help the environment. Pumpkins can be dropped off between November 1 and November 14 from noon to 1 PM at Kickapoo Creek Park\, Madigan State Park\, the David W. Schroder Memorial Community Garden or the Lincoln Park District. Then on November 15\, pumpkins will be smashed from 9 AM to noon at the Schroder Memorial Garden\, and they’ll be “splashed” from 11 AM to 1 PM at Kickapoo Creek Park. \nEvent codes cchwf ccfre cchall
URL:https://www.wlcnonline.com/event/2025-logan-county-pumpkin-smash-splash-event-at-parks-around-lincoln/2025-11-04/
LOCATION:Kickapoo Creek Park in Lincoln\, 2000 Jefferson Street\, Lincoln\, IL\, 62656\, United States
END:VEVENT
BEGIN:VEVENT
DTSTART;TZID=America/Chicago:20251104T103000
DTEND;TZID=America/Chicago:20251104T120000
DTSTAMP:20260421T115953
CREATED:20251023T222519Z
LAST-MODIFIED:20251023T223155Z
UID:10021009-1762252200-1762257600@www.wlcnonline.com
SUMMARY:"Coffee & chocolate" event to support the "Nourish Together" series benefitting Logan County residents at Lincoln Public Library
DESCRIPTION:This event is one of four special events in support of the “Nourish Together” series of events benefitting Logan County residents in need; see image posted here for additional information. \nDonations will be collected from November 1 through November 8 for this project to benefit Logan County residents. Hours of operation for dropping off items will vary between locations; see image posted here for locations. \nEvent codes ccfdd
URL:https://www.wlcnonline.com/event/coffee-chocolate-event-to-support-the-nourish-together-series-benefitting-logan-county-residents-at-lincoln-public-library/
LOCATION:Lincoln Public Library\, 725 Pekin Street\, Lincoln\, IL\, 62656\, United States
ORGANIZER;CN="First Presbyterian Church of Lincoln":MAILTO:office@preslincoln.org
END:VEVENT
BEGIN:VEVENT
DTSTART;TZID=America/Chicago:20251104T080000
DTEND;TZID=America/Chicago:20251104T170000
DTSTAMP:20260421T115953
CREATED:20251023T221915Z
LAST-MODIFIED:20251023T222054Z
UID:10021004-1762243200-1762275600@www.wlcnonline.com
SUMMARY:Donations for "Nourish Together" to benefit Logan County residents at sites around Lincoln
DESCRIPTION:Donations will be collected from November 1 through November 8 for this project to benefit Logan County residents. Hours of operation for dropping off items will vary between locations; see image posted here for locations. \nIn addition\, there will be four special events to highlight and support this cause; see image posted here for additional information. \nEvent codes ccfdd
URL:https://www.wlcnonline.com/event/donations-for-nourish-together-to-benefit-logan-county-residents-at-sites-around-lincoln/2025-11-04/
LOCATION:Top Hat Creamery in Lincoln\, 513 Pulaski Street\, Lincoln\, IL\, 62656\, United States
ORGANIZER;CN="First Presbyterian Church of Lincoln":MAILTO:office@preslincoln.org
END:VEVENT
BEGIN:VEVENT
DTSTART;TZID=America/Chicago:20251103T190000
DTEND;TZID=America/Chicago:20251103T200000
DTSTAMP:20260421T115953
CREATED:20250227T220659Z
LAST-MODIFIED:20251231T163725Z
UID:10019364-1762196400-1762200000@www.wlcnonline.com
SUMMARY:Alcoholics Anonymous meetings at Trinity Episcopal Church in Lincoln
DESCRIPTION:Meetings are free to attend and take place at the following times: \n\nMondays at 7 PM\nWednesdays at 6 PM\nFridays at 11 AM\nSundays at 6 PM\n\nEvent codes
URL:https://www.wlcnonline.com/event/alcoholics-anonymous-meetings-at-trinity-episcopal-church-in-lincoln/2025-11-03/
LOCATION:Trinity Episcopal Church in Lincoln\, 402 Pekin Street\, Lincoln\, 62656\, United States
ORGANIZER;CN="Logan Mason Recovery Oriented Systems of Care (ROSC)":MAILTO:jedavis@chestnut.org
END:VEVENT
BEGIN:VEVENT
DTSTART;TZID=America/Chicago:20251103T183000
DTEND;TZID=America/Chicago:20251103T203000
DTSTAMP:20260421T115953
CREATED:20251030T162750Z
LAST-MODIFIED:20251030T162750Z
UID:10021049-1762194600-1762201800@www.wlcnonline.com
SUMMARY:November card making event at Interurban Merchant in Williamsville
DESCRIPTION:Interurban Merchant is hosting this creative event for attendees to make four unique handcrafted cards for sending or giving\, all while enjoying a cool or warm beverage of choice. All card supplies\, specialty tools and instructions will be provided\, but attendees should bring scissors and adhesive (tape runner type works best). \nCost is $20 and includes the costs of supplies and instruction. Participants will also get a free beverage. \nDue to a limited number of spaces\, those planning to attend are asked to RSVP by August 17 so supply kits can be prepared. Interested persons can text or call (217) 741-1688 to confirm availability and reserve a spot. \nEvent codes ccaca ccsoc
URL:https://www.wlcnonline.com/event/november-card-making-event-at-interurban-merchant-in-williamsville/
LOCATION:Interurban Merchant in Williamsville\, 112 W. Main Street\, Williamsville\, IL\, 62693\, United States
ORGANIZER;CN="Interurban Merchant":MAILTO:interurbanmerchant@gmail.com
END:VEVENT
BEGIN:VEVENT
DTSTART;TZID=America/Chicago:20251103T180000
DTEND;TZID=America/Chicago:20251103T200000
DTSTAMP:20260421T115953
CREATED:20251030T141310Z
LAST-MODIFIED:20251030T141310Z
UID:10021024-1762192800-1762200000@www.wlcnonline.com
SUMMARY:Adult fall/Thanksgiving sign craft time at Mt. Pulaski Public Library in Mt. Pulaski
DESCRIPTION:Attendees can make either a Thanksgiving-themed or fall-themed decorative sign during this session. \nAdvance registration is required and limited to 20 people. Registration can be completed in person at the library or by calling (217) 792-5919. \nIf anyone signs up and then is unable to attend\, please let the library know so the space can be given to someone else. \nEvent codes ccaca ccfa21 ccsoc
URL:https://www.wlcnonline.com/event/adult-fall-thanksgiving-sign-craft-time-at-mt-pulaski-public-library-in-mt-pulaski/
LOCATION:Mt. Pulaski Public Library\, 320 N. Washington Street\, Mt. Pulaski\, IL\, 62548\, United States
ORGANIZER;CN="Mt. Pulaski Public Library District":MAILTO:mtpulaskipubliclibrary@gmail.com
END:VEVENT
BEGIN:VEVENT
DTSTART;TZID=America/Chicago:20251103T180000
DTEND;TZID=America/Chicago:20251103T200000
DTSTAMP:20260421T115953
CREATED:20250725T024845Z
LAST-MODIFIED:20251231T163623Z
UID:10020582-1762192800-1762200000@www.wlcnonline.com
SUMMARY:Music bingo at Copper & Oak Bourbon & Craft Beer Bar in Lincoln
DESCRIPTION:Music bingo is like regular bingo\, except of numbers being called\, segments of songs are played; if you can identify the song played and it is on your bingo card\, cross it off and continue doing so until someone gets bingo. \nMusic bingo is free to play. \nEvent codes ccbin ccsoc ccfb
URL:https://www.wlcnonline.com/event/music-bingo-at-copper-oak-bourbon-craft-beer-bar-in-lincoln/2025-11-03/
LOCATION:Copper & Oak in Lincoln\, 227 N. Kickapoo Street\, Lincoln\, IL\, 62656\, United States
END:VEVENT
BEGIN:VEVENT
DTSTART;TZID=America/Chicago:20251103T180000
DTEND;TZID=America/Chicago:20251103T190000
DTSTAMP:20260421T115953
CREATED:20250227T215503Z
LAST-MODIFIED:20251231T163530Z
UID:10019257-1762192800-1762196400@www.wlcnonline.com
SUMMARY:Co-Dependents Anonymous (CoDA) meetings by Land of Lincoln Recovery Group at Hope on 5th in Lincoln
DESCRIPTION:Meetings are free to attend and take place at 6 PM Mondays. \nEvent codes
URL:https://www.wlcnonline.com/event/co-dependents-anonymous-coda-meetings-by-land-of-lincoln-recovery-group-at-hope-on-5th-in-lincoln/2025-11-03/
LOCATION:Hope on 5th in Lincoln\, 200 5th Street\, Lincoln\, 62656\, United States
ORGANIZER;CN="Logan Mason Recovery Oriented Systems of Care (ROSC)":MAILTO:jedavis@chestnut.org
END:VEVENT
BEGIN:VEVENT
DTSTART;TZID=America/Chicago:20251103T170000
DTEND;TZID=America/Chicago:20251103T200000
DTSTAMP:20260421T115953
CREATED:20250130T142758Z
LAST-MODIFIED:20250417T125953Z
UID:10018079-1762189200-1762200000@www.wlcnonline.com
SUMMARY:Fundraiser for Jefferson Street Christian Church at Culver's of Lincoln
DESCRIPTION:Purchase food from Culver’s of Lincoln and help support a worthy cause whether dining in\, carrying out\, using the drive-thru or ordering through DoorDash. During the hours of the fundraiser\, a portion of all proceeds will be donated to the organization. \nEvent codes ccfb\, ccfdd
URL:https://www.wlcnonline.com/event/fundraiser-for-jefferson-street-christian-church-at-culvers-of-lincoln/2025-11-03/
LOCATION:Culver’s of Lincoln\, 2530 Woodlawn Road\, Lincoln\, IL\, 62656\, United States
ORGANIZER;CN="Culver's of Lincoln":MAILTO:lincolnculvers@comcast.net
END:VEVENT
BEGIN:VEVENT
DTSTART;TZID=America/Chicago:20251103T120000
DTEND;TZID=America/Chicago:20251103T130000
DTSTAMP:20260421T115953
CREATED:20251023T205432Z
LAST-MODIFIED:20251023T205432Z
UID:10020980-1762171200-1762174800@www.wlcnonline.com
SUMMARY:2025 Logan County pumpkin smash & splash event at parks around Lincoln
DESCRIPTION:Join the Logan County Parks Coalition for a fun way to recycle your pumpkins and help the environment. Pumpkins can be dropped off between November 1 and November 14 from noon to 1 PM at Kickapoo Creek Park\, Madigan State Park\, the David W. Schroder Memorial Community Garden or the Lincoln Park District. Then on November 15\, pumpkins will be smashed from 9 AM to noon at the Schroder Memorial Garden\, and they’ll be “splashed” from 11 AM to 1 PM at Kickapoo Creek Park. \nEvent codes cchwf ccfre cchall
URL:https://www.wlcnonline.com/event/2025-logan-county-pumpkin-smash-splash-event-at-parks-around-lincoln/2025-11-03/
LOCATION:Kickapoo Creek Park in Lincoln\, 2000 Jefferson Street\, Lincoln\, IL\, 62656\, United States
END:VEVENT
END:VCALENDAR