BEGIN:VCALENDAR
VERSION:2.0
PRODID:-//WLCN 96.3 FM - ECPv6.15.20//NONSGML v1.0//EN
CALSCALE:GREGORIAN
METHOD:PUBLISH
X-WR-CALNAME:WLCN 96.3 FM
X-ORIGINAL-URL:https://www.wlcnonline.com
X-WR-CALDESC:Events for WLCN 96.3 FM
REFRESH-INTERVAL;VALUE=DURATION:PT1H
X-Robots-Tag:noindex
X-PUBLISHED-TTL:PT1H
BEGIN:VTIMEZONE
TZID:America/Chicago
BEGIN:DAYLIGHT
TZOFFSETFROM:-0600
TZOFFSETTO:-0500
TZNAME:CDT
DTSTART:20240310T080000
END:DAYLIGHT
BEGIN:STANDARD
TZOFFSETFROM:-0500
TZOFFSETTO:-0600
TZNAME:CST
DTSTART:20241103T070000
END:STANDARD
BEGIN:DAYLIGHT
TZOFFSETFROM:-0600
TZOFFSETTO:-0500
TZNAME:CDT
DTSTART:20250309T080000
END:DAYLIGHT
BEGIN:STANDARD
TZOFFSETFROM:-0500
TZOFFSETTO:-0600
TZNAME:CST
DTSTART:20251102T070000
END:STANDARD
BEGIN:DAYLIGHT
TZOFFSETFROM:-0600
TZOFFSETTO:-0500
TZNAME:CDT
DTSTART:20260308T080000
END:DAYLIGHT
BEGIN:STANDARD
TZOFFSETFROM:-0500
TZOFFSETTO:-0600
TZNAME:CST
DTSTART:20261101T070000
END:STANDARD
END:VTIMEZONE
BEGIN:VEVENT
DTSTART;TZID=America/Chicago:20250604T180000
DTEND;TZID=America/Chicago:20250604T190000
DTSTAMP:20260419T135332
CREATED:20250423T160306Z
LAST-MODIFIED:20250425T050736Z
UID:10019974-1749060000-1749063600@www.wlcnonline.com
SUMMARY:Weight loss challenge at LoCo Nutrition in Lincoln
DESCRIPTION:This weekly program runs through June 4 and can be used by participants to lose weight\, gain energy\, or just feel their best. \nEvent codes cchwf cclbep
URL:https://www.wlcnonline.com/event/weight-loss-challenge-at-loco-nutrition-in-lincoln/2025-06-04/
LOCATION:LoCo Nutrition in Lincoln\, 622 N. Chicago Street\, Lincoln\, IL\, 62656\, United States
END:VEVENT
BEGIN:VEVENT
DTSTART;TZID=America/Chicago:20250604T180000
DTEND;TZID=America/Chicago:20250604T190000
DTSTAMP:20260419T135332
CREATED:20250227T221550Z
LAST-MODIFIED:20251231T171533Z
UID:10019560-1749060000-1749063600@www.wlcnonline.com
SUMMARY:Odds & Ends peer recovery support group meeting at Hardee's in Havana
DESCRIPTION:Meetings are free to attend and take place Wednesdays at 6 PM. \nEvent codes
URL:https://www.wlcnonline.com/event/odds-ends-peer-recovery-support-group-meeting-at-hardees-in-havana/2025-06-04/
LOCATION:Hardee’s in Havana\, 401 W. Dearborn Street\, Havana\, 62644\, United States
ORGANIZER;CN="Logan Mason Recovery Oriented Systems of Care (ROSC)":MAILTO:jedavis@chestnut.org
END:VEVENT
BEGIN:VEVENT
DTSTART;TZID=America/Chicago:20250604T180000
DTEND;TZID=America/Chicago:20250604T190000
DTSTAMP:20260419T135332
CREATED:20250227T220829Z
LAST-MODIFIED:20251231T164443Z
UID:10019386-1749060000-1749063600@www.wlcnonline.com
SUMMARY:Alcoholics Anonymous meetings at Trinity Episcopal Church in Lincoln
DESCRIPTION:Meetings are free to attend and take place at the following times: \n\nMondays at 7 PM\nWednesdays at 6 PM\nFridays at 11 AM\nSundays at 6 PM\n\nEvent codes
URL:https://www.wlcnonline.com/event/alcoholics-anonymous-meetings-at-trinity-episcopal-church-in-lincoln-2/2025-06-04/
LOCATION:Trinity Episcopal Church in Lincoln\, 402 Pekin Street\, Lincoln\, 62656\, United States
ORGANIZER;CN="Logan Mason Recovery Oriented Systems of Care (ROSC)":MAILTO:jedavis@chestnut.org
END:VEVENT
BEGIN:VEVENT
DTSTART;TZID=America/Chicago:20250604T180000
DTEND;TZID=America/Chicago:20250604T190000
DTSTAMP:20260419T135332
CREATED:20250227T214713Z
LAST-MODIFIED:20251231T161900Z
UID:10018969-1749060000-1749063600@www.wlcnonline.com
SUMMARY:Alcoholics Anonymous meetings by Land of Lincoln Recovery Group at Hope on 5th in Lincoln
DESCRIPTION:Meetings are free to attend and take place at 6 PM on Tuesdays\, Wednesdays\, Fridays and Saturdays as well as at 9 AM on Saturdays and Sundays. \nEvent codes
URL:https://www.wlcnonline.com/event/alcoholics-anonymous-meetings-by-land-of-lincoln-recovery-group-at-hope-on-5th-in-lincoln/2025-06-04/
LOCATION:Hope on 5th in Lincoln\, 200 5th Street\, Lincoln\, 62656\, United States
ORGANIZER;CN="Logan Mason Recovery Oriented Systems of Care (ROSC)":MAILTO:jedavis@chestnut.org
END:VEVENT
BEGIN:VEVENT
DTSTART;TZID=America/Chicago:20250604T160000
DTEND;TZID=America/Chicago:20250604T200000
DTSTAMP:20260419T135332
CREATED:20250529T204526Z
LAST-MODIFIED:20250529T204526Z
UID:10020183-1749052800-1749067200@www.wlcnonline.com
SUMMARY:Appearance by Scott Innes (voice of Scooby Doo) at Primary Collectibles in Lincoln
DESCRIPTION:Scott Innes\, the voice of Scooby-Doo (and sometimes Shaggy as well) will be on hand to meet the public and sign items for fans at Primary Collectibles on June 4 from 4 PM to 8 PM. \nNo purchase is necessary. Attendees are welcome to bring items and Mr. Innes will have items available for purchase. \nEvent codes ccsoc
URL:https://www.wlcnonline.com/event/appearance-by-scott-innes-voice-of-scooby-doo-at-primary-collectibles-in-lincoln/
LOCATION:Primary Collectibles\, 511 Woodlawn Road\, Lincoln\, 62656\, United States
ORGANIZER;CN="Primary Collectibles":MAILTO:primarycolours2015@gmail.com
END:VEVENT
BEGIN:VEVENT
DTSTART;TZID=America/Chicago:20250604T120000
DTEND;TZID=America/Chicago:20250604T170000
DTSTAMP:20260419T135332
CREATED:20250529T205153Z
LAST-MODIFIED:20250529T205153Z
UID:10020184-1749038400-1749056400@www.wlcnonline.com
SUMMARY:Community blood drive at Lincoln Park District
DESCRIPTION:Click here to reserve a time online. \nEvent codes: ccbld\, ccserv
URL:https://www.wlcnonline.com/event/community-blood-drive-at-lincoln-park-district-2/
LOCATION:Lincoln Park District\, 1400 Primm Road\, Lincoln\, IL\, 62656\, United States
ORGANIZER;CN="Lincoln Park District":MAILTO:info@lincolnparkdistrict.com
END:VEVENT
BEGIN:VEVENT
DTSTART;TZID=America/Chicago:20250604T100000
DTEND;TZID=America/Chicago:20250604T113000
DTSTAMP:20260419T135332
CREATED:20250605T132401Z
LAST-MODIFIED:20250605T132836Z
UID:10020204-1749031200-1749036600@www.wlcnonline.com
SUMMARY:2025 Summer Family Flicks Series at VIP Grand Theater in Lincoln (Wed 6/4 and Th 6/5 -- "If")
DESCRIPTION:The VIP Grand offers a line-up of family-friendly movies every Wednesday and Thursday morning for 10 weeks throughout the summer. Tickets cost $2 per person for each guest every Summer Flicks showing. Tickets can now be purchased online for each showing\, so be aware spots may fill up before the day of the event.
URL:https://www.wlcnonline.com/event/2025-summer-family-flicks-series-at-vip-grand-theater-in-lincoln-11/
LOCATION:VIP Lincoln Grand\, 225 S. Kickapoo Street\, Lincoln\, IL\, 62656\, United States
ORGANIZER;CN="VIP Lincoln Grand":MAILTO:lincoln@vipcinemas.com
END:VEVENT
BEGIN:VEVENT
DTSTART;TZID=America/Chicago:20250604T100000
DTEND;TZID=America/Chicago:20250604T100000
DTSTAMP:20260419T135332
CREATED:20250529T195313Z
LAST-MODIFIED:20250529T195313Z
UID:10020165-1749031200-1749031200@www.wlcnonline.com
SUMMARY:Free health and wellness assessment for seniors at Lincoln Park District
DESCRIPTION:Lincoln Park District is partnering with the Memorial Health Physical Therapy Department to offer free senior fitness assessments. Participants have various aspects of their fitness levels tested to learn more about their health and get personalized insights into their own fitness \nThis event and the assessments are free for members of the community. \nEvent codes ccfre ccfs cchwf
URL:https://www.wlcnonline.com/event/free-health-and-wellness-assessment-for-seniors-at-lincoln-park-district/
LOCATION:Lincoln Park District\, 1400 Primm Road\, Lincoln\, IL\, 62656\, United States
ORGANIZER;CN="Lincoln Park District":MAILTO:info@lincolnparkdistrict.com
END:VEVENT
BEGIN:VEVENT
DTSTART;TZID=America/Chicago:20250604T060000
DTEND;TZID=America/Chicago:20250604T200000
DTSTAMP:20260419T135332
CREATED:20250529T194809Z
LAST-MODIFIED:20250529T211509Z
UID:10020187-1749016800-1749067200@www.wlcnonline.com
SUMMARY:Free week of Group Fitness Classes (June 2-7\, 2025) at Lincoln Park District
DESCRIPTION:Lincoln Park District is offering free classes for members of the community from June 2 through June 7. Individuals who are not members of the park district are invited to take part in any of the group fitness classes offered by the park district. Use this link to register online for the free classes. Call the park district for more information. \nEvent codes ccfre cchwf
URL:https://www.wlcnonline.com/event/free-week-of-group-fitness-classes-june-2-7-2025-at-lincoln-park-district/2025-06-04/
LOCATION:Lincoln Park District\, 1400 Primm Road\, Lincoln\, IL\, 62656\, United States
ORGANIZER;CN="Lincoln Park District":MAILTO:info@lincolnparkdistrict.com
END:VEVENT
BEGIN:VEVENT
DTSTART;TZID=America/Chicago:20250603T180000
DTEND;TZID=America/Chicago:20250603T190000
DTSTAMP:20260419T135332
CREATED:20250227T214713Z
LAST-MODIFIED:20251231T161900Z
UID:10018968-1748973600-1748977200@www.wlcnonline.com
SUMMARY:Alcoholics Anonymous meetings by Land of Lincoln Recovery Group at Hope on 5th in Lincoln
DESCRIPTION:Meetings are free to attend and take place at 6 PM on Tuesdays\, Wednesdays\, Fridays and Saturdays as well as at 9 AM on Saturdays and Sundays. \nEvent codes
URL:https://www.wlcnonline.com/event/alcoholics-anonymous-meetings-by-land-of-lincoln-recovery-group-at-hope-on-5th-in-lincoln/2025-06-03/
LOCATION:Hope on 5th in Lincoln\, 200 5th Street\, Lincoln\, 62656\, United States
ORGANIZER;CN="Logan Mason Recovery Oriented Systems of Care (ROSC)":MAILTO:jedavis@chestnut.org
END:VEVENT
BEGIN:VEVENT
DTSTART;TZID=America/Chicago:20250603T170000
DTEND;TZID=America/Chicago:20250603T203000
DTSTAMP:20260419T135332
CREATED:20250220T233455Z
LAST-MODIFIED:20251231T163935Z
UID:10018861-1748970000-1748982600@www.wlcnonline.com
SUMMARY:Tuesday night bingo (meal @ 5 PM\, bingo @ 6:30 PM) at Oasis Senior Center in Lincoln﻿
DESCRIPTION:Bingo takes place on Tuesday evenings from 6:30 PM to 8:30 PM and is open to the public. Doors open at 5 PM for a meal\, snack and beverages. \nEvent codes ccgc ccbin ccfb ccsoc
URL:https://www.wlcnonline.com/event/tuesday-night-bingo-meal-5-pm-bingo-630-pm-at-oasis-senior-center-in-lincoln/2025-06-03/
LOCATION:Oasis Senior Center\, 2810 Woodlawn Road\, Lincoln\, IL\, 62656\, United States
ORGANIZER;CN="Oasis Senior Center":MAILTO:nancy@oasisseniorcenter.com
END:VEVENT
BEGIN:VEVENT
DTSTART;TZID=America/Chicago:20250603T170000
DTEND;TZID=America/Chicago:20250603T200000
DTSTAMP:20260419T135332
CREATED:20250130T142928Z
LAST-MODIFIED:20250228T024515Z
UID:10018084-1748970000-1748980800@www.wlcnonline.com
SUMMARY:Fundraiser for Faith Church of Lincoln at Culver's of Lincoln
DESCRIPTION:Purchase food from Culver’s of Lincoln and help support a worthy cause whether dining in\, carrying out\, using the drive-thru or ordering through DoorDash. During the hours of the fundraiser\, a portion of all proceeds will be donated to the organization. \nEvent codes ccfb\, ccfdd
URL:https://www.wlcnonline.com/event/fundraiser-for-faith-church-of-lincoln-at-culvers-of-lincoln/2025-06-03/
LOCATION:Culver’s of Lincoln\, 2530 Woodlawn Road\, Lincoln\, IL\, 62656\, United States
ORGANIZER;CN="Culver's of Lincoln":MAILTO:lincolnculvers@comcast.net
END:VEVENT
BEGIN:VEVENT
DTSTART;TZID=America/Chicago:20250603T130000
DTEND;TZID=America/Chicago:20250603T150000
DTSTAMP:20260419T135332
CREATED:20250529T194448Z
LAST-MODIFIED:20250529T194448Z
UID:10020158-1748955600-1748962800@www.wlcnonline.com
SUMMARY:Free children's orthopedic clinic sponsored by Lincoln Elks Lodge #914 at Lincoln Memorial Hospital
DESCRIPTION:This free clinic is open for pediatric and teenage children with symptoms such as complaining of joint pain\, back pain\, in & out-toeing. Patients will be seen by appointment only; to make an appointment; call 800-272-0074 or 217-483-3020. \nEvent codes ccfk cchwf
URL:https://www.wlcnonline.com/event/free-childrens-orthopedic-clinic-sponsored-by-lincoln-elks-lodge-914-at-lincoln-memorial-hospital/
LOCATION:Lincoln Memorial Hospital\, 200 Stahlhut Drive\, Lincoln\, IL\, 62656\, United States
END:VEVENT
BEGIN:VEVENT
DTSTART;TZID=America/Chicago:20250603T100000
DTEND;TZID=America/Chicago:20250603T113000
DTSTAMP:20260419T135332
CREATED:20250605T133406Z
LAST-MODIFIED:20250605T133406Z
UID:10020224-1748944800-1748950200@www.wlcnonline.com
SUMMARY:2025 Summer Kids Movie Series at Clintonia Eagle Theater in Clinton (Tu 6/3 & We 6/4 - The Lego Movie)
DESCRIPTION:The 2025 Summer Kids Movie series offers free admission to all attendees. Movies begin at 10 AM; free popcorn Wednesday does not apply. \nEvent codes ccfre ccff ccfk ccent
URL:https://www.wlcnonline.com/event/2025-summer-kids-movie-series-at-clintonia-eagle-theater-in-clinton-tu-6-3-we-6-4-the-lego-movie/
LOCATION:Clintonia Eagle Theater in Clinton\, 13 Kelli Court\, Clinton\, IL\, 61727\, United States
ORGANIZER;CN="Clintonia Eagle Theater":MAILTO:bethany@eagletheater.net
END:VEVENT
BEGIN:VEVENT
DTSTART;TZID=America/Chicago:20250603T060000
DTEND;TZID=America/Chicago:20250603T200000
DTSTAMP:20260419T135333
CREATED:20250529T194809Z
LAST-MODIFIED:20250529T211509Z
UID:10020186-1748930400-1748980800@www.wlcnonline.com
SUMMARY:Free week of Group Fitness Classes (June 2-7\, 2025) at Lincoln Park District
DESCRIPTION:Lincoln Park District is offering free classes for members of the community from June 2 through June 7. Individuals who are not members of the park district are invited to take part in any of the group fitness classes offered by the park district. Use this link to register online for the free classes. Call the park district for more information. \nEvent codes ccfre cchwf
URL:https://www.wlcnonline.com/event/free-week-of-group-fitness-classes-june-2-7-2025-at-lincoln-park-district/2025-06-03/
LOCATION:Lincoln Park District\, 1400 Primm Road\, Lincoln\, IL\, 62656\, United States
ORGANIZER;CN="Lincoln Park District":MAILTO:info@lincolnparkdistrict.com
END:VEVENT
BEGIN:VEVENT
DTSTART;TZID=America/Chicago:20250602T190000
DTEND;TZID=America/Chicago:20250602T200000
DTSTAMP:20260419T135333
CREATED:20250227T220659Z
LAST-MODIFIED:20251231T163725Z
UID:10019342-1748890800-1748894400@www.wlcnonline.com
SUMMARY:Alcoholics Anonymous meetings at Trinity Episcopal Church in Lincoln
DESCRIPTION:Meetings are free to attend and take place at the following times: \n\nMondays at 7 PM\nWednesdays at 6 PM\nFridays at 11 AM\nSundays at 6 PM\n\nEvent codes
URL:https://www.wlcnonline.com/event/alcoholics-anonymous-meetings-at-trinity-episcopal-church-in-lincoln/2025-06-02/
LOCATION:Trinity Episcopal Church in Lincoln\, 402 Pekin Street\, Lincoln\, 62656\, United States
ORGANIZER;CN="Logan Mason Recovery Oriented Systems of Care (ROSC)":MAILTO:jedavis@chestnut.org
END:VEVENT
BEGIN:VEVENT
DTSTART;TZID=America/Chicago:20250602T180000
DTEND;TZID=America/Chicago:20250602T200000
DTSTAMP:20260419T135333
CREATED:20240926T041522Z
LAST-MODIFIED:20240926T041522Z
UID:10016852-1748887200-1748894400@www.wlcnonline.com
SUMMARY:Xtreme Bar Bingo at Stag R Inn in Emden
DESCRIPTION:Enjoy Xtreme Bar Bingo along with drink and food specials each week. Participants will have the chance to win prizes and cash. \nEvent codes: ccgc\, ccsoc ccbin
URL:https://www.wlcnonline.com/event/xtreme-bar-bingo-at-stag-r-inn-in-emden-2/2025-06-02/
LOCATION:Stag R Inn in Emden\, 102 Lincoln Street\, Emden\, IL\, 62635\, United States
END:VEVENT
BEGIN:VEVENT
DTSTART;TZID=America/Chicago:20250602T180000
DTEND;TZID=America/Chicago:20250602T190000
DTSTAMP:20260419T135333
CREATED:20250227T215503Z
LAST-MODIFIED:20251231T163530Z
UID:10019235-1748887200-1748890800@www.wlcnonline.com
SUMMARY:Co-Dependents Anonymous (CoDA) meetings by Land of Lincoln Recovery Group at Hope on 5th in Lincoln
DESCRIPTION:Meetings are free to attend and take place at 6 PM Mondays. \nEvent codes
URL:https://www.wlcnonline.com/event/co-dependents-anonymous-coda-meetings-by-land-of-lincoln-recovery-group-at-hope-on-5th-in-lincoln/2025-06-02/
LOCATION:Hope on 5th in Lincoln\, 200 5th Street\, Lincoln\, 62656\, United States
ORGANIZER;CN="Logan Mason Recovery Oriented Systems of Care (ROSC)":MAILTO:jedavis@chestnut.org
END:VEVENT
BEGIN:VEVENT
DTSTART;TZID=America/Chicago:20250602T170000
DTEND;TZID=America/Chicago:20250602T200000
DTSTAMP:20260419T135333
CREATED:20250130T142758Z
LAST-MODIFIED:20250417T125953Z
UID:10018074-1748883600-1748894400@www.wlcnonline.com
SUMMARY:Fundraiser for Jefferson Street Christian Church at Culver's of Lincoln
DESCRIPTION:Purchase food from Culver’s of Lincoln and help support a worthy cause whether dining in\, carrying out\, using the drive-thru or ordering through DoorDash. During the hours of the fundraiser\, a portion of all proceeds will be donated to the organization. \nEvent codes ccfb\, ccfdd
URL:https://www.wlcnonline.com/event/fundraiser-for-jefferson-street-christian-church-at-culvers-of-lincoln/2025-06-02/
LOCATION:Culver’s of Lincoln\, 2530 Woodlawn Road\, Lincoln\, IL\, 62656\, United States
ORGANIZER;CN="Culver's of Lincoln":MAILTO:lincolnculvers@comcast.net
END:VEVENT
BEGIN:VEVENT
DTSTART;TZID=America/Chicago:20250602T160000
DTEND;TZID=America/Chicago:20250602T164500
DTSTAMP:20260419T135333
CREATED:20250327T011644Z
LAST-MODIFIED:20250327T011644Z
UID:10019773-1748880000-1748882700@www.wlcnonline.com
SUMMARY:Chair yoga by Silver Fox Fitness at Oasis Senior Center in Lincoln﻿
DESCRIPTION:Seated and standing poses will be utilized with the goal of increasing flexibility\, balance and strength along with providing relaxation. Participants never get down on the floor. \nEvent codes: ccfs\, cchwf
URL:https://www.wlcnonline.com/event/chair-yoga-by-silver-fox-fitness-at-oasis-senior-center-in-lincoln-2/2025-06-02/
LOCATION:Oasis Senior Center\, 2810 Woodlawn Road\, Lincoln\, IL\, 62656\, United States
END:VEVENT
BEGIN:VEVENT
DTSTART;TZID=America/Chicago:20250602T100000
DTEND;TZID=America/Chicago:20250602T104500
DTSTAMP:20260419T135333
CREATED:20250403T194442Z
LAST-MODIFIED:20250403T194442Z
UID:10019854-1748858400-1748861100@www.wlcnonline.com
SUMMARY:Chair yoga by Silver Fox Fitness at Lincoln VFW Hall
DESCRIPTION:Seated and standing poses will be utilized with the goal of increasing flexibility\, balance and strength along with providing relaxation. Participants never get down on the floor. \nEvent codes: ccfs\, cchwf
URL:https://www.wlcnonline.com/event/chair-yoga-by-silver-fox-fitness-at-lincoln-vfw-hall/2025-06-02/
LOCATION:VFW Post 1756 Freedom Hall Event Center in Lincoln\, 915 5th Street\, Lincoln\, IL\, 62656\, United States
END:VEVENT
BEGIN:VEVENT
DTSTART;TZID=America/Chicago:20250602T060000
DTEND;TZID=America/Chicago:20250602T200000
DTSTAMP:20260419T135333
CREATED:20250529T194809Z
LAST-MODIFIED:20250529T211509Z
UID:10020185-1748844000-1748894400@www.wlcnonline.com
SUMMARY:Free week of Group Fitness Classes (June 2-7\, 2025) at Lincoln Park District
DESCRIPTION:Lincoln Park District is offering free classes for members of the community from June 2 through June 7. Individuals who are not members of the park district are invited to take part in any of the group fitness classes offered by the park district. Use this link to register online for the free classes. Call the park district for more information. \nEvent codes ccfre cchwf
URL:https://www.wlcnonline.com/event/free-week-of-group-fitness-classes-june-2-7-2025-at-lincoln-park-district/2025-06-02/
LOCATION:Lincoln Park District\, 1400 Primm Road\, Lincoln\, IL\, 62656\, United States
ORGANIZER;CN="Lincoln Park District":MAILTO:info@lincolnparkdistrict.com
END:VEVENT
BEGIN:VEVENT
DTSTART;TZID=America/Chicago:20250601T180000
DTEND;TZID=America/Chicago:20250601T190000
DTSTAMP:20260419T135333
CREATED:20250227T221038Z
LAST-MODIFIED:20251231T162443Z
UID:10019473-1748800800-1748804400@www.wlcnonline.com
SUMMARY:Alcoholics Anonymous meetings at Trinity Episcopal Church in Lincoln
DESCRIPTION:Meetings are free to attend and take place at the following times: \n\nMondays at 7 PM\nWednesdays at 6 PM\nFridays at 11 AM\nSundays at 6 PM\n\nEvent codes
URL:https://www.wlcnonline.com/event/alcoholics-anonymous-meetings-at-trinity-episcopal-church-in-lincoln-4/2025-06-01/
LOCATION:Trinity Episcopal Church in Lincoln\, 402 Pekin Street\, Lincoln\, 62656\, United States
ORGANIZER;CN="Logan Mason Recovery Oriented Systems of Care (ROSC)":MAILTO:jedavis@chestnut.org
END:VEVENT
BEGIN:VEVENT
DTSTART;TZID=America/Chicago:20250601T170000
DTEND;TZID=America/Chicago:20250601T180000
DTSTAMP:20260419T135333
CREATED:20250227T215139Z
LAST-MODIFIED:20251231T162319Z
UID:10019648-1748797200-1748800800@www.wlcnonline.com
SUMMARY:Narcotics Anonymous meetings by Land of Lincoln Recovery Group at Hope on 5th in Lincoln
DESCRIPTION:Meetings are free to attend and take place at 6 PM Thursdays as well as at 5 PM on Sundays. \nEvent codes
URL:https://www.wlcnonline.com/event/narcotics-anonymous-meetings-by-land-of-lincoln-recovery-group-at-hope-on-5th-in-lincoln/2025-06-01/
LOCATION:Hope on 5th in Lincoln\, 200 5th Street\, Lincoln\, 62656\, United States
ORGANIZER;CN="Logan Mason Recovery Oriented Systems of Care (ROSC)":MAILTO:jedavis@chestnut.org
END:VEVENT
BEGIN:VEVENT
DTSTART;TZID=America/Chicago:20250601T140000
DTEND;TZID=America/Chicago:20250601T160000
DTSTAMP:20260419T135333
CREATED:20240607T073345Z
LAST-MODIFIED:20251231T163021Z
UID:10016985-1748786400-1748793600@www.wlcnonline.com
SUMMARY:Xtreme Bar Bingo at The Next Stop Saloon in Mt. Pulaski
DESCRIPTION:Games take place every Sunday from 2 PM to 4 PM. \nEvent codes ccfb ccbin
URL:https://www.wlcnonline.com/event/xtreme-bar-bingo-at-the-next-stop-saloon-in-mt-pulaski/2025-06-01/
LOCATION:The Next Stop Saloon in Mt. Pulaski\, 100 E. Cooke Street\, Mt. Pulaski\, IL\, 62548\, United States
END:VEVENT
BEGIN:VEVENT
DTSTART;TZID=America/Chicago:20250601T090000
DTEND;TZID=America/Chicago:20250601T100000
DTSTAMP:20260419T135333
CREATED:20250227T214918Z
LAST-MODIFIED:20251231T162155Z
UID:10019117-1748768400-1748772000@www.wlcnonline.com
SUMMARY:Alcoholics Anonymous meetings by Land of Lincoln Recovery Group at Hope on 5th in Lincoln
DESCRIPTION:Meetings are free to attend and take place at 6 PM on Tuesdays\, Wednesdays\, Fridays and Saturdays as well as at 9 AM on Saturdays and Sundays. \nEvent codes
URL:https://www.wlcnonline.com/event/alcoholics-anonymous-meetings-by-land-of-lincoln-recovery-group-at-hope-on-5th-in-lincoln-2/2025-06-01/
LOCATION:Hope on 5th in Lincoln\, 200 5th Street\, Lincoln\, 62656\, United States
ORGANIZER;CN="Logan Mason Recovery Oriented Systems of Care (ROSC)":MAILTO:jedavis@chestnut.org
END:VEVENT
BEGIN:VEVENT
DTSTART;TZID=America/Chicago:20250531T200000
DTEND;TZID=America/Chicago:20250531T230000
DTSTAMP:20260419T135333
CREATED:20250529T160206Z
LAST-MODIFIED:20251231T202325Z
UID:10020157-1748721600-1748732400@www.wlcnonline.com
SUMMARY:Live music by Deuces Wild acoustic duo at The Thirsty Barrel in Mason City
DESCRIPTION:Deuces Wild blends the diverse styles of the acoustic duo to create a unique sound to appeal to audiences of all ages. \nEvent codes ccsoc ccfb ccent cclm
URL:https://www.wlcnonline.com/event/live-music-by-deuces-wild-acoustic-duo-at-the-thirsty-barrel-in-mason-city/2025-05-31/
LOCATION:The Thirsty Barrel in Mason City\, 118 S. Tonica Street\, Mason City\, IL\, 62664\, United States
ORGANIZER;CN="The Thirsty Barrel in Mason City":MAILTO:thirstybarrelbar@gmail.com
END:VEVENT
BEGIN:VEVENT
DTSTART;TZID=America/Chicago:20250531T190000
DTEND;TZID=America/Chicago:20250531T220000
DTSTAMP:20260419T135333
CREATED:20250522T181653Z
LAST-MODIFIED:20250522T181653Z
UID:10020112-1748718000-1748728800@www.wlcnonline.com
SUMMARY:Live music by Bad Medicine at LaTeaDa Cafe/Barn Bar/Events in Clinton
DESCRIPTION:Bad Medicine brings its catalog of current hits to tunes from past decades to the stage. \nFood and drinks will be available for purchase starting at 6 PM; music begins at 7 PM; food will be available until 9 PM. \nThe outdoor concert is free of charge. Attendees can bring their own lawn chairs. No outside coolers/food/drinks are allowed; food and drinks will be available for purchase starting at noon. \nEvent codes: ccent\, cclm\, ccfd
URL:https://www.wlcnonline.com/event/live-music-by-bad-medicine-at-lateada-cafe-barn-bar-events-in-clinton/
LOCATION:LaTeaDa Cafe/Barn Bar/Events in Clinton\, 1100 S. Madison Street\, Clinton\, IL\, 61727\, United States
ORGANIZER;CN="LaTeaDa Cafe/Barn Bar/Events":MAILTO:lateadaladies@gmail.com
END:VEVENT
BEGIN:VEVENT
DTSTART;TZID=America/Chicago:20250531T180000
DTEND;TZID=America/Chicago:20250531T190000
DTSTAMP:20260419T135333
CREATED:20250227T214713Z
LAST-MODIFIED:20251231T161900Z
UID:10018967-1748714400-1748718000@www.wlcnonline.com
SUMMARY:Alcoholics Anonymous meetings by Land of Lincoln Recovery Group at Hope on 5th in Lincoln
DESCRIPTION:Meetings are free to attend and take place at 6 PM on Tuesdays\, Wednesdays\, Fridays and Saturdays as well as at 9 AM on Saturdays and Sundays. \nEvent codes
URL:https://www.wlcnonline.com/event/alcoholics-anonymous-meetings-by-land-of-lincoln-recovery-group-at-hope-on-5th-in-lincoln/2025-05-31/
LOCATION:Hope on 5th in Lincoln\, 200 5th Street\, Lincoln\, 62656\, United States
ORGANIZER;CN="Logan Mason Recovery Oriented Systems of Care (ROSC)":MAILTO:jedavis@chestnut.org
END:VEVENT
BEGIN:VEVENT
DTSTART;TZID=America/Chicago:20250531T150000
DTEND;TZID=America/Chicago:20250531T220000
DTSTAMP:20260419T135333
CREATED:20250522T165636Z
LAST-MODIFIED:20250522T165636Z
UID:10020105-1748703600-1748728800@www.wlcnonline.com
SUMMARY:Ballroom dance workshop by guest instructors Jonathon and Danyelle through Young Dance Inc. at Lincoln Park District
DESCRIPTION:This event features two workshops on the Cha Cha and the Foxtrot. Following a dinner break\, there will be an individual workshop on ballroom styling with leads and follows. \nThe schedule for the afternoon:\n2:30 PM – Doors open\n3 PM – Cha Cha workshop (novice level)\n4 PM – FoxTrot workshop (novice level)\n5 PM – Dinner break/warm up practice\n6 PM – Novice West Coast Swing lesson\n7 PM to 10 PM – Social dance including ballroom\, Latin and swing music \nCosts:\n$20 per workshop (3 PM and 4 PM)\n$10 – Dinner\n$10 – Beginners lesson and/or social dance\n$40 for all events \nTickets can be purchased online or at the door; click here to purchase online. \nEvent codes cchwf ccdj ccdnc
URL:https://www.wlcnonline.com/event/ballroom-dance-workshop-by-guest-instructors-jonathon-and-danyelle-through-young-dance-inc-at-lincoln-park-district/
LOCATION:Lincoln Park District\, 1400 Primm Road\, Lincoln\, IL\, 62656\, United States
ORGANIZER;CN="Young Dance%2C Inc.":MAILTO:youngdanceinc@gmail.com
END:VEVENT
END:VCALENDAR