BEGIN:VCALENDAR
VERSION:2.0
PRODID:-//WLCN 96.3 FM - ECPv6.15.20//NONSGML v1.0//EN
CALSCALE:GREGORIAN
METHOD:PUBLISH
X-WR-CALNAME:WLCN 96.3 FM
X-ORIGINAL-URL:https://www.wlcnonline.com
X-WR-CALDESC:Events for WLCN 96.3 FM
REFRESH-INTERVAL;VALUE=DURATION:PT1H
X-Robots-Tag:noindex
X-PUBLISHED-TTL:PT1H
BEGIN:VTIMEZONE
TZID:America/Chicago
BEGIN:DAYLIGHT
TZOFFSETFROM:-0600
TZOFFSETTO:-0500
TZNAME:CDT
DTSTART:20240310T080000
END:DAYLIGHT
BEGIN:STANDARD
TZOFFSETFROM:-0500
TZOFFSETTO:-0600
TZNAME:CST
DTSTART:20241103T070000
END:STANDARD
BEGIN:DAYLIGHT
TZOFFSETFROM:-0600
TZOFFSETTO:-0500
TZNAME:CDT
DTSTART:20250309T080000
END:DAYLIGHT
BEGIN:STANDARD
TZOFFSETFROM:-0500
TZOFFSETTO:-0600
TZNAME:CST
DTSTART:20251102T070000
END:STANDARD
BEGIN:DAYLIGHT
TZOFFSETFROM:-0600
TZOFFSETTO:-0500
TZNAME:CDT
DTSTART:20260308T080000
END:DAYLIGHT
BEGIN:STANDARD
TZOFFSETFROM:-0500
TZOFFSETTO:-0600
TZNAME:CST
DTSTART:20261101T070000
END:STANDARD
END:VTIMEZONE
BEGIN:VEVENT
DTSTART;TZID=America/Chicago:20250607T083000
DTEND;TZID=America/Chicago:20250607T150000
DTSTAMP:20260419T121353
CREATED:20250529T195802Z
LAST-MODIFIED:20250529T200036Z
UID:10020167-1749285000-1749308400@www.wlcnonline.com
SUMMARY:Humane Society of Logan County 2025 garage sale
DESCRIPTION:Hours for the garage sale on Friday 6/6 and Saturday 6/7 at from 8:30 AM to 3 PM. All proceeds benefit the Humane Society of Logan County to help with costs to run the shelter. \nAttendees can get a jump on shopping for bargains at the annual garage sale fundraiser for the Humane Society of Logan County from 4 PM to 7 PM on “preview night” Thursday 6/5 for a $5 admission charge. \nEvent codes ccgrs ccfdd
URL:https://www.wlcnonline.com/event/humane-society-of-logan-county-2025-garage-sale/2025-06-07/
LOCATION:Logan County Fairgrounds\, 230 N. Postville Drive\, Lincoln\, IL\, 62656\, United States
ORGANIZER;CN="Humane Society of Logan County":MAILTO:shelter@hslclincoln.org
END:VEVENT
BEGIN:VEVENT
DTSTART;TZID=America/Chicago:20250607T080000
DTEND;TZID=America/Chicago:20250607T120000
DTSTAMP:20260419T121353
CREATED:20250417T142149Z
LAST-MODIFIED:20250417T142149Z
UID:10019947-1749283200-1749297600@www.wlcnonline.com
SUMMARY:LMH Market hosted by the LMH Health Collaborative at Logan County Fairgrounds
DESCRIPTION:The Lincoln Memorial Hospital Market opens for its 10th season on Saturday\, May 17 and runs through September 20 in the expo buildings on the Logan County Fairgrounds. Sponsored by the Lincoln Memorial Foundation\, the indoor event is a “producer-only” farmers market\, which means vendors sell only what they have grown or produced themselves. Vendors at The LMH Market offer fruits\, vegetables\, eggs\, poultry\, baked goods\, honey and more. Shoppers enrolled in the Supplemental Nutrition Assistance Program (SNAP)\, which provides assistance to supplement the grocery budgets of families in need\, may use a Link card to purchase food at the farmers market. The Market offers SNAP matching for Link card holders\, and the match is tripled every third Saturday. \nOther offerings at The LMH Market include free health screenings on the second and fourth Saturdays of each month. The Power of Produce (POP) Club provides activities for children from 5 to 12 years old to engage them in the local food system with educational games and demonstrations\, conversations with farmers and exposure to fruits and vegetables. Attendees will also find a “Local Roots” booth that provides an opportunity for vendors who are not producer-only\, but who have a local connection and a quality product to share with customers. The LMH Market is presented by Lincoln Memorial Hospital and promotes health and wellness through fresh food and health-focused programs. For additional information\, click here to visit The LMH Market page on Facebook. \nEvent codes cchwf cclbep ccfd
URL:https://www.wlcnonline.com/event/lmh-market-hosted-by-the-lmh-health-collaborative-at-logan-county-fairgrounds/2025-06-07/
LOCATION:Logan County Fairgrounds\, 230 N. Postville Drive\, Lincoln\, IL\, 62656\, United States
ORGANIZER;CN="Lincoln Memorial Hospital Market Coordinator":MAILTO:jones.jamie@mhsil.com
END:VEVENT
BEGIN:VEVENT
DTSTART;TZID=America/Chicago:20250607T080000
DTEND;TZID=America/Chicago:20250607T084500
DTSTAMP:20260419T121353
CREATED:20250529T203547Z
LAST-MODIFIED:20250529T203547Z
UID:10020175-1749283200-1749285900@www.wlcnonline.com
SUMMARY:Saturday morning Yoga in the Park events by Lincoln Park District at Memorial Park in Lincoln
DESCRIPTION:The Yoga in the Park series is scheduled for Saturday mornings in June and July from 8 AM to 8:45 AM. \nClasses take place at Memorial Park in Lincoln. \nInterested persons should sign up online through the Lincoln Park District web site. This will ensure registrants are notified in case of class cancellations. \nParticipants should bring: water bottle\, yoga mat or towel\, sunblock/bug spray. \nNo experience is necessary; participants are asked to arrive 10 minutes early so class can start promptly. \nEvent codes ccsoc cchwf
URL:https://www.wlcnonline.com/event/saturday-morning-yoga-in-the-park-events-by-lincoln-park-district-at-memorial-park-in-lincoln/2025-06-07/
LOCATION:Memorial Park in Lincoln\, Memorial Park Road 1520 Street\, Lincoln\, IL\, 62656\, United States
ORGANIZER;CN="Lincoln Park District":MAILTO:info@lincolnparkdistrict.com
END:VEVENT
BEGIN:VEVENT
DTSTART;TZID=America/Chicago:20250607T070000
DTEND;TZID=America/Chicago:20250607T220000
DTSTAMP:20260419T121353
CREATED:20250529T201653Z
LAST-MODIFIED:20250529T201653Z
UID:10020172-1749279600-1749333600@www.wlcnonline.com
SUMMARY:Sesquicentennial in New Holland
DESCRIPTION:A full day of events is scheduled to celebration the sesquicentennial of New Holland\, including a car show\, parade\, live music and many other activities. Check the image posted here for more information. \nEvent codes ccsoc ccent cclm ccpar
URL:https://www.wlcnonline.com/event/sesquicentennial-in-new-holland/
LOCATION:Village of New Holland\, 109 W Lincoln Street\, New Holland\, IL\, 62671\, United States
ORGANIZER;CN="Village of New Holland":MAILTO:villageofnh@gmail.com
END:VEVENT
BEGIN:VEVENT
DTSTART;TZID=America/Chicago:20250607T070000
DTEND;TZID=America/Chicago:20250607T100000
DTSTAMP:20260419T121353
CREATED:20250529T201304Z
LAST-MODIFIED:20250529T201304Z
UID:10020171-1749279600-1749290400@www.wlcnonline.com
SUMMARY:Breakfast by New Holland Fire Department at Sesquicentennial in New Holland
DESCRIPTION:Items served include biscuits and gravy\, scrambled eggs\, bacon\, orange juice\, coffee and milk. \nThe breakfast is served free but donations will be collected and are appreciated.  \nEvent codes ccsoc ccfb ccfdd
URL:https://www.wlcnonline.com/event/breakfast-by-new-holland-fire-department-at-sesquicentennial-in-new-holland/
LOCATION:New Holland Fire Department\, 100 W. Lincoln Street\, New Holland\, 62671\, United States
ORGANIZER;CN="New Holland Fire Protection District":MAILTO:nhfirepd@gmail.com
END:VEVENT
BEGIN:VEVENT
DTSTART;TZID=America/Chicago:20250607T060000
DTEND;TZID=America/Chicago:20250607T200000
DTSTAMP:20260419T121353
CREATED:20250529T194809Z
LAST-MODIFIED:20250529T211509Z
UID:10020190-1749276000-1749326400@www.wlcnonline.com
SUMMARY:Free week of Group Fitness Classes (June 2-7\, 2025) at Lincoln Park District
DESCRIPTION:Lincoln Park District is offering free classes for members of the community from June 2 through June 7. Individuals who are not members of the park district are invited to take part in any of the group fitness classes offered by the park district. Use this link to register online for the free classes. Call the park district for more information. \nEvent codes ccfre cchwf
URL:https://www.wlcnonline.com/event/free-week-of-group-fitness-classes-june-2-7-2025-at-lincoln-park-district/2025-06-07/
LOCATION:Lincoln Park District\, 1400 Primm Road\, Lincoln\, IL\, 62656\, United States
ORGANIZER;CN="Lincoln Park District":MAILTO:info@lincolnparkdistrict.com
END:VEVENT
BEGIN:VEVENT
DTSTART;TZID=America/Chicago:20250606T190000
DTEND;TZID=America/Chicago:20250606T220000
DTSTAMP:20260419T121353
CREATED:20250529T200701Z
LAST-MODIFIED:20250529T213621Z
UID:10020170-1749236400-1749247200@www.wlcnonline.com
SUMMARY:Full racing program featuring the Ed Cain Trucking Hornet Challenge at Lincoln Speedway
DESCRIPTION:Divisions: \n\nPro Late Models\nPro Mod\nSportsman\nMara Midgets\n\nSchedule: \n\nPits: 4:00 PM\nGrandstands open: 5:00 PM\nLocal Pill Draw Ends: 5:50 PM\nHotlaps: 6:00 PM\nRacing: 7:00 PM\n\nTickets as well as all pit passes will be sold at track on raceday \nEvent codes ccmrac cccavse ccgc
URL:https://www.wlcnonline.com/event/full-racing-program-featuring-the-ed-cain-trucking-hornet-challenge-at-lincoln-speedway/
LOCATION:Lincoln Speedway at Logan County Fairgrounds\, 230 N. Postville Drive\, Lincoln\, IL\, 62656\, United States
ORGANIZER;CN="Track Enterprises":MAILTO:track@trackenterprises.com
END:VEVENT
BEGIN:VEVENT
DTSTART;TZID=America/Chicago:20250606T180000
DTEND;TZID=America/Chicago:20250606T210000
DTSTAMP:20260419T121353
CREATED:20250529T200255Z
LAST-MODIFIED:20250529T200255Z
UID:10020169-1749232800-1749243600@www.wlcnonline.com
SUMMARY:Live music by Silas Tockey at Spririted Republic in Lincoln
DESCRIPTION:Enjoy your favorite beverages while listening to music by Silas Tockey from 6 PM to 9 PM. \nEvent codes ccsoc ccfb ccent cclm
URL:https://www.wlcnonline.com/event/live-music-by-silas-tockey-at-spririted-republic-in-lincoln/
LOCATION:Spirited Republic in Lincoln\, 509 Pulaski Street\, Lincoln\, IL\, 62656\, United States
ORGANIZER;CN="Spirited Republic/Limerick Brewing Company":MAILTO:spiritedrepublic@gmail.com
END:VEVENT
BEGIN:VEVENT
DTSTART;TZID=America/Chicago:20250606T180000
DTEND;TZID=America/Chicago:20250606T190000
DTSTAMP:20260419T121353
CREATED:20250227T215905Z
LAST-MODIFIED:20251231T161347Z
UID:10019269-1749232800-1749236400@www.wlcnonline.com
SUMMARY:Veterans recovery group meetings by Never Alone at Hope on 5th in Lincoln
DESCRIPTION:Meetings are free to attend and take place at 6 PM on the first and third Fridays of the month. \nEvent codes
URL:https://www.wlcnonline.com/event/veterans-recovery-group-meetings-by-never-alone-at-hope-on-5th-in-lincoln/2025-06-06/
LOCATION:Hope on 5th in Lincoln\, 200 5th Street\, Lincoln\, 62656\, United States
ORGANIZER;CN="Logan Mason Recovery Oriented Systems of Care (ROSC)":MAILTO:jedavis@chestnut.org
END:VEVENT
BEGIN:VEVENT
DTSTART;TZID=America/Chicago:20250606T180000
DTEND;TZID=America/Chicago:20250606T190000
DTSTAMP:20260419T121353
CREATED:20250227T214713Z
LAST-MODIFIED:20251231T161900Z
UID:10018970-1749232800-1749236400@www.wlcnonline.com
SUMMARY:Alcoholics Anonymous meetings by Land of Lincoln Recovery Group at Hope on 5th in Lincoln
DESCRIPTION:Meetings are free to attend and take place at 6 PM on Tuesdays\, Wednesdays\, Fridays and Saturdays as well as at 9 AM on Saturdays and Sundays. \nEvent codes
URL:https://www.wlcnonline.com/event/alcoholics-anonymous-meetings-by-land-of-lincoln-recovery-group-at-hope-on-5th-in-lincoln/2025-06-06/
LOCATION:Hope on 5th in Lincoln\, 200 5th Street\, Lincoln\, 62656\, United States
ORGANIZER;CN="Logan Mason Recovery Oriented Systems of Care (ROSC)":MAILTO:jedavis@chestnut.org
END:VEVENT
BEGIN:VEVENT
DTSTART;TZID=America/Chicago:20250606T120000
DTEND;TZID=America/Chicago:20250606T133000
DTSTAMP:20260419T121353
CREATED:20250227T221857Z
LAST-MODIFIED:20251231T161051Z
UID:10019605-1749211200-1749216600@www.wlcnonline.com
SUMMARY:SMART (Self-Management and Recovery Training) recovery meetings at Hope on 5th in Lincoln
DESCRIPTION:Meetings are free to attend and take place Fridays from noon to 1:30 PM. \nEvent codes
URL:https://www.wlcnonline.com/event/smart-self-management-and-recovery-training-recovery-meetings-at-hope-on-5th-in-lincoln/2025-06-06/
LOCATION:Hope on 5th in Lincoln\, 200 5th Street\, Lincoln\, 62656\, United States
ORGANIZER;CN="Logan Mason Recovery Oriented Systems of Care (ROSC)":MAILTO:jedavis@chestnut.org
END:VEVENT
BEGIN:VEVENT
DTSTART;TZID=America/Chicago:20250606T110000
DTEND;TZID=America/Chicago:20250606T120000
DTSTAMP:20260419T121353
CREATED:20250227T220937Z
LAST-MODIFIED:20251231T160939Z
UID:10019430-1749207600-1749211200@www.wlcnonline.com
SUMMARY:Alcoholics Anonymous meetings at Trinity Episcopal Church in Lincoln
DESCRIPTION:Meetings are free to attend and take place at the following times: \n\nMondays at 7 PM\nWednesdays at 6 PM\nFridays at 11 AM\nSundays at 6 PM\n\nEvent codes
URL:https://www.wlcnonline.com/event/alcoholics-anonymous-meetings-at-trinity-episcopal-church-in-lincoln-3/2025-06-06/
LOCATION:Trinity Episcopal Church in Lincoln\, 402 Pekin Street\, Lincoln\, 62656\, United States
ORGANIZER;CN="Logan Mason Recovery Oriented Systems of Care (ROSC)":MAILTO:jedavis@chestnut.org
END:VEVENT
BEGIN:VEVENT
DTSTART;TZID=America/Chicago:20250606T083000
DTEND;TZID=America/Chicago:20250606T150000
DTSTAMP:20260419T121353
CREATED:20250529T195802Z
LAST-MODIFIED:20250529T200036Z
UID:10020166-1749198600-1749222000@www.wlcnonline.com
SUMMARY:Humane Society of Logan County 2025 garage sale
DESCRIPTION:Hours for the garage sale on Friday 6/6 and Saturday 6/7 at from 8:30 AM to 3 PM. All proceeds benefit the Humane Society of Logan County to help with costs to run the shelter. \nAttendees can get a jump on shopping for bargains at the annual garage sale fundraiser for the Humane Society of Logan County from 4 PM to 7 PM on “preview night” Thursday 6/5 for a $5 admission charge. \nEvent codes ccgrs ccfdd
URL:https://www.wlcnonline.com/event/humane-society-of-logan-county-2025-garage-sale/2025-06-06/
LOCATION:Logan County Fairgrounds\, 230 N. Postville Drive\, Lincoln\, IL\, 62656\, United States
ORGANIZER;CN="Humane Society of Logan County":MAILTO:shelter@hslclincoln.org
END:VEVENT
BEGIN:VEVENT
DTSTART;TZID=America/Chicago:20250606T060000
DTEND;TZID=America/Chicago:20250606T200000
DTSTAMP:20260419T121353
CREATED:20250529T194809Z
LAST-MODIFIED:20250529T211509Z
UID:10020189-1749189600-1749240000@www.wlcnonline.com
SUMMARY:Free week of Group Fitness Classes (June 2-7\, 2025) at Lincoln Park District
DESCRIPTION:Lincoln Park District is offering free classes for members of the community from June 2 through June 7. Individuals who are not members of the park district are invited to take part in any of the group fitness classes offered by the park district. Use this link to register online for the free classes. Call the park district for more information. \nEvent codes ccfre cchwf
URL:https://www.wlcnonline.com/event/free-week-of-group-fitness-classes-june-2-7-2025-at-lincoln-park-district/2025-06-06/
LOCATION:Lincoln Park District\, 1400 Primm Road\, Lincoln\, IL\, 62656\, United States
ORGANIZER;CN="Lincoln Park District":MAILTO:info@lincolnparkdistrict.com
END:VEVENT
BEGIN:VEVENT
DTSTART;TZID=America/Chicago:20250605T190000
DTEND;TZID=America/Chicago:20250605T220000
DTSTAMP:20260419T121353
CREATED:20250213T051033Z
LAST-MODIFIED:20250602T141945Z
UID:10018369-1749150000-1749160800@www.wlcnonline.com
SUMMARY:Open mic night at Spirited Republic in Lincoln
DESCRIPTION:Spirited Republic open mic nights are a solo acoustic musical experiment with the goal of cultivating friendship\, support and good times amongst musicians\, comedians\, poets and artists of all kinds. Performers are asked to bring their own instruments (no drum sets; hand drums and percussion equipment only). \nEvent codes: ccent\, ccfb\, cclm\, ccsoc
URL:https://www.wlcnonline.com/event/open-mic-night-at-spirited-republic-in-lincoln/2025-06-05/
LOCATION:Spirited Republic in Lincoln\, 509 Pulaski Street\, Lincoln\, IL\, 62656\, United States
ORGANIZER;CN="Spirited Republic/Limerick Brewing Company":MAILTO:spiritedrepublic@gmail.com
END:VEVENT
BEGIN:VEVENT
DTSTART;TZID=America/Chicago:20250605T190000
DTEND;TZID=America/Chicago:20250605T200000
DTSTAMP:20260419T121353
CREATED:20250227T221223Z
LAST-MODIFIED:20251231T171824Z
UID:10019517-1749150000-1749153600@www.wlcnonline.com
SUMMARY:Alcoholics Anonymous meetings at Atlanta Community House in Atlanta
DESCRIPTION:Meetings are free to attend and take place Thursdays at 7 PM. \nEvent codes
URL:https://www.wlcnonline.com/event/alcoholics-anonymous-meetings-at-atlanta-community-house-in-atlanta/2025-06-05/
LOCATION:Atlanta Memorial Community House\, 106 SW 6th Street\, Atlanta\, IL\, 61723\, United States
ORGANIZER;CN="Logan Mason Recovery Oriented Systems of Care (ROSC)":MAILTO:jedavis@chestnut.org
END:VEVENT
BEGIN:VEVENT
DTSTART;TZID=America/Chicago:20250605T190000
DTEND;TZID=America/Chicago:20250605T200000
DTSTAMP:20260419T121353
CREATED:20250227T220255Z
LAST-MODIFIED:20251231T170522Z
UID:10019299-1749150000-1749153600@www.wlcnonline.com
SUMMARY:Celebrate recovery events at Open Arms Christian Fellowship in Lincoln
DESCRIPTION:Events take place on Thursday evenings with snacks served at 6 PM and the meeting starting at 7 PM.
URL:https://www.wlcnonline.com/event/celebrate-recovery-events-at-open-arms-christian-fellowship-in-lincoln/2025-06-05/
LOCATION:Open Arms Christian Fellowship\, 1321 State Route 10\, Lincoln\, IL\, 62656\, United States
ORGANIZER;CN="Hope on 5th":MAILTO:rhss2005th@gmail.com
END:VEVENT
BEGIN:VEVENT
DTSTART;TZID=America/Chicago:20250605T190000
DTEND;TZID=America/Chicago:20250605T190000
DTSTAMP:20260419T121353
CREATED:20240329T042327Z
LAST-MODIFIED:20251231T163130Z
UID:10016947-1749150000-1749150000@www.wlcnonline.com
SUMMARY:Xtreme Bar Bingo at The Rusty Rail in Lincoln
DESCRIPTION:Xtreme Bar Bingo is bingo game with awesome prizes. The Rusty Rail features Xtreme Bar Bingo on Thursday nights beginning at 7 PM. \nEvent codes: ccgc\, ccsoc ccbin
URL:https://www.wlcnonline.com/event/xtreme-bar-bingo-at-the-rusty-rail-in-lincoln/2025-06-05/
LOCATION:The Rusty Rail Pub in Lincoln\, 405 Pulaski Street\, Lincoln\, IL\, 62656\, United States
END:VEVENT
BEGIN:VEVENT
DTSTART;TZID=America/Chicago:20250605T180000
DTEND;TZID=America/Chicago:20250605T190000
DTSTAMP:20260419T121353
CREATED:20250227T215251Z
LAST-MODIFIED:20251231T170747Z
UID:10019192-1749146400-1749150000@www.wlcnonline.com
SUMMARY:Narcotics Anonymous meetings by Land of Lincoln Recovery Group at Hope on 5th in Lincoln
DESCRIPTION:Meetings are free to attend and take place at 6 PM Thursdays as well as at 5 PM on Sundays. \nEvent codes
URL:https://www.wlcnonline.com/event/narcotics-anonymous-meetings-by-land-of-lincoln-recovery-group-at-hope-on-5th-in-lincoln-2/2025-06-05/
LOCATION:Hope on 5th in Lincoln\, 200 5th Street\, Lincoln\, 62656\, United States
ORGANIZER;CN="Logan Mason Recovery Oriented Systems of Care (ROSC)":MAILTO:jedavis@chestnut.org
END:VEVENT
BEGIN:VEVENT
DTSTART;TZID=America/Chicago:20250605T160000
DTEND;TZID=America/Chicago:20250605T190000
DTSTAMP:20260419T121353
CREATED:20250529T200017Z
LAST-MODIFIED:20250529T200017Z
UID:10020168-1749139200-1749150000@www.wlcnonline.com
SUMMARY:Humane Society of Logan County 2025 garage sale preview night
DESCRIPTION:Attendees can get a jump on shopping for bargains at the annual garage sale fundraiser for the Humane Society of Logan County from 4 PM to 7 PM on “preview night” Thursday 6/5 for a $5 admission charge. \nThe garage sale then takes place on Friday 6/6 and Saturday 6/7 at from 8:30 AM to 3 PM. All proceeds benefit the Humane Society of Logan County to help with costs to run the shelter. \nEvent codes ccgrs ccfdd
URL:https://www.wlcnonline.com/event/humane-society-of-logan-county-2025-garage-sale-preview-night/
LOCATION:Logan County Fairgrounds\, 230 N. Postville Drive\, Lincoln\, IL\, 62656\, United States
ORGANIZER;CN="Humane Society of Logan County":MAILTO:shelter@hslclincoln.org
END:VEVENT
BEGIN:VEVENT
DTSTART;TZID=America/Chicago:20250605T130000
DTEND;TZID=America/Chicago:20250605T180000
DTSTAMP:20260419T121353
CREATED:20250508T124024Z
LAST-MODIFIED:20250508T124024Z
UID:10020065-1749128400-1749146400@www.wlcnonline.com
SUMMARY:Community blood drive at West Lincoln Broadwell School in Lincoln
DESCRIPTION:Click here to schedule a donation appointment time. \nEvent codes: ccbld\, ccserv
URL:https://www.wlcnonline.com/event/community-blood-drive-at-west-lincoln-broadwell-school-in-lincoln/
LOCATION:West Lincoln-Broadwell Elementary School\, 2695 Woodlawn Road\, Lincoln\, IL\, 62656\, United States
END:VEVENT
BEGIN:VEVENT
DTSTART;TZID=America/Chicago:20250605T100000
DTEND;TZID=America/Chicago:20250605T113000
DTSTAMP:20260419T121353
CREATED:20250605T133459Z
LAST-MODIFIED:20250605T133459Z
UID:10020223-1749117600-1749123000@www.wlcnonline.com
SUMMARY:2025 Summer Family Flicks Series at VIP Grand Theater in Lincoln (Wed 6/4 and Th 6/5 -- "If")
DESCRIPTION:The VIP Grand offers a line-up of family-friendly movies every Wednesday and Thursday morning for 10 weeks throughout the summer. Tickets cost $2 per person for each guest every Summer Flicks showing. Tickets can now be purchased online for each showing\, so be aware spots may fill up before the day of the event. \nEvent codes ccfre ccff ccfk ccent
URL:https://www.wlcnonline.com/event/2025-summer-family-flicks-series-at-vip-grand-theater-in-lincoln-11-2/
LOCATION:VIP Lincoln Grand\, 225 S. Kickapoo Street\, Lincoln\, IL\, 62656\, United States
ORGANIZER;CN="VIP Lincoln Grand":MAILTO:lincoln@vipcinemas.com
END:VEVENT
BEGIN:VEVENT
DTSTART;TZID=America/Chicago:20250605T100000
DTEND;TZID=America/Chicago:20250605T104500
DTSTAMP:20260419T121353
CREATED:20250109T220309Z
LAST-MODIFIED:20250403T210913Z
UID:10019879-1749117600-1749120300@www.wlcnonline.com
SUMMARY:Fall prevention/balance building class by Silver Fox Fitness at Lincoln YMCA
DESCRIPTION:This class is designed for participants to build strength and endurance to help with building balance and preventing falls. \nEvent codes cchwf ccsen
URL:https://www.wlcnonline.com/event/fall-prevention-balance-building-class-by-silver-fox-fitness-at-lincoln-ymca-2/2025-06-05/
LOCATION:Lincoln Area YMCA\, 719 Wyatt Avenue\, Lincoln\, IL\, 62656\, United States
END:VEVENT
BEGIN:VEVENT
DTSTART;TZID=America/Chicago:20250605T060000
DTEND;TZID=America/Chicago:20250605T200000
DTSTAMP:20260419T121353
CREATED:20250529T194809Z
LAST-MODIFIED:20250529T211509Z
UID:10020188-1749103200-1749153600@www.wlcnonline.com
SUMMARY:Free week of Group Fitness Classes (June 2-7\, 2025) at Lincoln Park District
DESCRIPTION:Lincoln Park District is offering free classes for members of the community from June 2 through June 7. Individuals who are not members of the park district are invited to take part in any of the group fitness classes offered by the park district. Use this link to register online for the free classes. Call the park district for more information. \nEvent codes ccfre cchwf
URL:https://www.wlcnonline.com/event/free-week-of-group-fitness-classes-june-2-7-2025-at-lincoln-park-district/2025-06-05/
LOCATION:Lincoln Park District\, 1400 Primm Road\, Lincoln\, IL\, 62656\, United States
ORGANIZER;CN="Lincoln Park District":MAILTO:info@lincolnparkdistrict.com
END:VEVENT
BEGIN:VEVENT
DTSTART;TZID=America/Chicago:20250604T180000
DTEND;TZID=America/Chicago:20250604T235900
DTSTAMP:20260419T121353
CREATED:20250508T140922Z
LAST-MODIFIED:20250508T140922Z
UID:10020074-1749060000-1749081540@www.wlcnonline.com
SUMMARY:Bike night at The Rusty Rail Pub in Lincoln
DESCRIPTION:Bike Nights are back on Wednesdays through thru October 8. Enjoy drinks\, games\, contests\, prizes and of course bikes Wednesdays starting at 6 PM. \nEvent codes cclbep ccfb ccsoc
URL:https://www.wlcnonline.com/event/bike-night-at-the-rusty-rail-pub-in-lincoln/2025-06-04/
LOCATION:The Rusty Rail Pub in Lincoln\, 405 Pulaski Street\, Lincoln\, IL\, 62656\, United States
END:VEVENT
BEGIN:VEVENT
DTSTART;TZID=America/Chicago:20250604T180000
DTEND;TZID=America/Chicago:20250604T190000
DTSTAMP:20260419T121354
CREATED:20250423T160306Z
LAST-MODIFIED:20250425T050736Z
UID:10019974-1749060000-1749063600@www.wlcnonline.com
SUMMARY:Weight loss challenge at LoCo Nutrition in Lincoln
DESCRIPTION:This weekly program runs through June 4 and can be used by participants to lose weight\, gain energy\, or just feel their best. \nEvent codes cchwf cclbep
URL:https://www.wlcnonline.com/event/weight-loss-challenge-at-loco-nutrition-in-lincoln/2025-06-04/
LOCATION:LoCo Nutrition in Lincoln\, 622 N. Chicago Street\, Lincoln\, IL\, 62656\, United States
END:VEVENT
BEGIN:VEVENT
DTSTART;TZID=America/Chicago:20250604T180000
DTEND;TZID=America/Chicago:20250604T190000
DTSTAMP:20260419T121354
CREATED:20250227T221550Z
LAST-MODIFIED:20251231T171533Z
UID:10019560-1749060000-1749063600@www.wlcnonline.com
SUMMARY:Odds & Ends peer recovery support group meeting at Hardee's in Havana
DESCRIPTION:Meetings are free to attend and take place Wednesdays at 6 PM. \nEvent codes
URL:https://www.wlcnonline.com/event/odds-ends-peer-recovery-support-group-meeting-at-hardees-in-havana/2025-06-04/
LOCATION:Hardee’s in Havana\, 401 W. Dearborn Street\, Havana\, 62644\, United States
ORGANIZER;CN="Logan Mason Recovery Oriented Systems of Care (ROSC)":MAILTO:jedavis@chestnut.org
END:VEVENT
BEGIN:VEVENT
DTSTART;TZID=America/Chicago:20250604T180000
DTEND;TZID=America/Chicago:20250604T190000
DTSTAMP:20260419T121354
CREATED:20250227T220829Z
LAST-MODIFIED:20251231T164443Z
UID:10019386-1749060000-1749063600@www.wlcnonline.com
SUMMARY:Alcoholics Anonymous meetings at Trinity Episcopal Church in Lincoln
DESCRIPTION:Meetings are free to attend and take place at the following times: \n\nMondays at 7 PM\nWednesdays at 6 PM\nFridays at 11 AM\nSundays at 6 PM\n\nEvent codes
URL:https://www.wlcnonline.com/event/alcoholics-anonymous-meetings-at-trinity-episcopal-church-in-lincoln-2/2025-06-04/
LOCATION:Trinity Episcopal Church in Lincoln\, 402 Pekin Street\, Lincoln\, 62656\, United States
ORGANIZER;CN="Logan Mason Recovery Oriented Systems of Care (ROSC)":MAILTO:jedavis@chestnut.org
END:VEVENT
BEGIN:VEVENT
DTSTART;TZID=America/Chicago:20250604T180000
DTEND;TZID=America/Chicago:20250604T190000
DTSTAMP:20260419T121354
CREATED:20250227T214713Z
LAST-MODIFIED:20251231T161900Z
UID:10018969-1749060000-1749063600@www.wlcnonline.com
SUMMARY:Alcoholics Anonymous meetings by Land of Lincoln Recovery Group at Hope on 5th in Lincoln
DESCRIPTION:Meetings are free to attend and take place at 6 PM on Tuesdays\, Wednesdays\, Fridays and Saturdays as well as at 9 AM on Saturdays and Sundays. \nEvent codes
URL:https://www.wlcnonline.com/event/alcoholics-anonymous-meetings-by-land-of-lincoln-recovery-group-at-hope-on-5th-in-lincoln/2025-06-04/
LOCATION:Hope on 5th in Lincoln\, 200 5th Street\, Lincoln\, 62656\, United States
ORGANIZER;CN="Logan Mason Recovery Oriented Systems of Care (ROSC)":MAILTO:jedavis@chestnut.org
END:VEVENT
BEGIN:VEVENT
DTSTART;TZID=America/Chicago:20250604T160000
DTEND;TZID=America/Chicago:20250604T200000
DTSTAMP:20260419T121354
CREATED:20250529T204526Z
LAST-MODIFIED:20250529T204526Z
UID:10020183-1749052800-1749067200@www.wlcnonline.com
SUMMARY:Appearance by Scott Innes (voice of Scooby Doo) at Primary Collectibles in Lincoln
DESCRIPTION:Scott Innes\, the voice of Scooby-Doo (and sometimes Shaggy as well) will be on hand to meet the public and sign items for fans at Primary Collectibles on June 4 from 4 PM to 8 PM. \nNo purchase is necessary. Attendees are welcome to bring items and Mr. Innes will have items available for purchase. \nEvent codes ccsoc
URL:https://www.wlcnonline.com/event/appearance-by-scott-innes-voice-of-scooby-doo-at-primary-collectibles-in-lincoln/
LOCATION:Primary Collectibles\, 511 Woodlawn Road\, Lincoln\, 62656\, United States
ORGANIZER;CN="Primary Collectibles":MAILTO:primarycolours2015@gmail.com
END:VEVENT
END:VCALENDAR