BEGIN:VCALENDAR
VERSION:2.0
PRODID:-//WLCN 96.3 FM - ECPv6.15.20//NONSGML v1.0//EN
CALSCALE:GREGORIAN
METHOD:PUBLISH
X-WR-CALNAME:WLCN 96.3 FM
X-ORIGINAL-URL:https://www.wlcnonline.com
X-WR-CALDESC:Events for WLCN 96.3 FM
REFRESH-INTERVAL;VALUE=DURATION:PT1H
X-Robots-Tag:noindex
X-PUBLISHED-TTL:PT1H
BEGIN:VTIMEZONE
TZID:America/Chicago
BEGIN:DAYLIGHT
TZOFFSETFROM:-0600
TZOFFSETTO:-0500
TZNAME:CDT
DTSTART:20240310T080000
END:DAYLIGHT
BEGIN:STANDARD
TZOFFSETFROM:-0500
TZOFFSETTO:-0600
TZNAME:CST
DTSTART:20241103T070000
END:STANDARD
BEGIN:DAYLIGHT
TZOFFSETFROM:-0600
TZOFFSETTO:-0500
TZNAME:CDT
DTSTART:20250309T080000
END:DAYLIGHT
BEGIN:STANDARD
TZOFFSETFROM:-0500
TZOFFSETTO:-0600
TZNAME:CST
DTSTART:20251102T070000
END:STANDARD
BEGIN:DAYLIGHT
TZOFFSETFROM:-0600
TZOFFSETTO:-0500
TZNAME:CDT
DTSTART:20260308T080000
END:DAYLIGHT
BEGIN:STANDARD
TZOFFSETFROM:-0500
TZOFFSETTO:-0600
TZNAME:CST
DTSTART:20261101T070000
END:STANDARD
END:VTIMEZONE
BEGIN:VEVENT
DTSTART;TZID=America/Chicago:20250611T180000
DTEND;TZID=America/Chicago:20250611T190000
DTSTAMP:20260419T103256
CREATED:20250227T214713Z
LAST-MODIFIED:20251231T161900Z
UID:10018973-1749664800-1749668400@www.wlcnonline.com
SUMMARY:Alcoholics Anonymous meetings by Land of Lincoln Recovery Group at Hope on 5th in Lincoln
DESCRIPTION:Meetings are free to attend and take place at 6 PM on Tuesdays\, Wednesdays\, Fridays and Saturdays as well as at 9 AM on Saturdays and Sundays. \nEvent codes
URL:https://www.wlcnonline.com/event/alcoholics-anonymous-meetings-by-land-of-lincoln-recovery-group-at-hope-on-5th-in-lincoln/2025-06-11/
LOCATION:Hope on 5th in Lincoln\, 200 5th Street\, Lincoln\, 62656\, United States
ORGANIZER;CN="Logan Mason Recovery Oriented Systems of Care (ROSC)":MAILTO:jedavis@chestnut.org
END:VEVENT
BEGIN:VEVENT
DTSTART;TZID=America/Chicago:20250611T100000
DTEND;TZID=America/Chicago:20250611T113000
DTSTAMP:20260419T103256
CREATED:20250605T134309Z
LAST-MODIFIED:20250605T134309Z
UID:10020242-1749636000-1749641400@www.wlcnonline.com
SUMMARY:2025 Summer Kids Movie Series at Clintonia Eagle Theater in Clinton (Tu 6/10 & We 6/11 - The Bad Guys)
DESCRIPTION:The 2025 Summer Kids Movie series offers free admission to all attendees. Movies begin at 10 AM; free popcorn Wednesday does not apply. \nEvent codes ccfre ccff ccfk ccent
URL:https://www.wlcnonline.com/event/2025-summer-kids-movie-series-at-clintonia-eagle-theater-in-clinton-tu-6-3-we-6-4-the-lego-movie-2/2025-06-11/
LOCATION:Clintonia Eagle Theater in Clinton\, 13 Kelli Court\, Clinton\, IL\, 61727\, United States
ORGANIZER;CN="Clintonia Eagle Theater":MAILTO:bethany@eagletheater.net
END:VEVENT
BEGIN:VEVENT
DTSTART;TZID=America/Chicago:20250611T100000
DTEND;TZID=America/Chicago:20250611T113000
DTSTAMP:20260419T103256
CREATED:20250605T133532Z
LAST-MODIFIED:20250605T133532Z
UID:10020205-1749636000-1749641400@www.wlcnonline.com
SUMMARY:2025 Summer Family Flicks Series at VIP Grand Theater in Lincoln (Wed 6/11 and Th 6/12 -- "The Wild Robot")
DESCRIPTION:The VIP Grand offers a line-up of family-friendly movies every Wednesday and Thursday morning for 10 weeks throughout the summer. Tickets cost $2 per person for each guest every Summer Flicks showing. Tickets can now be purchased online for each showing\, so be aware spots may fill up before the day of the event. \nEvent codes ccfre ccff ccfk ccent
URL:https://www.wlcnonline.com/event/2025-summer-family-flicks-series-at-vip-grand-theater-in-lincoln-2-2/
LOCATION:VIP Lincoln Grand\, 225 S. Kickapoo Street\, Lincoln\, IL\, 62656\, United States
ORGANIZER;CN="VIP Lincoln Grand":MAILTO:lincoln@vipcinemas.com
END:VEVENT
BEGIN:VEVENT
DTSTART;TZID=America/Chicago:20250610T180000
DTEND;TZID=America/Chicago:20250610T190000
DTSTAMP:20260419T103256
CREATED:20250227T214713Z
LAST-MODIFIED:20251231T161900Z
UID:10018972-1749578400-1749582000@www.wlcnonline.com
SUMMARY:Alcoholics Anonymous meetings by Land of Lincoln Recovery Group at Hope on 5th in Lincoln
DESCRIPTION:Meetings are free to attend and take place at 6 PM on Tuesdays\, Wednesdays\, Fridays and Saturdays as well as at 9 AM on Saturdays and Sundays. \nEvent codes
URL:https://www.wlcnonline.com/event/alcoholics-anonymous-meetings-by-land-of-lincoln-recovery-group-at-hope-on-5th-in-lincoln/2025-06-10/
LOCATION:Hope on 5th in Lincoln\, 200 5th Street\, Lincoln\, 62656\, United States
ORGANIZER;CN="Logan Mason Recovery Oriented Systems of Care (ROSC)":MAILTO:jedavis@chestnut.org
END:VEVENT
BEGIN:VEVENT
DTSTART;TZID=America/Chicago:20250610T170000
DTEND;TZID=America/Chicago:20250610T203000
DTSTAMP:20260419T103256
CREATED:20250220T233455Z
LAST-MODIFIED:20251231T163935Z
UID:10018862-1749574800-1749587400@www.wlcnonline.com
SUMMARY:Tuesday night bingo (meal @ 5 PM\, bingo @ 6:30 PM) at Oasis Senior Center in Lincoln﻿
DESCRIPTION:Bingo takes place on Tuesday evenings from 6:30 PM to 8:30 PM and is open to the public. Doors open at 5 PM for a meal\, snack and beverages. \nEvent codes ccgc ccbin ccfb ccsoc
URL:https://www.wlcnonline.com/event/tuesday-night-bingo-meal-5-pm-bingo-630-pm-at-oasis-senior-center-in-lincoln/2025-06-10/
LOCATION:Oasis Senior Center\, 2810 Woodlawn Road\, Lincoln\, IL\, 62656\, United States
ORGANIZER;CN="Oasis Senior Center":MAILTO:nancy@oasisseniorcenter.com
END:VEVENT
BEGIN:VEVENT
DTSTART;TZID=America/Chicago:20250610T100000
DTEND;TZID=America/Chicago:20250610T113000
DTSTAMP:20260419T103256
CREATED:20250605T134309Z
LAST-MODIFIED:20250605T134309Z
UID:10020225-1749549600-1749555000@www.wlcnonline.com
SUMMARY:2025 Summer Kids Movie Series at Clintonia Eagle Theater in Clinton (Tu 6/10 & We 6/11 - The Bad Guys)
DESCRIPTION:The 2025 Summer Kids Movie series offers free admission to all attendees. Movies begin at 10 AM; free popcorn Wednesday does not apply. \nEvent codes ccfre ccff ccfk ccent
URL:https://www.wlcnonline.com/event/2025-summer-kids-movie-series-at-clintonia-eagle-theater-in-clinton-tu-6-3-we-6-4-the-lego-movie-2/2025-06-10/
LOCATION:Clintonia Eagle Theater in Clinton\, 13 Kelli Court\, Clinton\, IL\, 61727\, United States
ORGANIZER;CN="Clintonia Eagle Theater":MAILTO:bethany@eagletheater.net
END:VEVENT
BEGIN:VEVENT
DTSTART;TZID=America/Chicago:20250609T190000
DTEND;TZID=America/Chicago:20250609T200000
DTSTAMP:20260419T103256
CREATED:20250227T220659Z
LAST-MODIFIED:20251231T163725Z
UID:10019343-1749495600-1749499200@www.wlcnonline.com
SUMMARY:Alcoholics Anonymous meetings at Trinity Episcopal Church in Lincoln
DESCRIPTION:Meetings are free to attend and take place at the following times: \n\nMondays at 7 PM\nWednesdays at 6 PM\nFridays at 11 AM\nSundays at 6 PM\n\nEvent codes
URL:https://www.wlcnonline.com/event/alcoholics-anonymous-meetings-at-trinity-episcopal-church-in-lincoln/2025-06-09/
LOCATION:Trinity Episcopal Church in Lincoln\, 402 Pekin Street\, Lincoln\, 62656\, United States
ORGANIZER;CN="Logan Mason Recovery Oriented Systems of Care (ROSC)":MAILTO:jedavis@chestnut.org
END:VEVENT
BEGIN:VEVENT
DTSTART;TZID=America/Chicago:20250609T180000
DTEND;TZID=America/Chicago:20250609T200000
DTSTAMP:20260419T103256
CREATED:20240926T041522Z
LAST-MODIFIED:20240926T041522Z
UID:10016853-1749492000-1749499200@www.wlcnonline.com
SUMMARY:Xtreme Bar Bingo at Stag R Inn in Emden
DESCRIPTION:Enjoy Xtreme Bar Bingo along with drink and food specials each week. Participants will have the chance to win prizes and cash. \nEvent codes: ccgc\, ccsoc ccbin
URL:https://www.wlcnonline.com/event/xtreme-bar-bingo-at-stag-r-inn-in-emden-2/2025-06-09/
LOCATION:Stag R Inn in Emden\, 102 Lincoln Street\, Emden\, IL\, 62635\, United States
END:VEVENT
BEGIN:VEVENT
DTSTART;TZID=America/Chicago:20250609T180000
DTEND;TZID=America/Chicago:20250609T190000
DTSTAMP:20260419T103256
CREATED:20250227T215503Z
LAST-MODIFIED:20251231T163530Z
UID:10019236-1749492000-1749495600@www.wlcnonline.com
SUMMARY:Co-Dependents Anonymous (CoDA) meetings by Land of Lincoln Recovery Group at Hope on 5th in Lincoln
DESCRIPTION:Meetings are free to attend and take place at 6 PM Mondays. \nEvent codes
URL:https://www.wlcnonline.com/event/co-dependents-anonymous-coda-meetings-by-land-of-lincoln-recovery-group-at-hope-on-5th-in-lincoln/2025-06-09/
LOCATION:Hope on 5th in Lincoln\, 200 5th Street\, Lincoln\, 62656\, United States
ORGANIZER;CN="Logan Mason Recovery Oriented Systems of Care (ROSC)":MAILTO:jedavis@chestnut.org
END:VEVENT
BEGIN:VEVENT
DTSTART;TZID=America/Chicago:20250609T160000
DTEND;TZID=America/Chicago:20250609T164500
DTSTAMP:20260419T103256
CREATED:20250327T011644Z
LAST-MODIFIED:20250327T011644Z
UID:10019774-1749484800-1749487500@www.wlcnonline.com
SUMMARY:Chair yoga by Silver Fox Fitness at Oasis Senior Center in Lincoln﻿
DESCRIPTION:Seated and standing poses will be utilized with the goal of increasing flexibility\, balance and strength along with providing relaxation. Participants never get down on the floor. \nEvent codes: ccfs\, cchwf
URL:https://www.wlcnonline.com/event/chair-yoga-by-silver-fox-fitness-at-oasis-senior-center-in-lincoln-2/2025-06-09/
LOCATION:Oasis Senior Center\, 2810 Woodlawn Road\, Lincoln\, IL\, 62656\, United States
END:VEVENT
BEGIN:VEVENT
DTSTART;TZID=America/Chicago:20250609T100000
DTEND;TZID=America/Chicago:20250609T104500
DTSTAMP:20260419T103256
CREATED:20250403T194442Z
LAST-MODIFIED:20250403T194442Z
UID:10019855-1749463200-1749465900@www.wlcnonline.com
SUMMARY:Chair yoga by Silver Fox Fitness at Lincoln VFW Hall
DESCRIPTION:Seated and standing poses will be utilized with the goal of increasing flexibility\, balance and strength along with providing relaxation. Participants never get down on the floor. \nEvent codes: ccfs\, cchwf
URL:https://www.wlcnonline.com/event/chair-yoga-by-silver-fox-fitness-at-lincoln-vfw-hall/2025-06-09/
LOCATION:VFW Post 1756 Freedom Hall Event Center in Lincoln\, 915 5th Street\, Lincoln\, IL\, 62656\, United States
END:VEVENT
BEGIN:VEVENT
DTSTART;TZID=America/Chicago:20250608T180000
DTEND;TZID=America/Chicago:20250608T190000
DTSTAMP:20260419T103256
CREATED:20250227T221038Z
LAST-MODIFIED:20251231T162443Z
UID:10019474-1749405600-1749409200@www.wlcnonline.com
SUMMARY:Alcoholics Anonymous meetings at Trinity Episcopal Church in Lincoln
DESCRIPTION:Meetings are free to attend and take place at the following times: \n\nMondays at 7 PM\nWednesdays at 6 PM\nFridays at 11 AM\nSundays at 6 PM\n\nEvent codes
URL:https://www.wlcnonline.com/event/alcoholics-anonymous-meetings-at-trinity-episcopal-church-in-lincoln-4/2025-06-08/
LOCATION:Trinity Episcopal Church in Lincoln\, 402 Pekin Street\, Lincoln\, 62656\, United States
ORGANIZER;CN="Logan Mason Recovery Oriented Systems of Care (ROSC)":MAILTO:jedavis@chestnut.org
END:VEVENT
BEGIN:VEVENT
DTSTART;TZID=America/Chicago:20250608T170000
DTEND;TZID=America/Chicago:20250608T180000
DTSTAMP:20260419T103256
CREATED:20250227T215139Z
LAST-MODIFIED:20251231T162319Z
UID:10019649-1749402000-1749405600@www.wlcnonline.com
SUMMARY:Narcotics Anonymous meetings by Land of Lincoln Recovery Group at Hope on 5th in Lincoln
DESCRIPTION:Meetings are free to attend and take place at 6 PM Thursdays as well as at 5 PM on Sundays. \nEvent codes
URL:https://www.wlcnonline.com/event/narcotics-anonymous-meetings-by-land-of-lincoln-recovery-group-at-hope-on-5th-in-lincoln/2025-06-08/
LOCATION:Hope on 5th in Lincoln\, 200 5th Street\, Lincoln\, 62656\, United States
ORGANIZER;CN="Logan Mason Recovery Oriented Systems of Care (ROSC)":MAILTO:jedavis@chestnut.org
END:VEVENT
BEGIN:VEVENT
DTSTART;TZID=America/Chicago:20250608T140000
DTEND;TZID=America/Chicago:20250608T160000
DTSTAMP:20260419T103256
CREATED:20240607T073345Z
LAST-MODIFIED:20251231T163021Z
UID:10016986-1749391200-1749398400@www.wlcnonline.com
SUMMARY:Xtreme Bar Bingo at The Next Stop Saloon in Mt. Pulaski
DESCRIPTION:Games take place every Sunday from 2 PM to 4 PM. \nEvent codes ccfb ccbin
URL:https://www.wlcnonline.com/event/xtreme-bar-bingo-at-the-next-stop-saloon-in-mt-pulaski/2025-06-08/
LOCATION:The Next Stop Saloon in Mt. Pulaski\, 100 E. Cooke Street\, Mt. Pulaski\, IL\, 62548\, United States
END:VEVENT
BEGIN:VEVENT
DTSTART;TZID=America/Chicago:20250608T090000
DTEND;TZID=America/Chicago:20250608T100000
DTSTAMP:20260419T103256
CREATED:20250227T214918Z
LAST-MODIFIED:20251231T162155Z
UID:10019119-1749373200-1749376800@www.wlcnonline.com
SUMMARY:Alcoholics Anonymous meetings by Land of Lincoln Recovery Group at Hope on 5th in Lincoln
DESCRIPTION:Meetings are free to attend and take place at 6 PM on Tuesdays\, Wednesdays\, Fridays and Saturdays as well as at 9 AM on Saturdays and Sundays. \nEvent codes
URL:https://www.wlcnonline.com/event/alcoholics-anonymous-meetings-by-land-of-lincoln-recovery-group-at-hope-on-5th-in-lincoln-2/2025-06-08/
LOCATION:Hope on 5th in Lincoln\, 200 5th Street\, Lincoln\, 62656\, United States
ORGANIZER;CN="Logan Mason Recovery Oriented Systems of Care (ROSC)":MAILTO:jedavis@chestnut.org
END:VEVENT
BEGIN:VEVENT
DTSTART;TZID=America/Chicago:20250607T190000
DTEND;TZID=America/Chicago:20250607T223000
DTSTAMP:20260419T103256
CREATED:20250602T214744Z
LAST-MODIFIED:20250602T214744Z
UID:10020198-1749322800-1749335400@www.wlcnonline.com
SUMMARY:Live music by Decade of Decadence at Mackinaw Valley Winery
DESCRIPTION:Enjoy live music from Decade of Decadence as the band takes you back to the big hair metal glory days with music from 80s rock icons. \nAdmission is $5 per person with kids 12 and under admitted for free. Attendees can bring lawn chairs to utilize the lawn seating. Foods may be brought into the facility\, but no outside beverages of any kind are allowed. Wine and other beverages will be available for purchase. \nEvent codes: ccent\, ccfb\, cclm
URL:https://www.wlcnonline.com/event/live-music-by-decade-of-decadence-at-mackinaw-valley-winery/
LOCATION:Mackinaw Valley Vineyard and Winery\, 33633 State Route 9\, Mackinaw\, IL\, 61755\, United States
ORGANIZER;CN="Mackinaw Valley Vineyard and Winery":MAILTO:mackinawwinery03@gmail.com
END:VEVENT
BEGIN:VEVENT
DTSTART;TZID=America/Chicago:20250607T190000
DTEND;TZID=America/Chicago:20250607T220000
DTSTAMP:20260419T103256
CREATED:20250602T214408Z
LAST-MODIFIED:20250602T214408Z
UID:10020197-1749322800-1749333600@www.wlcnonline.com
SUMMARY:Live music by Spoony and the Bootleggers at Wayne's 121 Club in Tremont
DESCRIPTION:Spoony and the Bootleggers bring their catalog of music featuring outlaw country\, blugrass and southern rock\, all with spot-on vocal harmonies to Wayne’s 121 Club in Tremont. \nEvent codes ccent ccfb cclm
URL:https://www.wlcnonline.com/event/live-music-by-spoony-and-the-bootleggers-at-waynes-121-club-in-tremont-2/
LOCATION:Wayne’s 121 Club in Tremont\, 250 S Baer Road\, Tremont\, IL\, 61568\, United States
END:VEVENT
BEGIN:VEVENT
DTSTART;TZID=America/Chicago:20250607T180000
DTEND;TZID=America/Chicago:20250607T190000
DTSTAMP:20260419T103256
CREATED:20250227T214713Z
LAST-MODIFIED:20251231T161900Z
UID:10018971-1749319200-1749322800@www.wlcnonline.com
SUMMARY:Alcoholics Anonymous meetings by Land of Lincoln Recovery Group at Hope on 5th in Lincoln
DESCRIPTION:Meetings are free to attend and take place at 6 PM on Tuesdays\, Wednesdays\, Fridays and Saturdays as well as at 9 AM on Saturdays and Sundays. \nEvent codes
URL:https://www.wlcnonline.com/event/alcoholics-anonymous-meetings-by-land-of-lincoln-recovery-group-at-hope-on-5th-in-lincoln/2025-06-07/
LOCATION:Hope on 5th in Lincoln\, 200 5th Street\, Lincoln\, 62656\, United States
ORGANIZER;CN="Logan Mason Recovery Oriented Systems of Care (ROSC)":MAILTO:jedavis@chestnut.org
END:VEVENT
BEGIN:VEVENT
DTSTART;TZID=America/Chicago:20250607T160000
DTEND;TZID=America/Chicago:20250607T230000
DTSTAMP:20260419T103256
CREATED:20250602T214207Z
LAST-MODIFIED:20250602T214207Z
UID:10020196-1749312000-1749337200@www.wlcnonline.com
SUMMARY:Raise the roof music event at LaTeaDa Cafe/Barn Bar/Events in Clinton
DESCRIPTION:This event features four bands with the proceeds raised going to help build a better performance shelter for bands performing at LaTeaDa. \nBands scheduled to perform include Green Diamond Express\, Dick & Brad\, Blonderosa and Within. \nThere is a $5 cover charge to attend; no outside food or drinks are allowed. \nThe Barn Bar and outdoor kitchen will open at 3:30 PM. \nEvent codes cclbep ccent cclm ccfb ccsoc
URL:https://www.wlcnonline.com/event/raise-the-roof-music-event-at-lateada-cafe-barn-bar-events-in-clinton/
LOCATION:LaTeaDa Cafe/Barn Bar/Events in Clinton\, 1100 S. Madison Street\, Clinton\, IL\, 61727\, United States
ORGANIZER;CN="LaTeaDa Cafe/Barn Bar/Events":MAILTO:lateadaladies@gmail.com
END:VEVENT
BEGIN:VEVENT
DTSTART;TZID=America/Chicago:20250607T150000
DTEND;TZID=America/Chicago:20250607T200000
DTSTAMP:20260419T103256
CREATED:20250529T202804Z
LAST-MODIFIED:20250529T215654Z
UID:10020174-1749308400-1749326400@www.wlcnonline.com
SUMMARY:Tie dye Pride event at The Bee Boutique in Lincoln
DESCRIPTION:The Bee is partnering with Mindful Loops & Dyes for a do-it-yourself tie dye event during the Logan County Pridefest. \nThose interested should sign up in advance to ensure we The Bee has enough shirts and proper sizes. Individuals can prepay the $28 cost at The Bee or send a message through The Bee’s Facebook page and an invoice can be emailed or texted. Participants should indicate if they would like a plain T-shirt or one with The Bee’s logo. \nEvent codes cclbep ccaca
URL:https://www.wlcnonline.com/event/tie-dye-pride-event-at-the-bee-boutique-in-lincoln/
LOCATION:The Bee in Lincoln\, 121 S. Kickapoo Street\, Lincoln\, IL\, 62656\, United States
ORGANIZER;CN="The Bee Boutique in Lincoln":MAILTO:melaniemwelch@gmail.com
END:VEVENT
BEGIN:VEVENT
DTSTART;TZID=America/Chicago:20250607T150000
DTEND;TZID=America/Chicago:20250607T200000
DTSTAMP:20260419T103256
CREATED:20250417T151346Z
LAST-MODIFIED:20250417T151346Z
UID:10019965-1749308400-1749326400@www.wlcnonline.com
SUMMARY:2025 Logan County Pride Fest in Downtown Lincoln
DESCRIPTION:Held in the center of Lincoln’s historical downtown area\, Logan County Pride will hold the fifth Logan County Pride Fest on June 7\, featuring a variety of vendors\, games\, food and activities. Anyone interested in being a vendor or volunteer at the event can click here to visit the Logan County Pride web site for more information. \nEvent codes ccff ccfb ccsoc
URL:https://www.wlcnonline.com/event/2025-logan-county-pride-fest-in-downtown-lincoln/
LOCATION:Downtown Lincoln\, 166 S. Kickapoo Street\, Lincoln\, IL\, 62656\, United States
ORGANIZER;CN="Logan County Pride":MAILTO:logancountypride@gmail.com
END:VEVENT
BEGIN:VEVENT
DTSTART;TZID=America/Chicago:20250607T100000
DTEND;TZID=America/Chicago:20250607T150000
DTSTAMP:20260419T103256
CREATED:20250529T202202Z
LAST-MODIFIED:20250529T202202Z
UID:10020173-1749290400-1749308400@www.wlcnonline.com
SUMMARY:First anniversary celebration for Little Barn Boutique in Lincoln
DESCRIPTION:Enjoy sales and sign up for drawings to help Little Barn Boutique celebrate its first year in business. There will also be a gift with purchases. \nEvent codes cclbep
URL:https://www.wlcnonline.com/event/first-anniversary-celebration-for-little-barn-boutique-in-lincoln/
LOCATION:Little Barn Boutique in Lincoln\, 1103 5th Street\, Lincoln\, 62656\, United States
ORGANIZER;CN="Little Barn Boutique":MAILTO:littlebarnboutique1@gmail.com
END:VEVENT
BEGIN:VEVENT
DTSTART;TZID=America/Chicago:20250607T090000
DTEND;TZID=America/Chicago:20250607T150000
DTSTAMP:20260419T103256
CREATED:20250529T154649Z
LAST-MODIFIED:20250529T154649Z
UID:10020135-1749286800-1749308400@www.wlcnonline.com
SUMMARY:Strawberry season at Mariah's Mums and More in rural Clinton
DESCRIPTION:Mariah’s offers U-Pick strawberries grown in vertical high tunnels for the entire six-month picking season. \nBerry availability can vary throughout the season; the best way to stay informed about picking conditions and volume is by subscribing to Mariah’s weekly e-newsletter. You can also check the Mariah’s Facebook page to see if any updates have been posted. \nMariah’s recommends arriving as soon as they open during the spring and summer hours for the best chance to pick; depending on the number of pickers\, some days Mariah’s is picked out by noon. \nMariah’s opens at 9 AM until September\, when opening time switches to 10 AM. \nEvent codes cclbep
URL:https://www.wlcnonline.com/event/strawberry-season-at-mariahs-mums-and-more-in-rural-clinton/2025-06-07/
LOCATION:Mariah’s Mums & More in rural Clinton\, 16727 Airport Road\, Clinton\, IL\, 61727\, United States
ORGANIZER;CN="Mariah's Mums & More in rural Clinton":MAILTO:mariahandgreg@mariahsmums.com
END:VEVENT
BEGIN:VEVENT
DTSTART;TZID=America/Chicago:20250607T090000
DTEND;TZID=America/Chicago:20250607T150000
DTSTAMP:20260419T103256
CREATED:20250529T152520Z
LAST-MODIFIED:20250529T152520Z
UID:10020132-1749286800-1749308400@www.wlcnonline.com
SUMMARY:Spring flower and plant sale at Mariah's Mums & More in rural Clinton
DESCRIPTION:Celebrate the start of the season with fresh blooms and garden plants to get your garden’s perfect start at this Spring Opening Sale. \nEvent codes cclbep
URL:https://www.wlcnonline.com/event/spring-flower-and-plant-sale-at-mariahs-mums-more-in-rural-clinton/2025-06-07/
LOCATION:Mariah’s Mums & More in rural Clinton\, 16727 Airport Road\, Clinton\, IL\, 61727\, United States
ORGANIZER;CN="Mariah's Mums & More in rural Clinton":MAILTO:mariahandgreg@mariahsmums.com
END:VEVENT
BEGIN:VEVENT
DTSTART;TZID=America/Chicago:20250607T090000
DTEND;TZID=America/Chicago:20250607T100000
DTSTAMP:20260419T103256
CREATED:20250227T214918Z
LAST-MODIFIED:20251231T162155Z
UID:10019118-1749286800-1749290400@www.wlcnonline.com
SUMMARY:Alcoholics Anonymous meetings by Land of Lincoln Recovery Group at Hope on 5th in Lincoln
DESCRIPTION:Meetings are free to attend and take place at 6 PM on Tuesdays\, Wednesdays\, Fridays and Saturdays as well as at 9 AM on Saturdays and Sundays. \nEvent codes
URL:https://www.wlcnonline.com/event/alcoholics-anonymous-meetings-by-land-of-lincoln-recovery-group-at-hope-on-5th-in-lincoln-2/2025-06-07/
LOCATION:Hope on 5th in Lincoln\, 200 5th Street\, Lincoln\, 62656\, United States
ORGANIZER;CN="Logan Mason Recovery Oriented Systems of Care (ROSC)":MAILTO:jedavis@chestnut.org
END:VEVENT
BEGIN:VEVENT
DTSTART;TZID=America/Chicago:20250607T083000
DTEND;TZID=America/Chicago:20250607T150000
DTSTAMP:20260419T103256
CREATED:20250529T195802Z
LAST-MODIFIED:20250529T200036Z
UID:10020167-1749285000-1749308400@www.wlcnonline.com
SUMMARY:Humane Society of Logan County 2025 garage sale
DESCRIPTION:Hours for the garage sale on Friday 6/6 and Saturday 6/7 at from 8:30 AM to 3 PM. All proceeds benefit the Humane Society of Logan County to help with costs to run the shelter. \nAttendees can get a jump on shopping for bargains at the annual garage sale fundraiser for the Humane Society of Logan County from 4 PM to 7 PM on “preview night” Thursday 6/5 for a $5 admission charge. \nEvent codes ccgrs ccfdd
URL:https://www.wlcnonline.com/event/humane-society-of-logan-county-2025-garage-sale/2025-06-07/
LOCATION:Logan County Fairgrounds\, 230 N. Postville Drive\, Lincoln\, IL\, 62656\, United States
ORGANIZER;CN="Humane Society of Logan County":MAILTO:shelter@hslclincoln.org
END:VEVENT
BEGIN:VEVENT
DTSTART;TZID=America/Chicago:20250607T080000
DTEND;TZID=America/Chicago:20250607T120000
DTSTAMP:20260419T103256
CREATED:20250417T142149Z
LAST-MODIFIED:20250417T142149Z
UID:10019947-1749283200-1749297600@www.wlcnonline.com
SUMMARY:LMH Market hosted by the LMH Health Collaborative at Logan County Fairgrounds
DESCRIPTION:The Lincoln Memorial Hospital Market opens for its 10th season on Saturday\, May 17 and runs through September 20 in the expo buildings on the Logan County Fairgrounds. Sponsored by the Lincoln Memorial Foundation\, the indoor event is a “producer-only” farmers market\, which means vendors sell only what they have grown or produced themselves. Vendors at The LMH Market offer fruits\, vegetables\, eggs\, poultry\, baked goods\, honey and more. Shoppers enrolled in the Supplemental Nutrition Assistance Program (SNAP)\, which provides assistance to supplement the grocery budgets of families in need\, may use a Link card to purchase food at the farmers market. The Market offers SNAP matching for Link card holders\, and the match is tripled every third Saturday. \nOther offerings at The LMH Market include free health screenings on the second and fourth Saturdays of each month. The Power of Produce (POP) Club provides activities for children from 5 to 12 years old to engage them in the local food system with educational games and demonstrations\, conversations with farmers and exposure to fruits and vegetables. Attendees will also find a “Local Roots” booth that provides an opportunity for vendors who are not producer-only\, but who have a local connection and a quality product to share with customers. The LMH Market is presented by Lincoln Memorial Hospital and promotes health and wellness through fresh food and health-focused programs. For additional information\, click here to visit The LMH Market page on Facebook. \nEvent codes cchwf cclbep ccfd
URL:https://www.wlcnonline.com/event/lmh-market-hosted-by-the-lmh-health-collaborative-at-logan-county-fairgrounds/2025-06-07/
LOCATION:Logan County Fairgrounds\, 230 N. Postville Drive\, Lincoln\, IL\, 62656\, United States
ORGANIZER;CN="Lincoln Memorial Hospital Market Coordinator":MAILTO:jones.jamie@mhsil.com
END:VEVENT
BEGIN:VEVENT
DTSTART;TZID=America/Chicago:20250607T080000
DTEND;TZID=America/Chicago:20250607T084500
DTSTAMP:20260419T103257
CREATED:20250529T203547Z
LAST-MODIFIED:20250529T203547Z
UID:10020175-1749283200-1749285900@www.wlcnonline.com
SUMMARY:Saturday morning Yoga in the Park events by Lincoln Park District at Memorial Park in Lincoln
DESCRIPTION:The Yoga in the Park series is scheduled for Saturday mornings in June and July from 8 AM to 8:45 AM. \nClasses take place at Memorial Park in Lincoln. \nInterested persons should sign up online through the Lincoln Park District web site. This will ensure registrants are notified in case of class cancellations. \nParticipants should bring: water bottle\, yoga mat or towel\, sunblock/bug spray. \nNo experience is necessary; participants are asked to arrive 10 minutes early so class can start promptly. \nEvent codes ccsoc cchwf
URL:https://www.wlcnonline.com/event/saturday-morning-yoga-in-the-park-events-by-lincoln-park-district-at-memorial-park-in-lincoln/2025-06-07/
LOCATION:Memorial Park in Lincoln\, Memorial Park Road 1520 Street\, Lincoln\, IL\, 62656\, United States
ORGANIZER;CN="Lincoln Park District":MAILTO:info@lincolnparkdistrict.com
END:VEVENT
BEGIN:VEVENT
DTSTART;TZID=America/Chicago:20250607T070000
DTEND;TZID=America/Chicago:20250607T220000
DTSTAMP:20260419T103257
CREATED:20250529T201653Z
LAST-MODIFIED:20250529T201653Z
UID:10020172-1749279600-1749333600@www.wlcnonline.com
SUMMARY:Sesquicentennial in New Holland
DESCRIPTION:A full day of events is scheduled to celebration the sesquicentennial of New Holland\, including a car show\, parade\, live music and many other activities. Check the image posted here for more information. \nEvent codes ccsoc ccent cclm ccpar
URL:https://www.wlcnonline.com/event/sesquicentennial-in-new-holland/
LOCATION:Village of New Holland\, 109 W Lincoln Street\, New Holland\, IL\, 62671\, United States
ORGANIZER;CN="Village of New Holland":MAILTO:villageofnh@gmail.com
END:VEVENT
BEGIN:VEVENT
DTSTART;TZID=America/Chicago:20250607T070000
DTEND;TZID=America/Chicago:20250607T100000
DTSTAMP:20260419T103257
CREATED:20250529T201304Z
LAST-MODIFIED:20250529T201304Z
UID:10020171-1749279600-1749290400@www.wlcnonline.com
SUMMARY:Breakfast by New Holland Fire Department at Sesquicentennial in New Holland
DESCRIPTION:Items served include biscuits and gravy\, scrambled eggs\, bacon\, orange juice\, coffee and milk. \nThe breakfast is served free but donations will be collected and are appreciated.  \nEvent codes ccsoc ccfb ccfdd
URL:https://www.wlcnonline.com/event/breakfast-by-new-holland-fire-department-at-sesquicentennial-in-new-holland/
LOCATION:New Holland Fire Department\, 100 W. Lincoln Street\, New Holland\, 62671\, United States
ORGANIZER;CN="New Holland Fire Protection District":MAILTO:nhfirepd@gmail.com
END:VEVENT
END:VCALENDAR