BEGIN:VCALENDAR
VERSION:2.0
PRODID:-//WLCN 96.3 FM - ECPv6.15.20//NONSGML v1.0//EN
CALSCALE:GREGORIAN
METHOD:PUBLISH
X-WR-CALNAME:WLCN 96.3 FM
X-ORIGINAL-URL:https://www.wlcnonline.com
X-WR-CALDESC:Events for WLCN 96.3 FM
REFRESH-INTERVAL;VALUE=DURATION:PT1H
X-Robots-Tag:noindex
X-PUBLISHED-TTL:PT1H
BEGIN:VTIMEZONE
TZID:America/Chicago
BEGIN:DAYLIGHT
TZOFFSETFROM:-0600
TZOFFSETTO:-0500
TZNAME:CDT
DTSTART:20250309T080000
END:DAYLIGHT
BEGIN:STANDARD
TZOFFSETFROM:-0500
TZOFFSETTO:-0600
TZNAME:CST
DTSTART:20251102T070000
END:STANDARD
BEGIN:DAYLIGHT
TZOFFSETFROM:-0600
TZOFFSETTO:-0500
TZNAME:CDT
DTSTART:20260308T080000
END:DAYLIGHT
BEGIN:STANDARD
TZOFFSETFROM:-0500
TZOFFSETTO:-0600
TZNAME:CST
DTSTART:20261101T070000
END:STANDARD
BEGIN:DAYLIGHT
TZOFFSETFROM:-0600
TZOFFSETTO:-0500
TZNAME:CDT
DTSTART:20270314T080000
END:DAYLIGHT
BEGIN:STANDARD
TZOFFSETFROM:-0500
TZOFFSETTO:-0600
TZNAME:CST
DTSTART:20271107T070000
END:STANDARD
END:VTIMEZONE
BEGIN:VEVENT
DTSTART;TZID=America/Chicago:20260422T080000
DTEND;TZID=America/Chicago:20260422T190000
DTSTAMP:20260422T052355
CREATED:20260402T205310Z
LAST-MODIFIED:20260402T205310Z
UID:10022808-1776844800-1776884400@www.wlcnonline.com
SUMMARY:2026 electronics recycling event for Logan County residents sponsored by the City of Lincoln
DESCRIPTION:The City of Lincoln will hold electronics recycling days April 20 through April 24 at the Lincoln Municipal Services Building on Limit Street in Lincoln. \nThe event is open to Logan County residents/residential users only–no commercial users. When dropping off items: \n\nEnter/exit on Limit Street.\nEnter into Door 4 on the Eastside of the Lincoln Municipal Services Building (signs will be posted).\nAn attendant will be on site to check ID’s and addresses.\nYou must unload your electronics yourself.\n\nFor a list of acceptable and unacceptable items as well as quantities accepted\, click the flyer image on this page. \nEvent codes ccfre
URL:https://www.wlcnonline.com/event/2026-electronics-recycling-event-for-logan-county-residents-sponsored-by-the-city-of-lincoln/2026-04-22/
LOCATION:City of Lincoln Municipal Services Building\, 313 Limit Street\, Lincoln\, IL\, 62656\, United States
END:VEVENT
BEGIN:VEVENT
DTSTART;TZID=America/Chicago:20260422T173000
DTEND;TZID=America/Chicago:20260422T190000
DTSTAMP:20260422T052355
CREATED:20260416T211349Z
LAST-MODIFIED:20260416T211349Z
UID:10022963-1776879000-1776884400@www.wlcnonline.com
SUMMARY:Informational event for businesses on credit card processing fees by CAPCIL Small Business Coalition at Flossie & Delzena's Coffee Cafe in Lincoln
DESCRIPTION:The Small Business Coalition is going to be taking a deep dive into credit and debit card processing. We’re pleased to have Amanda Schmidt from Fiserv joining us to lead the discussion. If your business accepts debit or credit cards\, you know how complex processing can be. This session will help bring clarity to the key topics you deal with every day.\nAmanda will cover:\n1. Percentage rates\n2. Surcharging\n3. Cash discounting\n4. Compliance\n5. Open Q&A for any additional questions you may have \nThis will be an excellent opportunity to get straightforward explanations\, ask questions\, and ensure your business is staying both compliant and cost effective. \nEvent codes ccbus
URL:https://www.wlcnonline.com/event/informational-event-for-businesses-on-credit-card-processing-fees-by-capcil-small-business-coalition-at-flossie-delzenas-coffee-cafe-in-lincoln/
LOCATION:Flossie and Delzena’s Coffee Cafe\, 600 Broadway Street\, Lincoln\, IL\, 62656\, United States
ORGANIZER;CN="CAPCIL Small Business Coalition":MAILTO:info@capcil.org
END:VEVENT
BEGIN:VEVENT
DTSTART;TZID=America/Chicago:20260422T180000
DTEND;TZID=America/Chicago:20260422T180000
DTSTAMP:20260422T052355
CREATED:20260416T213156Z
LAST-MODIFIED:20260416T213156Z
UID:10022965-1776880800-1776880800@www.wlcnonline.com
SUMMARY:Music bingo at The Thirsty Rooster in Middletown
DESCRIPTION:Enjoy your favorite beverage while playing music bingo at the Thirsty Rooster. \nEvent codes ccbin ccfb ccgc
URL:https://www.wlcnonline.com/event/music-bingo-at-the-thirsty-rooster-in-middletown/
LOCATION:The Thirsty Rooster in Middletown\, 104 South Madison Street\, Middletown\, IL\, 62666\, United States
ORGANIZER;CN="The Thirsty Rooster":MAILTO:thethirstyrooster@yahoo.com
END:VEVENT
BEGIN:VEVENT
DTSTART;TZID=America/Chicago:20260422T180000
DTEND;TZID=America/Chicago:20260422T190000
DTSTAMP:20260422T052355
CREATED:20250227T214713Z
LAST-MODIFIED:20251231T161900Z
UID:10021568-1776880800-1776884400@www.wlcnonline.com
SUMMARY:Alcoholics Anonymous meetings by Land of Lincoln Recovery Group at Hope on 5th in Lincoln
DESCRIPTION:Meetings are free to attend and take place at 6 PM on Tuesdays\, Wednesdays\, Fridays and Saturdays as well as at 9 AM on Saturdays and Sundays. \nEvent codes
URL:https://www.wlcnonline.com/event/alcoholics-anonymous-meetings-by-land-of-lincoln-recovery-group-at-hope-on-5th-in-lincoln/2026-04-22/
LOCATION:Hope on 5th in Lincoln\, 200 5th Street\, Lincoln\, 62656\, United States
ORGANIZER;CN="Logan Mason Recovery Oriented Systems of Care (ROSC)":MAILTO:jedavis@chestnut.org
END:VEVENT
BEGIN:VEVENT
DTSTART;TZID=America/Chicago:20260422T180000
DTEND;TZID=America/Chicago:20260422T190000
DTSTAMP:20260422T052355
CREATED:20250227T220829Z
LAST-MODIFIED:20251231T164443Z
UID:10021971-1776880800-1776884400@www.wlcnonline.com
SUMMARY:Alcoholics Anonymous meetings at Trinity Episcopal Church in Lincoln
DESCRIPTION:Meetings are free to attend and take place at the following times: \n\nMondays at 7 PM\nWednesdays at 6 PM\nFridays at 11 AM\nSundays at 6 PM\n\nEvent codes
URL:https://www.wlcnonline.com/event/alcoholics-anonymous-meetings-at-trinity-episcopal-church-in-lincoln-2/2026-04-22/
LOCATION:Trinity Episcopal Church in Lincoln\, 402 Pekin Street\, Lincoln\, 62656\, United States
ORGANIZER;CN="Logan Mason Recovery Oriented Systems of Care (ROSC)":MAILTO:jedavis@chestnut.org
END:VEVENT
BEGIN:VEVENT
DTSTART;TZID=America/Chicago:20260422T180000
DTEND;TZID=America/Chicago:20260422T190000
DTSTAMP:20260422T052355
CREATED:20250227T221550Z
LAST-MODIFIED:20251231T171533Z
UID:10022103-1776880800-1776884400@www.wlcnonline.com
SUMMARY:Odds & Ends peer recovery support group meeting at Hardee's in Havana
DESCRIPTION:Meetings are free to attend and take place Wednesdays at 6 PM. \nEvent codes
URL:https://www.wlcnonline.com/event/odds-ends-peer-recovery-support-group-meeting-at-hardees-in-havana/2026-04-22/
LOCATION:Hardee’s in Havana\, 401 W. Dearborn Street\, Havana\, 62644\, United States
ORGANIZER;CN="Logan Mason Recovery Oriented Systems of Care (ROSC)":MAILTO:jedavis@chestnut.org
END:VEVENT
BEGIN:VEVENT
DTSTART;TZID=America/Chicago:20260422T190000
DTEND;TZID=America/Chicago:20260422T210000
DTSTAMP:20260422T052355
CREATED:20251120T195923Z
LAST-MODIFIED:20251120T200605Z
UID:10021102-1776884400-1776891600@www.wlcnonline.com
SUMMARY:Wednesday night trivia at Minier Tap in Minier
DESCRIPTION:Each weekly event features 7 rounds of trivia designed to challenge participants. \nEvent codes: ccgc\, ccsoc
URL:https://www.wlcnonline.com/event/wednesday-night-trivia-at-minier-tap-in-minier/2026-04-22/
LOCATION:Minier Tap\, 121 S. Main Avenue\, Minier\, IL\, 61759\, United States
END:VEVENT
BEGIN:VEVENT
DTSTART;TZID=America/Chicago:20260422T190000
DTEND;TZID=America/Chicago:20260422T210000
DTSTAMP:20260422T052355
CREATED:20251231T172026Z
LAST-MODIFIED:20260220T140551Z
UID:10022182-1776884400-1776891600@www.wlcnonline.com
SUMMARY:Wednesday night trivia at Spirited Republic in Lincoln
DESCRIPTION:Each week features 7 rounds of trivia designed to challenge participants. \nEvent codes: ccgc\, ccsoc\, cctri
URL:https://www.wlcnonline.com/event/wednesday-night-trivia-at-spirited-republic-in-lincoln/2026-04-22/
LOCATION:Spirited Republic in Lincoln\, 509 Pulaski Street\, Lincoln\, IL\, 62656\, United States
ORGANIZER;CN="Spirited Republic/Limerick Brewing Company":MAILTO:spiritedrepublic@gmail.com
END:VEVENT
END:VCALENDAR