BEGIN:VCALENDAR
VERSION:2.0
PRODID:-//WLCN 96.3 FM - ECPv6.15.20//NONSGML v1.0//EN
CALSCALE:GREGORIAN
METHOD:PUBLISH
X-WR-CALNAME:WLCN 96.3 FM
X-ORIGINAL-URL:https://www.wlcnonline.com
X-WR-CALDESC:Events for WLCN 96.3 FM
REFRESH-INTERVAL;VALUE=DURATION:PT1H
X-Robots-Tag:noindex
X-PUBLISHED-TTL:PT1H
BEGIN:VTIMEZONE
TZID:America/Chicago
BEGIN:DAYLIGHT
TZOFFSETFROM:-0600
TZOFFSETTO:-0500
TZNAME:CDT
DTSTART:20250309T080000
END:DAYLIGHT
BEGIN:STANDARD
TZOFFSETFROM:-0500
TZOFFSETTO:-0600
TZNAME:CST
DTSTART:20251102T070000
END:STANDARD
BEGIN:DAYLIGHT
TZOFFSETFROM:-0600
TZOFFSETTO:-0500
TZNAME:CDT
DTSTART:20260308T080000
END:DAYLIGHT
BEGIN:STANDARD
TZOFFSETFROM:-0500
TZOFFSETTO:-0600
TZNAME:CST
DTSTART:20261101T070000
END:STANDARD
BEGIN:DAYLIGHT
TZOFFSETFROM:-0600
TZOFFSETTO:-0500
TZNAME:CDT
DTSTART:20270314T080000
END:DAYLIGHT
BEGIN:STANDARD
TZOFFSETFROM:-0500
TZOFFSETTO:-0600
TZNAME:CST
DTSTART:20271107T070000
END:STANDARD
END:VTIMEZONE
BEGIN:VEVENT
DTSTART;TZID=America/Chicago:20260420T080000
DTEND;TZID=America/Chicago:20260420T140000
DTSTAMP:20260420T031629
CREATED:20260402T205310Z
LAST-MODIFIED:20260402T205310Z
UID:10022806-1776672000-1776693600@www.wlcnonline.com
SUMMARY:2026 electronics recycling event for Logan County residents sponsored by the City of Lincoln
DESCRIPTION:The City of Lincoln will hold electronics recycling days April 20 through April 24 at the Lincoln Municipal Services Building on Limit Street in Lincoln. \nThe event is open to Logan County residents/residential users only–no commercial users. When dropping off items: \n\nEnter/exit on Limit Street.\nEnter into Door 4 on the Eastside of the Lincoln Municipal Services Building (signs will be posted).\nAn attendant will be on site to check ID’s and addresses.\nYou must unload your electronics yourself.\n\nFor a list of acceptable and unacceptable items as well as quantities accepted\, click the flyer image on this page. \nEvent codes ccfre
URL:https://www.wlcnonline.com/event/2026-electronics-recycling-event-for-logan-county-residents-sponsored-by-the-city-of-lincoln/2026-04-20/
LOCATION:City of Lincoln Municipal Services Building\, 313 Limit Street\, Lincoln\, IL\, 62656\, United States
END:VEVENT
BEGIN:VEVENT
DTSTART;TZID=America/Chicago:20260420T090000
DTEND;TZID=America/Chicago:20260420T100000
DTSTAMP:20260420T031629
CREATED:20251219T014518Z
LAST-MODIFIED:20251219T014518Z
UID:10021309-1776675600-1776679200@www.wlcnonline.com
SUMMARY:Quarterly Youth Mental Health Coalition meeting by LMH Community Health Collaborative at Lincoln Memorial Hospital in Lincoln
DESCRIPTION:This coalition is hosted in partnership with Brightpoint. Community members and organizations are welcome to participate in the Youth Mental Health Coalition. \nMeetings are held at Lincoln Memorial Hospital or on Microsoft Teams (please contact the LMH Community Health Collaborative for the Teams link). \nEvent codes cchwf
URL:https://www.wlcnonline.com/event/quarterly-youth-mental-health-coalition-meeting-by-lmh-community-health-collaborative-at-lincoln-memorial-hospital-in-lincoln/2026-04-20/
LOCATION:Lincoln Memorial Hospital\, 200 Stahlhut Drive\, Lincoln\, IL\, 62656\, United States
END:VEVENT
BEGIN:VEVENT
DTSTART;TZID=America/Chicago:20260420T100000
DTEND;TZID=America/Chicago:20260420T104500
DTSTAMP:20260420T031629
CREATED:20250814T215225Z
LAST-MODIFIED:20260115T152229Z
UID:10021815-1776679200-1776681900@www.wlcnonline.com
SUMMARY:Chair yoga by Silver Fox Fitness at The Villas at Lincoln﻿
DESCRIPTION:Seated and standing poses will be utilized with the goal of increasing flexibility\, balance and strength along with providing relaxation. Participants never get down on the floor. \nEvent codes: ccfs\, cchwf
URL:https://www.wlcnonline.com/event/chair-yoga-by-silver-fox-fitness-at-the-villas-at-lincoln/2026-04-20/
LOCATION:Villas at Lincoln (formerly The Christian Village) in Lincoln\, 1507 7th Street\, Lincoln\, IL\, 62656\, United States
END:VEVENT
BEGIN:VEVENT
DTSTART;TZID=America/Chicago:20260420T150000
DTEND;TZID=America/Chicago:20260420T154500
DTSTAMP:20260420T031629
CREATED:20260115T051012Z
LAST-MODIFIED:20260115T152819Z
UID:10022278-1776697200-1776699900@www.wlcnonline.com
SUMMARY:EnerChi class by Silver Fox Fitness at Oasis Senior Center in Lincoln
DESCRIPTION:The forms and stances learned and practiced in this class help build strength and balance. As always\, this class is adaptable to ALL ability levels; a chair is always close by to assist in balance or to sit if needed. \nEvent codes: ccfs\, cchwf
URL:https://www.wlcnonline.com/event/enerchi-class-by-silver-fox-fitness-at-oasis-senior-center-in-lincoln-103/2026-04-20/
LOCATION:Oasis Senior Center\, 2810 Woodlawn Road\, Lincoln\, IL\, 62656\, United States
END:VEVENT
BEGIN:VEVENT
DTSTART;TZID=America/Chicago:20260420T160000
DTEND;TZID=America/Chicago:20260420T164500
DTSTAMP:20260420T031629
CREATED:20250703T173916Z
LAST-MODIFIED:20260129T224408Z
UID:10022427-1776700800-1776703500@www.wlcnonline.com
SUMMARY:Chair yoga by Silver Fox Fitness at Oasis Senior Center in Lincoln﻿
DESCRIPTION:Seated and standing poses will be utilized with the goal of increasing flexibility\, balance and strength along with providing relaxation. Participants never get down on the floor. \nEvent codes: ccfs\, cchwf
URL:https://www.wlcnonline.com/event/chair-yoga-by-silver-fox-fitness-at-oasis-senior-center-in-lincoln-2-2/2026-04-20/
LOCATION:Oasis Senior Center\, 2810 Woodlawn Road\, Lincoln\, IL\, 62656\, United States
END:VEVENT
BEGIN:VEVENT
DTSTART;TZID=America/Chicago:20260420T170000
DTEND;TZID=America/Chicago:20260420T200000
DTSTAMP:20260420T031629
CREATED:20250130T145000Z
LAST-MODIFIED:20260417T032605Z
UID:10023005-1776704400-1776715200@www.wlcnonline.com
SUMMARY:Fundraiser for Habitat for Humanity of Logan County at Culver's of Lincoln
DESCRIPTION:Purchase food from Culver’s of Lincoln and help support a worthy cause whether dining in\, carrying out\, using the drive-thru or ordering through DoorDash. During the hours of the fundraiser\, a portion of all proceeds will be donated to the organization. \nEvent codes ccfb\, ccfdd
URL:https://www.wlcnonline.com/event/fundraiser-for-habitat-for-humanity-of-logan-county-at-culvers-of-lincoln-8/2026-04-20/
LOCATION:Culver’s of Lincoln\, 2530 Woodlawn Road\, Lincoln\, IL\, 62656\, United States
ORGANIZER;CN="Culver's of Lincoln":MAILTO:lincolnculvers@comcast.net
END:VEVENT
BEGIN:VEVENT
DTSTART;TZID=America/Chicago:20260420T180000
DTEND;TZID=America/Chicago:20260420T190000
DTSTAMP:20260420T031629
CREATED:20250227T215503Z
LAST-MODIFIED:20251231T163530Z
UID:10021841-1776708000-1776711600@www.wlcnonline.com
SUMMARY:Co-Dependents Anonymous (CoDA) meetings by Land of Lincoln Recovery Group at Hope on 5th in Lincoln
DESCRIPTION:Meetings are free to attend and take place at 6 PM Mondays. \nEvent codes
URL:https://www.wlcnonline.com/event/co-dependents-anonymous-coda-meetings-by-land-of-lincoln-recovery-group-at-hope-on-5th-in-lincoln/2026-04-20/
LOCATION:Hope on 5th in Lincoln\, 200 5th Street\, Lincoln\, 62656\, United States
ORGANIZER;CN="Logan Mason Recovery Oriented Systems of Care (ROSC)":MAILTO:jedavis@chestnut.org
END:VEVENT
BEGIN:VEVENT
DTSTART;TZID=America/Chicago:20260420T180000
DTEND;TZID=America/Chicago:20260420T200000
DTSTAMP:20260420T031629
CREATED:20250725T024845Z
LAST-MODIFIED:20251231T163623Z
UID:10021867-1776708000-1776715200@www.wlcnonline.com
SUMMARY:Music bingo at Copper & Oak Bourbon & Craft Beer Bar in Lincoln
DESCRIPTION:Music bingo is like regular bingo\, except of numbers being called\, segments of songs are played; if you can identify the song played and it is on your bingo card\, cross it off and continue doing so until someone gets bingo. \nMusic bingo is free to play. \nEvent codes ccbin ccsoc ccfb
URL:https://www.wlcnonline.com/event/music-bingo-at-copper-oak-bourbon-craft-beer-bar-in-lincoln/2026-04-20/
LOCATION:Copper & Oak in Lincoln\, 227 N. Kickapoo Street\, Lincoln\, IL\, 62656\, United States
END:VEVENT
BEGIN:VEVENT
DTSTART;TZID=America/Chicago:20260420T190000
DTEND;TZID=America/Chicago:20260420T200000
DTSTAMP:20260420T031629
CREATED:20250227T220659Z
LAST-MODIFIED:20251231T163725Z
UID:10021893-1776711600-1776715200@www.wlcnonline.com
SUMMARY:Alcoholics Anonymous meetings at Trinity Episcopal Church in Lincoln
DESCRIPTION:Meetings are free to attend and take place at the following times: \n\nMondays at 7 PM\nWednesdays at 6 PM\nFridays at 11 AM\nSundays at 6 PM\n\nEvent codes
URL:https://www.wlcnonline.com/event/alcoholics-anonymous-meetings-at-trinity-episcopal-church-in-lincoln/2026-04-20/
LOCATION:Trinity Episcopal Church in Lincoln\, 402 Pekin Street\, Lincoln\, 62656\, United States
ORGANIZER;CN="Logan Mason Recovery Oriented Systems of Care (ROSC)":MAILTO:jedavis@chestnut.org
END:VEVENT
END:VCALENDAR