BEGIN:VCALENDAR
VERSION:2.0
PRODID:-//WLCN 96.3 FM - ECPv6.15.20//NONSGML v1.0//EN
CALSCALE:GREGORIAN
METHOD:PUBLISH
X-ORIGINAL-URL:https://www.wlcnonline.com
X-WR-CALDESC:Events for WLCN 96.3 FM
REFRESH-INTERVAL;VALUE=DURATION:PT1H
X-Robots-Tag:noindex
X-PUBLISHED-TTL:PT1H
BEGIN:VTIMEZONE
TZID:America/Chicago
BEGIN:DAYLIGHT
TZOFFSETFROM:-0600
TZOFFSETTO:-0500
TZNAME:CDT
DTSTART:20250309T080000
END:DAYLIGHT
BEGIN:STANDARD
TZOFFSETFROM:-0500
TZOFFSETTO:-0600
TZNAME:CST
DTSTART:20251102T070000
END:STANDARD
BEGIN:DAYLIGHT
TZOFFSETFROM:-0600
TZOFFSETTO:-0500
TZNAME:CDT
DTSTART:20260308T080000
END:DAYLIGHT
BEGIN:STANDARD
TZOFFSETFROM:-0500
TZOFFSETTO:-0600
TZNAME:CST
DTSTART:20261101T070000
END:STANDARD
BEGIN:DAYLIGHT
TZOFFSETFROM:-0600
TZOFFSETTO:-0500
TZNAME:CDT
DTSTART:20270314T080000
END:DAYLIGHT
BEGIN:STANDARD
TZOFFSETFROM:-0500
TZOFFSETTO:-0600
TZNAME:CST
DTSTART:20271107T070000
END:STANDARD
END:VTIMEZONE
BEGIN:VEVENT
DTSTART;TZID=America/Chicago:20260227T080000
DTEND;TZID=America/Chicago:20260227T150000
DTSTAMP:20260420T130821
CREATED:20260212T205430Z
LAST-MODIFIED:20260212T205430Z
UID:10022490-1772179200-1772204400@www.wlcnonline.com
SUMMARY:Community blood drive at Mt. Pulaski High School
DESCRIPTION:The event runs from 9 AM to 3 PM. Click here to make an appointment time online. \nEvent codes cchwf ccbld
URL:https://www.wlcnonline.com/event/community-blood-drive-at-mt-pulaski-high-school-3/
LOCATION:Mt. Pulaski High School\, 206 S Spring Street\, Mt. Pulaski\, IL\, 62648\, United States
ORGANIZER;CN="Mt. Pulaski High School":MAILTO:scooper@mtpulaski.k12.il.us
END:VEVENT
BEGIN:VEVENT
DTSTART;TZID=America/Chicago:20260227T110000
DTEND;TZID=America/Chicago:20260227T120000
DTSTAMP:20260420T130821
CREATED:20250227T220937Z
LAST-MODIFIED:20251231T160939Z
UID:10021423-1772190000-1772193600@www.wlcnonline.com
SUMMARY:Alcoholics Anonymous meetings at Trinity Episcopal Church in Lincoln
DESCRIPTION:Meetings are free to attend and take place at the following times: \n\nMondays at 7 PM\nWednesdays at 6 PM\nFridays at 11 AM\nSundays at 6 PM\n\nEvent codes
URL:https://www.wlcnonline.com/event/alcoholics-anonymous-meetings-at-trinity-episcopal-church-in-lincoln-3/2026-02-27/
LOCATION:Trinity Episcopal Church in Lincoln\, 402 Pekin Street\, Lincoln\, 62656\, United States
ORGANIZER;CN="Logan Mason Recovery Oriented Systems of Care (ROSC)":MAILTO:jedavis@chestnut.org
END:VEVENT
BEGIN:VEVENT
DTSTART;TZID=America/Chicago:20260227T120000
DTEND;TZID=America/Chicago:20260227T133000
DTSTAMP:20260420T130821
CREATED:20250227T221857Z
LAST-MODIFIED:20251231T161051Z
UID:10021449-1772193600-1772199000@www.wlcnonline.com
SUMMARY:SMART (Self-Management and Recovery Training) recovery meetings at Hope on 5th in Lincoln
DESCRIPTION:Meetings are free to attend and take place Fridays from noon to 1:30 PM. \nEvent codes
URL:https://www.wlcnonline.com/event/smart-self-management-and-recovery-training-recovery-meetings-at-hope-on-5th-in-lincoln/2026-02-27/
LOCATION:Hope on 5th in Lincoln\, 200 5th Street\, Lincoln\, 62656\, United States
ORGANIZER;CN="Logan Mason Recovery Oriented Systems of Care (ROSC)":MAILTO:jedavis@chestnut.org
END:VEVENT
BEGIN:VEVENT
DTSTART;TZID=America/Chicago:20260227T130000
DTEND;TZID=America/Chicago:20260227T150000
DTSTAMP:20260420T130821
CREATED:20260219T201151Z
LAST-MODIFIED:20260219T201151Z
UID:10022530-1772197200-1772204400@www.wlcnonline.com
SUMMARY:Pokemon trading day at The Epicenter Gaming Center in Lincoln
DESCRIPTION:Epicenter is hosting a Pokemon trade day along with a few activities. \nEvent codes ccgc ccsoc
URL:https://www.wlcnonline.com/event/pokemon-trading-day-at-the-epicenter-gaming-center-in-lincoln/
LOCATION:Epicenter Gaming\, 414 Pulaski Street\, Lincoln\, IL\, 62656\, United States
ORGANIZER;CN="Epicenter Gaming":MAILTO:lincolnsportscards@gmail.com
END:VEVENT
BEGIN:VEVENT
DTSTART;TZID=America/Chicago:20260227T133000
DTEND;TZID=America/Chicago:20260227T150000
DTSTAMP:20260420T130821
CREATED:20260226T194201Z
LAST-MODIFIED:20260226T194201Z
UID:10022582-1772199000-1772204400@www.wlcnonline.com
SUMMARY:Presentation on "Women’s Baseball in Illinois and the Midwest" by Anna Sielaff at Zion Lutheran Church & School in Mt. Pulaski
DESCRIPTION:This presentation explores the significant role Illinois played in the formation of the AAGPBL. discussing the evolution of women’s baseball from its 19th-century beginnings to the establishment of the league in 1943. Presenter Anna Sielaff will discuss how the league’s unique rules developed over time and highlight the teams that made history—particularly the Illinois teams: the Rockford Peaches\, Springfield Sallies\, Peoria Redwings\, and Chicago Colleens. \nEvent codes ccedu
URL:https://www.wlcnonline.com/event/presentation-on-womens-baseball-in-illinois-and-the-midwest-by-anna-sielaff-at-zion-lutheran-church-school-in-mt-pulaski/
LOCATION:Mt. Pulaski Zion Lutheran Church and School\, 203 S. Vine Street\, Mt. Pulaski\, IL\, 62548\, United States
ORGANIZER;CN="Mt. Pulaski Zion Lutheran Church and School":MAILTO:office@zionmp.org
END:VEVENT
BEGIN:VEVENT
DTSTART;TZID=America/Chicago:20260227T170000
DTEND;TZID=America/Chicago:20260227T190000
DTSTAMP:20260420T130821
CREATED:20260122T191933Z
LAST-MODIFIED:20260122T191933Z
UID:10022336-1772211600-1772218800@www.wlcnonline.com
SUMMARY:Gyro dinner at Eagles Lodge in Lincoln
DESCRIPTION:This dinner includes a gyro and chips for $10. Dinners take place on the fourth Friday of each month and are open to the public. Dinners are available on a dine-in\, delivery or carry-out basis. \nEvent codes ccfb ccfdd
URL:https://www.wlcnonline.com/event/gyro-dinner-at-eagles-lodge-in-lincoln/2026-02-27/
LOCATION:Fraternal Order Of Eagles #2708 in Lincoln\, 1621 N. Kickapoo Street\, Lincoln\, IL\, 62656\, United States
END:VEVENT
BEGIN:VEVENT
DTSTART;TZID=America/Chicago:20260227T180000
DTEND;TZID=America/Chicago:20260227T190000
DTSTAMP:20260420T130821
CREATED:20250227T214713Z
LAST-MODIFIED:20251231T161900Z
UID:10021537-1772215200-1772218800@www.wlcnonline.com
SUMMARY:Alcoholics Anonymous meetings by Land of Lincoln Recovery Group at Hope on 5th in Lincoln
DESCRIPTION:Meetings are free to attend and take place at 6 PM on Tuesdays\, Wednesdays\, Fridays and Saturdays as well as at 9 AM on Saturdays and Sundays. \nEvent codes
URL:https://www.wlcnonline.com/event/alcoholics-anonymous-meetings-by-land-of-lincoln-recovery-group-at-hope-on-5th-in-lincoln/2026-02-27/
LOCATION:Hope on 5th in Lincoln\, 200 5th Street\, Lincoln\, 62656\, United States
ORGANIZER;CN="Logan Mason Recovery Oriented Systems of Care (ROSC)":MAILTO:jedavis@chestnut.org
END:VEVENT
BEGIN:VEVENT
DTSTART;TZID=America/Chicago:20260227T183000
DTEND;TZID=America/Chicago:20260227T203000
DTSTAMP:20260420T130821
CREATED:20260226T195604Z
LAST-MODIFIED:20260226T195604Z
UID:10022583-1772217000-1772224200@www.wlcnonline.com
SUMMARY:Daddy-Daughter Dance at Lincoln Christian Church
DESCRIPTION:Fathers and daughters attending can begin the evening at Guzzardo’s for dinner\, and for every “Dad” meal purchased\, the daughter eats free off the kid’s menu (present your dance ticket to let the Guzzardo’s staff know you are part of the event to receive this offer). \nAt the dance\, there will also be crafts and some photo ops for attendees. \nIn addition\, those attending the dance will receive a stamp card that can be redeemed at Top Hat Creamery for a free kid’s scoop of ice cream with the purchase of an adult scoop. \nTickets for the dance cost $5 per person (each attendee needs a ticket) and can be purchased at Lincoln Christian Church or in the church office during regular office hours. \nEvent codes ccff ccsoc ccfk
URL:https://www.wlcnonline.com/event/daddy-daughter-dance-at-lincoln-christian-church/
LOCATION:Lincoln Christian Church\, 204 N. McLean Street\, Lincoln\, IL\, 62656\, United States
ORGANIZER;CN="Lincoln Christian Church":MAILTO:LCChurch@LincolnChristianChurch.org
END:VEVENT
BEGIN:VEVENT
DTSTART;TZID=America/Chicago:20260227T190000
DTEND;TZID=America/Chicago:20260227T220000
DTSTAMP:20260420T130821
CREATED:20260219T200512Z
LAST-MODIFIED:20260219T200512Z
UID:10022528-1772218800-1772229600@www.wlcnonline.com
SUMMARY:Live music by Party Cannon at the Irish Circle in Wapella
DESCRIPTION:The band Party Cannon brings its blend of high-energy pop and rock covers to the Irish Circle in Wapella. \nEvent codes ccfb ccent cclm
URL:https://www.wlcnonline.com/event/live-music-by-party-cannon-at-the-irish-circle-in-wapella/
LOCATION:The Irish Circle in Wapella\, 405 N Walnut Street\, Wapella\, IL\, 61777\, United States
END:VEVENT
END:VCALENDAR