BEGIN:VCALENDAR
VERSION:2.0
PRODID:-//WLCN 96.3 FM - ECPv6.15.20//NONSGML v1.0//EN
CALSCALE:GREGORIAN
METHOD:PUBLISH
X-WR-CALNAME:WLCN 96.3 FM
X-ORIGINAL-URL:https://www.wlcnonline.com
X-WR-CALDESC:Events for WLCN 96.3 FM
REFRESH-INTERVAL;VALUE=DURATION:PT1H
X-Robots-Tag:noindex
X-PUBLISHED-TTL:PT1H
BEGIN:VTIMEZONE
TZID:America/Chicago
BEGIN:DAYLIGHT
TZOFFSETFROM:-0600
TZOFFSETTO:-0500
TZNAME:CDT
DTSTART:20250309T080000
END:DAYLIGHT
BEGIN:STANDARD
TZOFFSETFROM:-0500
TZOFFSETTO:-0600
TZNAME:CST
DTSTART:20251102T070000
END:STANDARD
BEGIN:DAYLIGHT
TZOFFSETFROM:-0600
TZOFFSETTO:-0500
TZNAME:CDT
DTSTART:20260308T080000
END:DAYLIGHT
BEGIN:STANDARD
TZOFFSETFROM:-0500
TZOFFSETTO:-0600
TZNAME:CST
DTSTART:20261101T070000
END:STANDARD
BEGIN:DAYLIGHT
TZOFFSETFROM:-0600
TZOFFSETTO:-0500
TZNAME:CDT
DTSTART:20270314T080000
END:DAYLIGHT
BEGIN:STANDARD
TZOFFSETFROM:-0500
TZOFFSETTO:-0600
TZNAME:CST
DTSTART:20271107T070000
END:STANDARD
END:VTIMEZONE
BEGIN:VEVENT
DTSTART;TZID=America/Chicago:20260220T080000
DTEND;TZID=America/Chicago:20260220T110000
DTSTAMP:20260420T162720
CREATED:20260213T035708Z
LAST-MODIFIED:20260213T042847Z
UID:10022517-1771574400-1771585200@www.wlcnonline.com
SUMMARY:Bank of Pontiac winter ag meeting at St. John's United Christian Church Fellowship Hall in Minier
DESCRIPTION:Speakers for this event will be Mike Toohill and Jeremy Strubhar. The event begins at 8 AM; breakfast is served. \nTo RSVP\, please call (815) 216-4363. \nEvent codes ccag ccsoc
URL:https://www.wlcnonline.com/event/bank-of-pontiac-winter-ag-meeting-at-st-johns-united-christian-church-fellowship-hall-in-minier/
LOCATION:St. John’s United Church of Christ in Minier\, 302 N. Maple Street\, Minier\, IL\, 61759\, United States
END:VEVENT
BEGIN:VEVENT
DTSTART;TZID=America/Chicago:20260220T083000
DTEND;TZID=America/Chicago:20260220T153000
DTSTAMP:20260420T162720
CREATED:20260219T210749Z
LAST-MODIFIED:20260219T210749Z
UID:10022568-1771576200-1771601400@www.wlcnonline.com
SUMMARY:Community blood drive at Williamsville High School in Williamsville
DESCRIPTION:Donation times are available from 8:30 AM to 3:30 PM. Click here to register online for a donation time. \nEvent codes: ccbld\, ccserv
URL:https://www.wlcnonline.com/event/community-blood-drive-at-williamsville-high-school-in-williamsville-2/
LOCATION:Williamsville High School\, 900 S. Walnut Street\, Williamsville\, IL\, 62693\, United States
END:VEVENT
BEGIN:VEVENT
DTSTART;TZID=America/Chicago:20260220T110000
DTEND;TZID=America/Chicago:20260220T120000
DTSTAMP:20260420T162720
CREATED:20250227T220937Z
LAST-MODIFIED:20251231T160939Z
UID:10021422-1771585200-1771588800@www.wlcnonline.com
SUMMARY:Alcoholics Anonymous meetings at Trinity Episcopal Church in Lincoln
DESCRIPTION:Meetings are free to attend and take place at the following times: \n\nMondays at 7 PM\nWednesdays at 6 PM\nFridays at 11 AM\nSundays at 6 PM\n\nEvent codes
URL:https://www.wlcnonline.com/event/alcoholics-anonymous-meetings-at-trinity-episcopal-church-in-lincoln-3/2026-02-20/
LOCATION:Trinity Episcopal Church in Lincoln\, 402 Pekin Street\, Lincoln\, 62656\, United States
ORGANIZER;CN="Logan Mason Recovery Oriented Systems of Care (ROSC)":MAILTO:jedavis@chestnut.org
END:VEVENT
BEGIN:VEVENT
DTSTART;TZID=America/Chicago:20260220T120000
DTEND;TZID=America/Chicago:20260220T133000
DTSTAMP:20260420T162720
CREATED:20250227T221857Z
LAST-MODIFIED:20251231T161051Z
UID:10021448-1771588800-1771594200@www.wlcnonline.com
SUMMARY:SMART (Self-Management and Recovery Training) recovery meetings at Hope on 5th in Lincoln
DESCRIPTION:Meetings are free to attend and take place Fridays from noon to 1:30 PM. \nEvent codes
URL:https://www.wlcnonline.com/event/smart-self-management-and-recovery-training-recovery-meetings-at-hope-on-5th-in-lincoln/2026-02-20/
LOCATION:Hope on 5th in Lincoln\, 200 5th Street\, Lincoln\, 62656\, United States
ORGANIZER;CN="Logan Mason Recovery Oriented Systems of Care (ROSC)":MAILTO:jedavis@chestnut.org
END:VEVENT
BEGIN:VEVENT
DTSTART;TZID=America/Chicago:20260220T170000
DTEND;TZID=America/Chicago:20260220T190000
DTSTAMP:20260420T162720
CREATED:20260129T221838Z
LAST-MODIFIED:20260129T221838Z
UID:10022407-1771606800-1771614000@www.wlcnonline.com
SUMMARY:Fried cod or shrimp dinner at Eagles Lodge in Lincoln
DESCRIPTION:Dinner cost $10 and take place on the third Friday of each month. Dinners are open to the public and available on a dine-in\, delivery or carry-out basis. \nEvent codes ccfb ccfdd
URL:https://www.wlcnonline.com/event/fried-cod-or-shrimp-dinner-at-eagles-lodge-in-lincoln/2026-02-20/
LOCATION:Fraternal Order Of Eagles #2708 in Lincoln\, 1621 N. Kickapoo Street\, Lincoln\, IL\, 62656\, United States
END:VEVENT
BEGIN:VEVENT
DTSTART;TZID=America/Chicago:20260220T180000
DTEND;TZID=America/Chicago:20260220T190000
DTSTAMP:20260420T162720
CREATED:20250227T214713Z
LAST-MODIFIED:20251231T161900Z
UID:10021533-1771610400-1771614000@www.wlcnonline.com
SUMMARY:Alcoholics Anonymous meetings by Land of Lincoln Recovery Group at Hope on 5th in Lincoln
DESCRIPTION:Meetings are free to attend and take place at 6 PM on Tuesdays\, Wednesdays\, Fridays and Saturdays as well as at 9 AM on Saturdays and Sundays. \nEvent codes
URL:https://www.wlcnonline.com/event/alcoholics-anonymous-meetings-by-land-of-lincoln-recovery-group-at-hope-on-5th-in-lincoln/2026-02-20/
LOCATION:Hope on 5th in Lincoln\, 200 5th Street\, Lincoln\, 62656\, United States
ORGANIZER;CN="Logan Mason Recovery Oriented Systems of Care (ROSC)":MAILTO:jedavis@chestnut.org
END:VEVENT
BEGIN:VEVENT
DTSTART;TZID=America/Chicago:20260220T180000
DTEND;TZID=America/Chicago:20260220T190000
DTSTAMP:20260420T162720
CREATED:20251231T161511Z
LAST-MODIFIED:20251231T161511Z
UID:10021500-1771610400-1771614000@www.wlcnonline.com
SUMMARY:Veterans recovery group meetings by Never Alone at Hope on 5th in Lincoln
DESCRIPTION:Meetings are free to attend and take place at 6 PM on the first and third Fridays of the month. \nEvent codes
URL:https://www.wlcnonline.com/event/veterans-recovery-group-meetings-by-never-alone-at-hope-on-5th-in-lincoln-3/2026-02-20/
LOCATION:Hope on 5th in Lincoln\, 200 5th Street\, Lincoln\, 62656\, United States
ORGANIZER;CN="Logan Mason Recovery Oriented Systems of Care (ROSC)":MAILTO:jedavis@chestnut.org
END:VEVENT
BEGIN:VEVENT
DTSTART;TZID=America/Chicago:20260220T180000
DTEND;TZID=America/Chicago:20260220T210000
DTSTAMP:20260420T162720
CREATED:20260212T224316Z
LAST-MODIFIED:20260212T224316Z
UID:10022516-1771610400-1771621200@www.wlcnonline.com
SUMMARY:Clothing auction and dinner at LaTeaDa boutique and tea room in Clinton
DESCRIPTION:This is the first time for this live clothing auction dinner event. Those who’d like to attend can purchase tickets by calling (217) 935-8855 (tickets are non-refundable but are transferrable). Please have just one member of your table call to reserve your seats and use one credit/debit card. \nCost is $25 per ticket and gets attendees: \n\nA soup/salad/sweets dinner with tea or soda\nA bidders number to bid during the live auction\nEntry into prizes drawings/giveaways throughout the night\n\nDinner will be served and then the live auction begins. Guests will get to see the clothing item up for auction\, with a brief description\, size\, etc. LaTeaDa is making room for new merchandise\, so bids for auction items will start at a fraction of the original sale price. \nGuests will bid on items just like a traditional auction; the winner gets the item. All those make a purchase during the auction will receive a bonus jewelry gift from LaTeaDa. \nIn addition to clothing\, jewelry and accessories will also be auctioned. \nEvent codes ccfb cclbep
URL:https://www.wlcnonline.com/event/clothing-auction-and-dinner-at-lateada-boutique-and-tea-room-in-clinton/
LOCATION:LaTeaDa Cafe/Barn Bar/Events in Clinton\, 1100 S. Madison Street\, Clinton\, IL\, 61727\, United States
ORGANIZER;CN="LaTeaDa Cafe/Barn Bar/Events":MAILTO:lateadaladies@gmail.com
END:VEVENT
BEGIN:VEVENT
DTSTART;TZID=America/Chicago:20260220T183000
DTEND;TZID=America/Chicago:20260220T210000
DTSTAMP:20260420T162720
CREATED:20250116T201708Z
LAST-MODIFIED:20260416T195424Z
UID:10022511-1771612200-1771621200@www.wlcnonline.com
SUMMARY:Family bingo night at Mount Hope Township Community Hall in McLean
DESCRIPTION:Family bingo night takes place at the Community Hall. Bingo is free to play (donations are appreciated) and non-monetary prizes will be awarded to the winners. Adults and kids can play. Food and/or beverages will be available for purchase at each event. \nEvent codes ccaca ccff ccbin
URL:https://www.wlcnonline.com/event/family-bingo-night-at-mount-hope-township-community-hall-in-mclean/2026-02-20/
LOCATION:Mt. Hope Township Community Hall in McLean\, 104 North Clinton Street\, McLean\, IL\, 61754\, United States
ORGANIZER;CN="Mt. Hope Township Community Hall":MAILTO:Jbare03@gmail.com
END:VEVENT
BEGIN:VEVENT
DTSTART;TZID=America/Chicago:20260220T190000
DTEND;TZID=America/Chicago:20260220T220000
DTSTAMP:20260420T162720
CREATED:20260212T221100Z
LAST-MODIFIED:20260212T221100Z
UID:10022509-1771614000-1771624800@www.wlcnonline.com
SUMMARY:Live music by 4 Of A Kind at the Irish Circle in Wapella
DESCRIPTION:The band Four Of A Kind bringing its blend of music to the Irish Circle in Wapella. \nEvent codes ccfb ccent cclm
URL:https://www.wlcnonline.com/event/live-music-by-4-of-a-kind-at-the-irish-circle-in-wapella-2/
LOCATION:The Irish Circle in Wapella\, 405 N Walnut Street\, Wapella\, IL\, 61777\, United States
END:VEVENT
BEGIN:VEVENT
DTSTART;TZID=America/Chicago:20260220T190000
DTEND;TZID=America/Chicago:20260220T220000
DTSTAMP:20260420T162720
CREATED:20260212T221328Z
LAST-MODIFIED:20260212T221328Z
UID:10022510-1771614000-1771624800@www.wlcnonline.com
SUMMARY:Live music by The Blo-No Boogie Band at Minier Tap in Minier
DESCRIPTION:Enjoy live music from 7 PM to 10 PM by the Blo-No Boogie Band featuring its catalog of classic rock and Motown music. \nEvent codes ccent cclm ccfb ccsoc ccfdd
URL:https://www.wlcnonline.com/event/live-music-by-the-blo-no-boogie-band-at-minier-tap-in-minier/
LOCATION:Minier Tap\, 121 S. Main Avenue\, Minier\, IL\, 61759\, United States
END:VEVENT
END:VCALENDAR