BEGIN:VCALENDAR
VERSION:2.0
PRODID:-//WLCN 96.3 FM - ECPv6.15.20//NONSGML v1.0//EN
CALSCALE:GREGORIAN
METHOD:PUBLISH
X-WR-CALNAME:WLCN 96.3 FM
X-ORIGINAL-URL:https://www.wlcnonline.com
X-WR-CALDESC:Events for WLCN 96.3 FM
REFRESH-INTERVAL;VALUE=DURATION:PT1H
X-Robots-Tag:noindex
X-PUBLISHED-TTL:PT1H
BEGIN:VTIMEZONE
TZID:America/Chicago
BEGIN:DAYLIGHT
TZOFFSETFROM:-0600
TZOFFSETTO:-0500
TZNAME:CDT
DTSTART:20250309T080000
END:DAYLIGHT
BEGIN:STANDARD
TZOFFSETFROM:-0500
TZOFFSETTO:-0600
TZNAME:CST
DTSTART:20251102T070000
END:STANDARD
BEGIN:DAYLIGHT
TZOFFSETFROM:-0600
TZOFFSETTO:-0500
TZNAME:CDT
DTSTART:20260308T080000
END:DAYLIGHT
BEGIN:STANDARD
TZOFFSETFROM:-0500
TZOFFSETTO:-0600
TZNAME:CST
DTSTART:20261101T070000
END:STANDARD
BEGIN:DAYLIGHT
TZOFFSETFROM:-0600
TZOFFSETTO:-0500
TZNAME:CDT
DTSTART:20270314T080000
END:DAYLIGHT
BEGIN:STANDARD
TZOFFSETFROM:-0500
TZOFFSETTO:-0600
TZNAME:CST
DTSTART:20271107T070000
END:STANDARD
END:VTIMEZONE
BEGIN:VEVENT
DTSTART;TZID=America/Chicago:20260219T100000
DTEND;TZID=America/Chicago:20260219T104500
DTSTAMP:20260420T145535
CREATED:20250904T214858Z
LAST-MODIFIED:20260115T211934Z
UID:10022069-1771495200-1771497900@www.wlcnonline.com
SUMMARY:Fall prevention/balance building class by Silver Fox Fitness at Villas of Lincoln
DESCRIPTION:This class is designed for participants to build strength and endurance to help with building balance and preventing falls. \nEvent codes cchwf ccsen
URL:https://www.wlcnonline.com/event/fall-prevention-balance-building-class-by-silver-fox-fitness-at-villas-of-lincoln/2026-02-19/
LOCATION:Villas at Lincoln (formerly The Christian Village) in Lincoln\, 1507 7th Street\, Lincoln\, IL\, 62656\, United States
END:VEVENT
BEGIN:VEVENT
DTSTART;TZID=America/Chicago:20260219T143000
DTEND;TZID=America/Chicago:20260219T173000
DTSTAMP:20260420T145535
CREATED:20260212T205251Z
LAST-MODIFIED:20260219T230038Z
UID:10022488-1771511400-1771522200@www.wlcnonline.com
SUMMARY:Community blood drive at Crosswalk Fellowship in Delavan
DESCRIPTION:The drive runs from 2:30 PM to 5:30 PM. Click here to register online for a donation appointment time. \nEvent codes ccbld
URL:https://www.wlcnonline.com/event/community-blood-drive-at-crosswalk-fellowship-in-delavan-5/
LOCATION:Crosswalk Fellowship in Delavan\, 712 E. Fourth Street\, Delavan\, IL\, 61734\, United States
END:VEVENT
BEGIN:VEVENT
DTSTART;TZID=America/Chicago:20260219T150000
DTEND;TZID=America/Chicago:20260219T180000
DTSTAMP:20260420T145535
CREATED:20260212T222816Z
LAST-MODIFIED:20260213T035823Z
UID:10022515-1771513200-1771524000@www.wlcnonline.com
SUMMARY:Logan County Rural Big Table discussion event at Lincoln Park District
DESCRIPTION:This free event allows attendees to voice their opnions on matters shaping the future of the community. The input will be considered to help formulate a Comprehensive Economic Development Strategy (CEDS). \nWhether you’re a farmer\, business owner\, educator\, parent\, or community member\, your perspective is valuable. All community members are welcome! \nEvent codes cclbep ccedu
URL:https://www.wlcnonline.com/event/logan-county-rural-big-table-discussion-event-at-lincoln-park-district/
LOCATION:Lincoln Park District\, 1400 Primm Road\, Lincoln\, IL\, 62656\, United States
ORGANIZER;CN="Lincoln Economic Advancement & Development (LEAD)":MAILTO:arunge@thriveinlincoln.org
END:VEVENT
BEGIN:VEVENT
DTSTART;TZID=America/Chicago:20260219T160000
DTEND;TZID=America/Chicago:20260219T164500
DTSTAMP:20260420T145535
CREATED:20260115T212533Z
LAST-MODIFIED:20260115T212533Z
UID:10022306-1771516800-1771519500@www.wlcnonline.com
SUMMARY:EnerChi class by Silver Fox Fitness at Oasis Senior Center in Lincoln
DESCRIPTION:The forms and stances learned and practiced in this class help build strength and balance. As always\, this class is adaptable to ALL ability levels; a chair is always close by to assist in balance or to sit if needed. \nEvent codes: ccfs\, cchwf
URL:https://www.wlcnonline.com/event/enerchi-class-by-silver-fox-fitness-at-oasis-senior-center-in-lincoln/2026-02-19/
LOCATION:Oasis Senior Center\, 2810 Woodlawn Road\, Lincoln\, IL\, 62656\, United States
END:VEVENT
BEGIN:VEVENT
DTSTART;TZID=America/Chicago:20260219T170000
DTEND;TZID=America/Chicago:20260219T210000
DTSTAMP:20260420T145535
CREATED:20250717T215744Z
LAST-MODIFIED:20251231T171425Z
UID:10022041-1771520400-1771534800@www.wlcnonline.com
SUMMARY:Thursday night bingo (meal @ 5 PM\, bingo @ 6:30 PM) at Eagles Lodge in Lincoln﻿
DESCRIPTION:Doors open at 5 PM with food being served. Bingo starts at 6:30 PM and includes cash prizes\, jackpots as well as jar balls. Open to the public. \nEvent codes ccfb ccgc ccsoc ccbin
URL:https://www.wlcnonline.com/event/thursday-night-bingo-meal-5-pm-bingo-630-pm-at-eagles-lodge-in-lincoln/2026-02-19/
LOCATION:Fraternal Order Of Eagles #2708 in Lincoln\, 1621 N. Kickapoo Street\, Lincoln\, IL\, 62656\, United States
END:VEVENT
BEGIN:VEVENT
DTSTART;TZID=America/Chicago:20260219T180000
DTEND;TZID=America/Chicago:20260219T190000
DTSTAMP:20260420T145535
CREATED:20250227T215251Z
LAST-MODIFIED:20251231T170747Z
UID:10022014-1771524000-1771527600@www.wlcnonline.com
SUMMARY:Narcotics Anonymous meetings by Land of Lincoln Recovery Group at Hope on 5th in Lincoln
DESCRIPTION:Meetings are free to attend and take place at 6 PM Thursdays as well as at 5 PM on Sundays. \nEvent codes
URL:https://www.wlcnonline.com/event/narcotics-anonymous-meetings-by-land-of-lincoln-recovery-group-at-hope-on-5th-in-lincoln-2/2026-02-19/
LOCATION:Hope on 5th in Lincoln\, 200 5th Street\, Lincoln\, 62656\, United States
ORGANIZER;CN="Logan Mason Recovery Oriented Systems of Care (ROSC)":MAILTO:jedavis@chestnut.org
END:VEVENT
BEGIN:VEVENT
DTSTART;TZID=America/Chicago:20260219T183000
DTEND;TZID=America/Chicago:20260219T213000
DTSTAMP:20260420T145535
CREATED:20260219T202807Z
LAST-MODIFIED:20260219T202807Z
UID:10022533-1771525800-1771536600@www.wlcnonline.com
SUMMARY:Bingo night at Atlanta Public Museum in Atlanta
DESCRIPTION:Atlanta Public Museum will be host Bingo night events on the first and third Thursday of each month. \nOnly person 18 years of age and older may play or be on the premises during play. Cash prizes will be awarded. \nSnacks\, drinks\, popcorn\, daubers\, etc. will be available for purchase. \nProceeds will help support the Atlanta Public Museum. \nEvent codes ccsoc ccfdd ccfb ccbin
URL:https://www.wlcnonline.com/event/bingo-night-at-atlanta-public-museum-in-atlanta/2026-02-19/
LOCATION:Atlanta Public Museum\, 114 Arch Street\, Atlanta\, 61723\, United States
ORGANIZER;CN="Atlanta Public Museum":MAILTO:atlantamuseum@yahoo.com
END:VEVENT
BEGIN:VEVENT
DTSTART;TZID=America/Chicago:20260219T190000
DTEND;TZID=America/Chicago:20260219T190000
DTSTAMP:20260420T145535
CREATED:20240329T042327Z
LAST-MODIFIED:20251231T163130Z
UID:10021778-1771527600-1771527600@www.wlcnonline.com
SUMMARY:Xtreme Bar Bingo at The Rusty Rail in Lincoln
DESCRIPTION:Xtreme Bar Bingo is bingo game with awesome prizes. The Rusty Rail features Xtreme Bar Bingo on Thursday nights beginning at 7 PM. \nEvent codes: ccgc\, ccsoc ccbin
URL:https://www.wlcnonline.com/event/xtreme-bar-bingo-at-the-rusty-rail-in-lincoln/2026-02-19/
LOCATION:The Rusty Rail Pub in Lincoln\, 405 Pulaski Street\, Lincoln\, IL\, 62656\, United States
END:VEVENT
BEGIN:VEVENT
DTSTART;TZID=America/Chicago:20260219T190000
DTEND;TZID=America/Chicago:20260219T200000
DTSTAMP:20260420T145535
CREATED:20250227T220255Z
LAST-MODIFIED:20251231T170522Z
UID:10021988-1771527600-1771531200@www.wlcnonline.com
SUMMARY:Celebrate recovery events at Open Arms Christian Fellowship in Lincoln
DESCRIPTION:Events take place on Thursday evenings with snacks served at 6 PM and the meeting starting at 7 PM.
URL:https://www.wlcnonline.com/event/celebrate-recovery-events-at-open-arms-christian-fellowship-in-lincoln/2026-02-19/
LOCATION:Open Arms Christian Fellowship\, 1321 State Route 10\, Lincoln\, IL\, 62656\, United States
ORGANIZER;CN="Hope on 5th":MAILTO:rhss2005th@gmail.com
END:VEVENT
BEGIN:VEVENT
DTSTART;TZID=America/Chicago:20260219T190000
DTEND;TZID=America/Chicago:20260219T200000
DTSTAMP:20260420T145535
CREATED:20250227T221223Z
LAST-MODIFIED:20251231T171824Z
UID:10022146-1771527600-1771531200@www.wlcnonline.com
SUMMARY:Alcoholics Anonymous meetings at Atlanta Community House in Atlanta
DESCRIPTION:Meetings are free to attend and take place Thursdays at 7 PM. \nEvent codes
URL:https://www.wlcnonline.com/event/alcoholics-anonymous-meetings-at-atlanta-community-house-in-atlanta/2026-02-19/
LOCATION:Atlanta Memorial Community House\, 106 SW 6th Street\, Atlanta\, IL\, 61723\, United States
ORGANIZER;CN="Logan Mason Recovery Oriented Systems of Care (ROSC)":MAILTO:jedavis@chestnut.org
END:VEVENT
BEGIN:VEVENT
DTSTART;TZID=America/Chicago:20260219T190000
DTEND;TZID=America/Chicago:20260219T220000
DTSTAMP:20260420T145535
CREATED:20250710T225735Z
LAST-MODIFIED:20251231T171651Z
UID:10022120-1771527600-1771538400@www.wlcnonline.com
SUMMARY:Open mic night at Spirited Republic in Lincoln
DESCRIPTION:Spirited Republic open mic nights are a solo acoustic musical experiment with the goal of cultivating friendship\, support and good times amongst musicians\, comedians\, poets and artists of all kinds. Performers are asked to bring their own instruments (no drum sets; hand drums and percussion equipment only). \nEvent codes: ccent\, ccfb\, cclm\, ccsoc
URL:https://www.wlcnonline.com/event/open-mic-night-at-spirited-republic-in-lincoln-2/2026-02-19/
LOCATION:Spirited Republic in Lincoln\, 509 Pulaski Street\, Lincoln\, IL\, 62656\, United States
ORGANIZER;CN="Spirited Republic/Limerick Brewing Company":MAILTO:spiritedrepublic@gmail.com
END:VEVENT
END:VCALENDAR