BEGIN:VCALENDAR
VERSION:2.0
PRODID:-//WLCN 96.3 FM - ECPv6.15.20//NONSGML v1.0//EN
CALSCALE:GREGORIAN
METHOD:PUBLISH
X-WR-CALNAME:WLCN 96.3 FM
X-ORIGINAL-URL:https://www.wlcnonline.com
X-WR-CALDESC:Events for WLCN 96.3 FM
REFRESH-INTERVAL;VALUE=DURATION:PT1H
X-Robots-Tag:noindex
X-PUBLISHED-TTL:PT1H
BEGIN:VTIMEZONE
TZID:America/Chicago
BEGIN:DAYLIGHT
TZOFFSETFROM:-0600
TZOFFSETTO:-0500
TZNAME:CDT
DTSTART:20250309T080000
END:DAYLIGHT
BEGIN:STANDARD
TZOFFSETFROM:-0500
TZOFFSETTO:-0600
TZNAME:CST
DTSTART:20251102T070000
END:STANDARD
BEGIN:DAYLIGHT
TZOFFSETFROM:-0600
TZOFFSETTO:-0500
TZNAME:CDT
DTSTART:20260308T080000
END:DAYLIGHT
BEGIN:STANDARD
TZOFFSETFROM:-0500
TZOFFSETTO:-0600
TZNAME:CST
DTSTART:20261101T070000
END:STANDARD
BEGIN:DAYLIGHT
TZOFFSETFROM:-0600
TZOFFSETTO:-0500
TZNAME:CDT
DTSTART:20270314T080000
END:DAYLIGHT
BEGIN:STANDARD
TZOFFSETFROM:-0500
TZOFFSETTO:-0600
TZNAME:CST
DTSTART:20271107T070000
END:STANDARD
END:VTIMEZONE
BEGIN:VEVENT
DTSTART;TZID=America/Chicago:20260215T090000
DTEND;TZID=America/Chicago:20260215T100000
DTSTAMP:20260420T162924
CREATED:20250227T214918Z
LAST-MODIFIED:20251231T162155Z
UID:10021621-1771146000-1771149600@www.wlcnonline.com
SUMMARY:Alcoholics Anonymous meetings by Land of Lincoln Recovery Group at Hope on 5th in Lincoln
DESCRIPTION:Meetings are free to attend and take place at 6 PM on Tuesdays\, Wednesdays\, Fridays and Saturdays as well as at 9 AM on Saturdays and Sundays. \nEvent codes
URL:https://www.wlcnonline.com/event/alcoholics-anonymous-meetings-by-land-of-lincoln-recovery-group-at-hope-on-5th-in-lincoln-2/2026-02-15/
LOCATION:Hope on 5th in Lincoln\, 200 5th Street\, Lincoln\, 62656\, United States
ORGANIZER;CN="Logan Mason Recovery Oriented Systems of Care (ROSC)":MAILTO:jedavis@chestnut.org
END:VEVENT
BEGIN:VEVENT
DTSTART;TZID=America/Chicago:20260215T130000
DTEND;TZID=America/Chicago:20260215T170000
DTSTAMP:20260420T162924
CREATED:20260212T222015Z
LAST-MODIFIED:20260212T222015Z
UID:10022513-1771160400-1771174800@www.wlcnonline.com
SUMMARY:Quarter auction by San Jose Quarter Frenzy raising funds for charity of the attendees' choice at San Jose United Methodist Church﻿
DESCRIPTION:Each vendor will have 4 items (one is a donation item) to be placed in the frenzy. Each item will be raffled off one at a time. A listing of all items up for bid for the afternoon will be provided and will include the number of quarters necessary to try to win. \nThose arriving will purchase a paddle(s) that will have numbers on them. The paddles are $1 each and individuals may purchase as many as they like. \nAll proceeds from the paddle sales\, donation item quarters and vendor fees go to a different charity/cause each month. \nDoors open at noon; attendees can buy lunch and chat with vendors. The frenzy event starts at 1 PM. \nProceeds from lunch go to Team Matthew. \nEvent codes ccfb ccfdd
URL:https://www.wlcnonline.com/event/quarter-auction-by-san-jose-quarter-frenzy-raising-funds-for-charity-of-the-attendees-choice-at-san-jose-united-methodist-church-2/
LOCATION:San Jose United Methodist Church\, 600 S. First Street\, San Jose\, IL\, 62682\, United States
ORGANIZER;CN="Nancy Martin/San Jose Quarter Frenzy":MAILTO:nmartin23@gmail.com
END:VEVENT
BEGIN:VEVENT
DTSTART;TZID=America/Chicago:20260215T140000
DTEND;TZID=America/Chicago:20260215T160000
DTSTAMP:20260420T162924
CREATED:20240607T073345Z
LAST-MODIFIED:20251231T163021Z
UID:10021751-1771164000-1771171200@www.wlcnonline.com
SUMMARY:Xtreme Bar Bingo at The Next Stop Saloon in Mt. Pulaski
DESCRIPTION:Games take place every Sunday from 2 PM to 4 PM. \nEvent codes ccfb ccbin
URL:https://www.wlcnonline.com/event/xtreme-bar-bingo-at-the-next-stop-saloon-in-mt-pulaski/2026-02-15/
LOCATION:The Next Stop Saloon in Mt. Pulaski\, 100 E. Cooke Street\, Mt. Pulaski\, IL\, 62548\, United States
END:VEVENT
BEGIN:VEVENT
DTSTART;TZID=America/Chicago:20260215T150000
DTEND;TZID=America/Chicago:20260215T170000
DTSTAMP:20260420T162924
CREATED:20260205T180344Z
LAST-MODIFIED:20260205T180344Z
UID:10022476-1771167600-1771174800@www.wlcnonline.com
SUMMARY:Plant bingo event hosted by The Bee Boutique at Spirited Republic in Lincoln
DESCRIPTION:Attendees will play bingo and win plants at this unique Plant Bingo event. \nTickets cost $25 per person and includes one drink chip and one bingo card. Additional bingo cards available for purchase. \nTickets can be purchased in advance at The Bee Boutique\, 121 S.Kickapoo Street. \nAll ages are welcome. Attendees are welcome to bring their own snacks. Limited seating is available. \nEvent codes ccbin ccsoc ccfb ccgc
URL:https://www.wlcnonline.com/event/plant-bingo-event-hosted-by-the-bee-boutique-at-spirited-republic-in-lincoln/
LOCATION:Spirited Republic in Lincoln\, 509 Pulaski Street\, Lincoln\, IL\, 62656\, United States
ORGANIZER;CN="The Bee Boutique in Lincoln":MAILTO:melaniemwelch@gmail.com
END:VEVENT
BEGIN:VEVENT
DTSTART;TZID=America/Chicago:20260215T170000
DTEND;TZID=America/Chicago:20260215T180000
DTSTAMP:20260420T162924
CREATED:20250227T215139Z
LAST-MODIFIED:20251231T162319Z
UID:10021666-1771174800-1771178400@www.wlcnonline.com
SUMMARY:Narcotics Anonymous meetings by Land of Lincoln Recovery Group at Hope on 5th in Lincoln
DESCRIPTION:Meetings are free to attend and take place at 6 PM Thursdays as well as at 5 PM on Sundays. \nEvent codes
URL:https://www.wlcnonline.com/event/narcotics-anonymous-meetings-by-land-of-lincoln-recovery-group-at-hope-on-5th-in-lincoln/2026-02-15/
LOCATION:Hope on 5th in Lincoln\, 200 5th Street\, Lincoln\, 62656\, United States
ORGANIZER;CN="Logan Mason Recovery Oriented Systems of Care (ROSC)":MAILTO:jedavis@chestnut.org
END:VEVENT
BEGIN:VEVENT
DTSTART;TZID=America/Chicago:20260215T180000
DTEND;TZID=America/Chicago:20260215T190000
DTSTAMP:20260420T162924
CREATED:20250227T221038Z
LAST-MODIFIED:20251231T162443Z
UID:10021692-1771178400-1771182000@www.wlcnonline.com
SUMMARY:Alcoholics Anonymous meetings at Trinity Episcopal Church in Lincoln
DESCRIPTION:Meetings are free to attend and take place at the following times: \n\nMondays at 7 PM\nWednesdays at 6 PM\nFridays at 11 AM\nSundays at 6 PM\n\nEvent codes
URL:https://www.wlcnonline.com/event/alcoholics-anonymous-meetings-at-trinity-episcopal-church-in-lincoln-4/2026-02-15/
LOCATION:Trinity Episcopal Church in Lincoln\, 402 Pekin Street\, Lincoln\, 62656\, United States
ORGANIZER;CN="Logan Mason Recovery Oriented Systems of Care (ROSC)":MAILTO:jedavis@chestnut.org
END:VEVENT
END:VCALENDAR