BEGIN:VCALENDAR
VERSION:2.0
PRODID:-//WLCN 96.3 FM - ECPv6.15.20//NONSGML v1.0//EN
CALSCALE:GREGORIAN
METHOD:PUBLISH
X-WR-CALNAME:WLCN 96.3 FM
X-ORIGINAL-URL:https://www.wlcnonline.com
X-WR-CALDESC:Events for WLCN 96.3 FM
REFRESH-INTERVAL;VALUE=DURATION:PT1H
X-Robots-Tag:noindex
X-PUBLISHED-TTL:PT1H
BEGIN:VTIMEZONE
TZID:America/Chicago
BEGIN:DAYLIGHT
TZOFFSETFROM:-0600
TZOFFSETTO:-0500
TZNAME:CDT
DTSTART:20250309T080000
END:DAYLIGHT
BEGIN:STANDARD
TZOFFSETFROM:-0500
TZOFFSETTO:-0600
TZNAME:CST
DTSTART:20251102T070000
END:STANDARD
BEGIN:DAYLIGHT
TZOFFSETFROM:-0600
TZOFFSETTO:-0500
TZNAME:CDT
DTSTART:20260308T080000
END:DAYLIGHT
BEGIN:STANDARD
TZOFFSETFROM:-0500
TZOFFSETTO:-0600
TZNAME:CST
DTSTART:20261101T070000
END:STANDARD
BEGIN:DAYLIGHT
TZOFFSETFROM:-0600
TZOFFSETTO:-0500
TZNAME:CDT
DTSTART:20270314T080000
END:DAYLIGHT
BEGIN:STANDARD
TZOFFSETFROM:-0500
TZOFFSETTO:-0600
TZNAME:CST
DTSTART:20271107T070000
END:STANDARD
END:VTIMEZONE
BEGIN:VEVENT
DTSTART;TZID=America/Chicago:20260211T100000
DTEND;TZID=America/Chicago:20260211T130000
DTSTAMP:20260420T145533
CREATED:20251219T005847Z
LAST-MODIFIED:20251219T022353Z
UID:10021278-1770804000-1770814800@www.wlcnonline.com
SUMMARY:Lincoln Memorial Hospital Trailblazers walking group by LMH Community Health Collaborative indoors at Lincoln YMCA
DESCRIPTION:The LMH Trailblazers walking program moves indoors for winter – no registration or YMCA membership is required to participate. Bring comfortable walking shoes and a water bottle. Prizes will be randomly distributed. \nEvent codes ccsoc cchwf
URL:https://www.wlcnonline.com/event/lincoln-memorial-hospital-trailblazers-walking-group-by-lmh-community-health-collaborative-indoors-at-lincoln-ymca/2026-02-11/
LOCATION:Lincoln Area YMCA\, 719 Wyatt Avenue\, Lincoln\, IL\, 62656\, United States
END:VEVENT
BEGIN:VEVENT
DTSTART;TZID=America/Chicago:20260211T170000
DTEND;TZID=America/Chicago:20260211T190000
DTSTAMP:20260420T145533
CREATED:20260129T220451Z
LAST-MODIFIED:20260129T220451Z
UID:10022389-1770829200-1770836400@www.wlcnonline.com
SUMMARY:FAFSA workshop event at Heartland Community College Lincoln
DESCRIPTION:This FAFSA Workshop takes place at Heartland Community College Lincoln. The team at HCCL will walk attendees through the 2026–2027 FAFSA step-by-step\, answering questions and making the process a whole lot less stressful. Reservations are required\, so be sure to grab your spot early! Whether it’s your first time applying or you’ve done it before\, this event will help you feel confident about getting it done. \nClick here to register for the event. For more information\, call Heartland Community College Lincoln at (217) 735-1731. \nEvent codes ccedu
URL:https://www.wlcnonline.com/event/fafsa-workshop-event-at-heartland-community-college-lincoln-2/
LOCATION:Heartland Community College Lincoln\, 2201 Woodlawn Road\, Suite 200\, Lincoln\, IL\, 62656\, United States
ORGANIZER;CN="Heartland Community College Lincoln":MAILTO:Lincoln.Center@heartland.edu
END:VEVENT
BEGIN:VEVENT
DTSTART;TZID=America/Chicago:20260211T171500
DTEND;TZID=America/Chicago:20260211T181500
DTSTAMP:20260420T145533
CREATED:20251219T021255Z
LAST-MODIFIED:20251219T022017Z
UID:10021351-1770830100-1770833700@www.wlcnonline.com
SUMMARY:Monthly prostate cancer support group meetings by LMH Community Health Collaborative held online and at Memorial Learning Center in Springfield
DESCRIPTION:This group is for anyone who has faced prostate cancer including spouse/partner\, friends and family. \nWhen: 2nd Wednesday of each month\, except November and December\nWhere: Memorial Learning Center (228 W Miller Street) 2nd Floor\, Room 2D\nVirtual option available! \nFor more info or to join\, contact Tia Rapps at (217) 588-5392 or rapps.tia@mhsil.com. \nEvent codes cchwf
URL:https://www.wlcnonline.com/event/monthly-prostate-cancer-support-group-meetings-by-lmh-community-health-collaborative-held-online-and-at-memorial-learning-center-in-springfield/2026-02-11/
LOCATION:Memorial Learning Center in Springfield\, 228 W. Miller Street\, Springfield\, 62702\, United States
END:VEVENT
BEGIN:VEVENT
DTSTART;TZID=America/Chicago:20260211T180000
DTEND;TZID=America/Chicago:20260211T190000
DTSTAMP:20260420T145533
CREATED:20250227T214713Z
LAST-MODIFIED:20251231T161900Z
UID:10021528-1770832800-1770836400@www.wlcnonline.com
SUMMARY:Alcoholics Anonymous meetings by Land of Lincoln Recovery Group at Hope on 5th in Lincoln
DESCRIPTION:Meetings are free to attend and take place at 6 PM on Tuesdays\, Wednesdays\, Fridays and Saturdays as well as at 9 AM on Saturdays and Sundays. \nEvent codes
URL:https://www.wlcnonline.com/event/alcoholics-anonymous-meetings-by-land-of-lincoln-recovery-group-at-hope-on-5th-in-lincoln/2026-02-11/
LOCATION:Hope on 5th in Lincoln\, 200 5th Street\, Lincoln\, 62656\, United States
ORGANIZER;CN="Logan Mason Recovery Oriented Systems of Care (ROSC)":MAILTO:jedavis@chestnut.org
END:VEVENT
BEGIN:VEVENT
DTSTART;TZID=America/Chicago:20260211T180000
DTEND;TZID=America/Chicago:20260211T190000
DTSTAMP:20260420T145533
CREATED:20250227T220829Z
LAST-MODIFIED:20251231T164443Z
UID:10021961-1770832800-1770836400@www.wlcnonline.com
SUMMARY:Alcoholics Anonymous meetings at Trinity Episcopal Church in Lincoln
DESCRIPTION:Meetings are free to attend and take place at the following times: \n\nMondays at 7 PM\nWednesdays at 6 PM\nFridays at 11 AM\nSundays at 6 PM\n\nEvent codes
URL:https://www.wlcnonline.com/event/alcoholics-anonymous-meetings-at-trinity-episcopal-church-in-lincoln-2/2026-02-11/
LOCATION:Trinity Episcopal Church in Lincoln\, 402 Pekin Street\, Lincoln\, 62656\, United States
ORGANIZER;CN="Logan Mason Recovery Oriented Systems of Care (ROSC)":MAILTO:jedavis@chestnut.org
END:VEVENT
BEGIN:VEVENT
DTSTART;TZID=America/Chicago:20260211T180000
DTEND;TZID=America/Chicago:20260211T190000
DTSTAMP:20260420T145533
CREATED:20250227T221550Z
LAST-MODIFIED:20251231T171533Z
UID:10022093-1770832800-1770836400@www.wlcnonline.com
SUMMARY:Odds & Ends peer recovery support group meeting at Hardee's in Havana
DESCRIPTION:Meetings are free to attend and take place Wednesdays at 6 PM. \nEvent codes
URL:https://www.wlcnonline.com/event/odds-ends-peer-recovery-support-group-meeting-at-hardees-in-havana/2026-02-11/
LOCATION:Hardee’s in Havana\, 401 W. Dearborn Street\, Havana\, 62644\, United States
ORGANIZER;CN="Logan Mason Recovery Oriented Systems of Care (ROSC)":MAILTO:jedavis@chestnut.org
END:VEVENT
BEGIN:VEVENT
DTSTART;TZID=America/Chicago:20260211T190000
DTEND;TZID=America/Chicago:20260211T210000
DTSTAMP:20260420T145533
CREATED:20251120T195923Z
LAST-MODIFIED:20251120T200605Z
UID:10021092-1770836400-1770843600@www.wlcnonline.com
SUMMARY:Wednesday night trivia at Minier Tap in Minier
DESCRIPTION:Each weekly event features 7 rounds of trivia designed to challenge participants. \nEvent codes: ccgc\, ccsoc
URL:https://www.wlcnonline.com/event/wednesday-night-trivia-at-minier-tap-in-minier/2026-02-11/
LOCATION:Minier Tap\, 121 S. Main Avenue\, Minier\, IL\, 61759\, United States
END:VEVENT
BEGIN:VEVENT
DTSTART;TZID=America/Chicago:20260211T190000
DTEND;TZID=America/Chicago:20260211T210000
DTSTAMP:20260420T145533
CREATED:20251231T172026Z
LAST-MODIFIED:20260220T140551Z
UID:10022172-1770836400-1770843600@www.wlcnonline.com
SUMMARY:Wednesday night trivia at Spirited Republic in Lincoln
DESCRIPTION:Each week features 7 rounds of trivia designed to challenge participants. \nEvent codes: ccgc\, ccsoc\, cctri
URL:https://www.wlcnonline.com/event/wednesday-night-trivia-at-spirited-republic-in-lincoln/2026-02-11/
LOCATION:Spirited Republic in Lincoln\, 509 Pulaski Street\, Lincoln\, IL\, 62656\, United States
ORGANIZER;CN="Spirited Republic/Limerick Brewing Company":MAILTO:spiritedrepublic@gmail.com
END:VEVENT
END:VCALENDAR