BEGIN:VCALENDAR
VERSION:2.0
PRODID:-//WLCN 96.3 FM - ECPv6.15.20//NONSGML v1.0//EN
CALSCALE:GREGORIAN
METHOD:PUBLISH
X-ORIGINAL-URL:https://www.wlcnonline.com
X-WR-CALDESC:Events for WLCN 96.3 FM
REFRESH-INTERVAL;VALUE=DURATION:PT1H
X-Robots-Tag:noindex
X-PUBLISHED-TTL:PT1H
BEGIN:VTIMEZONE
TZID:America/Chicago
BEGIN:DAYLIGHT
TZOFFSETFROM:-0600
TZOFFSETTO:-0500
TZNAME:CDT
DTSTART:20250309T080000
END:DAYLIGHT
BEGIN:STANDARD
TZOFFSETFROM:-0500
TZOFFSETTO:-0600
TZNAME:CST
DTSTART:20251102T070000
END:STANDARD
BEGIN:DAYLIGHT
TZOFFSETFROM:-0600
TZOFFSETTO:-0500
TZNAME:CDT
DTSTART:20260308T080000
END:DAYLIGHT
BEGIN:STANDARD
TZOFFSETFROM:-0500
TZOFFSETTO:-0600
TZNAME:CST
DTSTART:20261101T070000
END:STANDARD
BEGIN:DAYLIGHT
TZOFFSETFROM:-0600
TZOFFSETTO:-0500
TZNAME:CDT
DTSTART:20270314T080000
END:DAYLIGHT
BEGIN:STANDARD
TZOFFSETFROM:-0500
TZOFFSETTO:-0600
TZNAME:CST
DTSTART:20271107T070000
END:STANDARD
END:VTIMEZONE
BEGIN:VEVENT
DTSTART;TZID=America/Chicago:20260131T090000
DTEND;TZID=America/Chicago:20260131T100000
DTSTAMP:20260420T130822
CREATED:20250227T214918Z
LAST-MODIFIED:20251231T162155Z
UID:10021616-1769850000-1769853600@www.wlcnonline.com
SUMMARY:Alcoholics Anonymous meetings by Land of Lincoln Recovery Group at Hope on 5th in Lincoln
DESCRIPTION:Meetings are free to attend and take place at 6 PM on Tuesdays\, Wednesdays\, Fridays and Saturdays as well as at 9 AM on Saturdays and Sundays. \nEvent codes
URL:https://www.wlcnonline.com/event/alcoholics-anonymous-meetings-by-land-of-lincoln-recovery-group-at-hope-on-5th-in-lincoln-2/2026-01-31/
LOCATION:Hope on 5th in Lincoln\, 200 5th Street\, Lincoln\, 62656\, United States
ORGANIZER;CN="Logan Mason Recovery Oriented Systems of Care (ROSC)":MAILTO:jedavis@chestnut.org
END:VEVENT
BEGIN:VEVENT
DTSTART;TZID=America/Chicago:20260131T100000
DTEND;TZID=America/Chicago:20260131T100000
DTSTAMP:20260420T130822
CREATED:20260128T225859Z
LAST-MODIFIED:20260312T155523Z
UID:10022366-1769853600-1769853600@www.wlcnonline.com
SUMMARY:"The Divine Feminine" women's group for self-discovery at Soulful Wellness Collective in Lincoln
DESCRIPTION:This group will hold recurring sessions for participants to come together and discuss different topics and explore vulnerable thoughts in a safe\, contained environment to empower and support each other. The group may also explore different modalities for energy healing such as reiki\, tarot readings\, meditation\, sound baths and gentle yoga stretches. \nTickets are available through the Wix Spaces interface. \nEvent codes cchwf
URL:https://www.wlcnonline.com/event/the-divine-feminine-womens-group-for-self-discovery-at-soulful-wellness-collective-in-lincoln-2/2026-01-31/
LOCATION:Soulful Wellness Collective in Lincoln\, 1555 5th Street\, Lincoln\, 62656\, United States
END:VEVENT
BEGIN:VEVENT
DTSTART;TZID=America/Chicago:20260131T163000
DTEND;TZID=America/Chicago:20260131T190000
DTSTAMP:20260420T130822
CREATED:20260122T210841Z
LAST-MODIFIED:20260122T210841Z
UID:10022364-1769877000-1769886000@www.wlcnonline.com
SUMMARY:Fish supper by Emden Sons of American Legion at Emden Community House
DESCRIPTION:The Sons of the American Legion Post 506 will host their annual Fish Fry on Saturday\, January 31 in the basement of the Emden Community House. Serving will be from 4:30-7:00. Carry outs will be available. Cost is a donation. You do not need to purchase tickets for the dinner. \nThe Sons of the American Legion will be selling 1 deck of playing cards (52) for a HENRY GOLDEN BOY 22 Cal. Rifle. Only 1 deck will be sold. Cards will be available to purchase the night of the Fish Fry. Cards cost $20.00 each until all are sold. Winner will be drawn and notified immediately. All Illinois gun laws and rules will apply. \nEvent codes ccfdd ccfb
URL:https://www.wlcnonline.com/event/fish-supper-by-emden-sons-of-american-legion-at-emden-community-house/
LOCATION:Emden Community House\, 301 Lincoln Street\, Emden\, IL\, 62635\, United States
ORGANIZER;CN="Emden Sons of American Legion Post #506":MAILTO:nickrohlfs@gmail.com
END:VEVENT
BEGIN:VEVENT
DTSTART;TZID=America/Chicago:20260131T180000
DTEND;TZID=America/Chicago:20260131T190000
DTSTAMP:20260420T130822
CREATED:20250227T214713Z
LAST-MODIFIED:20251231T161900Z
UID:10021522-1769882400-1769886000@www.wlcnonline.com
SUMMARY:Alcoholics Anonymous meetings by Land of Lincoln Recovery Group at Hope on 5th in Lincoln
DESCRIPTION:Meetings are free to attend and take place at 6 PM on Tuesdays\, Wednesdays\, Fridays and Saturdays as well as at 9 AM on Saturdays and Sundays. \nEvent codes
URL:https://www.wlcnonline.com/event/alcoholics-anonymous-meetings-by-land-of-lincoln-recovery-group-at-hope-on-5th-in-lincoln/2026-01-31/
LOCATION:Hope on 5th in Lincoln\, 200 5th Street\, Lincoln\, 62656\, United States
ORGANIZER;CN="Logan Mason Recovery Oriented Systems of Care (ROSC)":MAILTO:jedavis@chestnut.org
END:VEVENT
BEGIN:VEVENT
DTSTART;TZID=America/Chicago:20260131T190000
DTEND;TZID=America/Chicago:20260131T230000
DTSTAMP:20260420T130822
CREATED:20260128T230816Z
LAST-MODIFIED:20260128T230816Z
UID:10022368-1769886000-1769900400@www.wlcnonline.com
SUMMARY:Live music by Hillbilly High-Rise at the Rusty Rail Pub in Lincoln
DESCRIPTION:Hillbilly High-Rise features a wide variety of cover songs\, from artists such as Keith Urban\, Gretchen Wilson\, Jimmy Eat World\, Miranda Lambert and many more. \nEvent codes cclm ccent ccfb
URL:https://www.wlcnonline.com/event/live-music-by-hillbilly-high-rise-at-the-rusty-rail-pub-in-lincoln/
LOCATION:The Rusty Rail Pub in Lincoln\, 405 Pulaski Street\, Lincoln\, IL\, 62656\, United States
END:VEVENT
BEGIN:VEVENT
DTSTART;TZID=America/Chicago:20260131T200000
DTEND;TZID=America/Chicago:20260201T000000
DTSTAMP:20260420T130822
CREATED:20251231T212300Z
LAST-MODIFIED:20260216T023148Z
UID:10022222-1769889600-1769904000@www.wlcnonline.com
SUMMARY:Classic country karaoke night (through January 2026) at The Next Stop Saloon in Mt. Pulaski
DESCRIPTION:The January events will feature classic country. \nEvent codes ccent cckar cclm
URL:https://www.wlcnonline.com/event/classic-country-karaoke-night-through-january-2026-at-the-next-stop-saloon-in-mt-pulaski/2026-01-31/
LOCATION:The Next Stop Saloon in Mt. Pulaski\, 100 E. Cooke Street\, Mt. Pulaski\, IL\, 62548\, United States
END:VEVENT
BEGIN:VEVENT
DTSTART;TZID=America/Chicago:20260131T200000
DTEND;TZID=America/Chicago:20260201T000000
DTSTAMP:20260420T130822
CREATED:20260128T230404Z
LAST-MODIFIED:20260128T230404Z
UID:10022367-1769889600-1769904000@www.wlcnonline.com
SUMMARY:Luau with karaoke at The Thirsty Rooster in Middletown
DESCRIPTION:Wear a favorite Hawaiian shirt and shades\, enjoy karaoke by Future Entertainment and help shake off the winter blues at this luau event. \nEvent codes cckar ccfb ccsoc ccent
URL:https://www.wlcnonline.com/event/luau-with-karaoke-at-the-thirsty-rooster-in-middletown/
LOCATION:The Thirsty Rooster in Middletown\, 104 South Madison Street\, Middletown\, IL\, 62666\, United States
ORGANIZER;CN="The Thirsty Rooster":MAILTO:thethirstyrooster@yahoo.com
END:VEVENT
END:VCALENDAR