BEGIN:VCALENDAR
VERSION:2.0
PRODID:-//WLCN 96.3 FM - ECPv6.15.20//NONSGML v1.0//EN
CALSCALE:GREGORIAN
METHOD:PUBLISH
X-ORIGINAL-URL:https://www.wlcnonline.com
X-WR-CALDESC:Events for WLCN 96.3 FM
REFRESH-INTERVAL;VALUE=DURATION:PT1H
X-Robots-Tag:noindex
X-PUBLISHED-TTL:PT1H
BEGIN:VTIMEZONE
TZID:America/Chicago
BEGIN:DAYLIGHT
TZOFFSETFROM:-0600
TZOFFSETTO:-0500
TZNAME:CDT
DTSTART:20250309T080000
END:DAYLIGHT
BEGIN:STANDARD
TZOFFSETFROM:-0500
TZOFFSETTO:-0600
TZNAME:CST
DTSTART:20251102T070000
END:STANDARD
BEGIN:DAYLIGHT
TZOFFSETFROM:-0600
TZOFFSETTO:-0500
TZNAME:CDT
DTSTART:20260308T080000
END:DAYLIGHT
BEGIN:STANDARD
TZOFFSETFROM:-0500
TZOFFSETTO:-0600
TZNAME:CST
DTSTART:20261101T070000
END:STANDARD
BEGIN:DAYLIGHT
TZOFFSETFROM:-0600
TZOFFSETTO:-0500
TZNAME:CDT
DTSTART:20270314T080000
END:DAYLIGHT
BEGIN:STANDARD
TZOFFSETFROM:-0500
TZOFFSETTO:-0600
TZNAME:CST
DTSTART:20271107T070000
END:STANDARD
END:VTIMEZONE
BEGIN:VEVENT
DTSTART;TZID=America/Chicago:20260127T153000
DTEND;TZID=America/Chicago:20260127T190000
DTSTAMP:20260420T131430
CREATED:20260122T203858Z
LAST-MODIFIED:20260122T203858Z
UID:10022362-1769527800-1769540400@www.wlcnonline.com
SUMMARY:Community blood drive at Assembly of God Church in Mason City
DESCRIPTION:The blood drive takes place from 3:30 PM to 7 PM in the Fellowship Hall. Click here to reserve a donation time online. \nEvent code ccbld
URL:https://www.wlcnonline.com/event/community-blood-drive-at-assembly-of-god-church-in-mason-city-2/
LOCATION:Assembly of God Church in Mason City\, 121 E. Arch Street\, Mason City\, IL\, 62664\, United States
END:VEVENT
BEGIN:VEVENT
DTSTART;TZID=America/Chicago:20260127T160000
DTEND;TZID=America/Chicago:20260127T190000
DTSTAMP:20260420T131430
CREATED:20260122T210429Z
LAST-MODIFIED:20260122T215103Z
UID:10022363-1769529600-1769540400@www.wlcnonline.com
SUMMARY:"Hidden Risks: Drug Endangered Children and Family Human Trafficking Training" by Chestnut Health Systems\, Logan/Mason ROSC and McLean ROSC at Illinois State University Alumni Room in Normal
DESCRIPTION:This training explores the connection between Drug Endangered Children and Familial Child Sex Trafficking\, highlighting how caregiver substance misuse increases children’s risk of harm and exploitation. Participants will learn to recognize risk factors and grooming indicators\, and apply trauma-informed\, multidisciplinary strategies for early identification\, intervention\, and referral. \nThe training helps individuals identify warning signs early\, understand the dynamics of victimization\, and respond in a trauma-informed\, victim-centered way so children are protected rather than criminalized. In Illinois\, where human trafficking and drug-related child endangerment occur in both urban and rural communities\, this training supports coordinated\, multidisciplinary responses among law enforcement\, child welfare\, healthcare\, education and community services. \nChestnut Health Systems is a not-for-profit organization that has cared since 1973 for the most vulnerable in our communities. Chestnut provides substance use prevention\, treatment\, and recovery; mental health treatment; primary care; dental care; and housing and supportive services. It is a leader in behavioral health-related research through its Lighthouse Institute. More at www.chestnut.org. Logan/Mason County Recovery Oriented Systems of Care (ROSC) collaborates to build and empower communities of recovery in Logan and Mason County Illinois. Funded in whole or in part by the Illinois Department of Human Services\, Division of Substance Use Prevention and Recovery. McLean County Recovery Oriented Systems of Care (ROSC) collaborates to build and empower communities of recovery in McLean County Illinois. Funded in whole or in part by the Illinois Department of Human Services\, Division of Substance Use Prevention and Recovery. \ncchwf ccedu
URL:https://www.wlcnonline.com/event/hidden-risks-drug-endangered-children-and-family-human-trafficking-training-by-chestnut-health-systems-logan-mason-rosc-and-mclean-roscat-illinois-state-university-alumni-room-in-normal/
LOCATION:Illinois State University Alumni Room\, 1101 N Main Street\, Normal\, 61764\, United States
ORGANIZER;CN="Grace Irvin":MAILTO:mcpayne@chestnut.org
END:VEVENT
BEGIN:VEVENT
DTSTART;TZID=America/Chicago:20260127T170000
DTEND;TZID=America/Chicago:20260127T180000
DTSTAMP:20260420T131430
CREATED:20251120T204757Z
LAST-MODIFIED:20251219T003107Z
UID:10021260-1769533200-1769536800@www.wlcnonline.com
SUMMARY:Lego club event at Mt. Pulaski Public Library
DESCRIPTION:Participants do not need to bring any Legos or other supplies to participate in this event. \nEvent codes ccaca ccsoc ccfk
URL:https://www.wlcnonline.com/event/lego-club-event-at-mt-pulaski-public-library-2/2026-01-27/
LOCATION:Mt. Pulaski Public Library\, 320 N. Washington Street\, Mt. Pulaski\, IL\, 62548\, United States
ORGANIZER;CN="Mt. Pulaski Public Library District":MAILTO:mtpulaskipubliclibrary@gmail.com
END:VEVENT
BEGIN:VEVENT
DTSTART;TZID=America/Chicago:20260127T170000
DTEND;TZID=America/Chicago:20260127T203000
DTSTAMP:20260420T131430
CREATED:20250220T233455Z
LAST-MODIFIED:20251231T163935Z
UID:10021907-1769533200-1769545800@www.wlcnonline.com
SUMMARY:Tuesday night bingo (meal @ 5 PM\, bingo @ 6:30 PM) at Oasis Senior Center in Lincoln﻿
DESCRIPTION:Bingo takes place on Tuesday evenings from 6:30 PM to 8:30 PM and is open to the public. Doors open at 5 PM for a meal\, snack and beverages. \nEvent codes ccgc ccbin ccfb ccsoc
URL:https://www.wlcnonline.com/event/tuesday-night-bingo-meal-5-pm-bingo-630-pm-at-oasis-senior-center-in-lincoln/2026-01-27/
LOCATION:Oasis Senior Center\, 2810 Woodlawn Road\, Lincoln\, IL\, 62656\, United States
ORGANIZER;CN="Oasis Senior Center":MAILTO:nancy@oasisseniorcenter.com
END:VEVENT
BEGIN:VEVENT
DTSTART;TZID=America/Chicago:20260127T180000
DTEND;TZID=America/Chicago:20260127T190000
DTSTAMP:20260420T131430
CREATED:20250227T214713Z
LAST-MODIFIED:20251231T161900Z
UID:10021519-1769536800-1769540400@www.wlcnonline.com
SUMMARY:Alcoholics Anonymous meetings by Land of Lincoln Recovery Group at Hope on 5th in Lincoln
DESCRIPTION:Meetings are free to attend and take place at 6 PM on Tuesdays\, Wednesdays\, Fridays and Saturdays as well as at 9 AM on Saturdays and Sundays. \nEvent codes
URL:https://www.wlcnonline.com/event/alcoholics-anonymous-meetings-by-land-of-lincoln-recovery-group-at-hope-on-5th-in-lincoln/2026-01-27/
LOCATION:Hope on 5th in Lincoln\, 200 5th Street\, Lincoln\, 62656\, United States
ORGANIZER;CN="Logan Mason Recovery Oriented Systems of Care (ROSC)":MAILTO:jedavis@chestnut.org
END:VEVENT
BEGIN:VEVENT
DTSTART;TZID=America/Chicago:20260127T200000
DTEND;TZID=America/Chicago:20260128T000000
DTSTAMP:20260420T131430
CREATED:20250725T022208Z
LAST-MODIFIED:20251231T164013Z
UID:10021933-1769544000-1769558400@www.wlcnonline.com
SUMMARY:Karaoke at The Rusty Rail Pub in Lincoln
DESCRIPTION:Karaoke events are scheduled at the Rusty Rail each Tuesday night from 8 PM to midnight. \nEvent codes ccfb ccent cckar
URL:https://www.wlcnonline.com/event/karaoke-at-the-rusty-rail-pub-in-lincoln/2026-01-27/
LOCATION:The Rusty Rail Pub in Lincoln\, 405 Pulaski Street\, Lincoln\, IL\, 62656\, United States
END:VEVENT
END:VCALENDAR