BEGIN:VCALENDAR
VERSION:2.0
PRODID:-//WLCN 96.3 FM - ECPv6.15.20//NONSGML v1.0//EN
CALSCALE:GREGORIAN
METHOD:PUBLISH
X-WR-CALNAME:WLCN 96.3 FM
X-ORIGINAL-URL:https://www.wlcnonline.com
X-WR-CALDESC:Events for WLCN 96.3 FM
REFRESH-INTERVAL;VALUE=DURATION:PT1H
X-Robots-Tag:noindex
X-PUBLISHED-TTL:PT1H
BEGIN:VTIMEZONE
TZID:America/Chicago
BEGIN:DAYLIGHT
TZOFFSETFROM:-0600
TZOFFSETTO:-0500
TZNAME:CDT
DTSTART:20250309T080000
END:DAYLIGHT
BEGIN:STANDARD
TZOFFSETFROM:-0500
TZOFFSETTO:-0600
TZNAME:CST
DTSTART:20251102T070000
END:STANDARD
BEGIN:DAYLIGHT
TZOFFSETFROM:-0600
TZOFFSETTO:-0500
TZNAME:CDT
DTSTART:20260308T080000
END:DAYLIGHT
BEGIN:STANDARD
TZOFFSETFROM:-0500
TZOFFSETTO:-0600
TZNAME:CST
DTSTART:20261101T070000
END:STANDARD
BEGIN:DAYLIGHT
TZOFFSETFROM:-0600
TZOFFSETTO:-0500
TZNAME:CDT
DTSTART:20270314T080000
END:DAYLIGHT
BEGIN:STANDARD
TZOFFSETFROM:-0500
TZOFFSETTO:-0600
TZNAME:CST
DTSTART:20271107T070000
END:STANDARD
END:VTIMEZONE
BEGIN:VEVENT
DTSTART;TZID=America/Chicago:20260119T090000
DTEND;TZID=America/Chicago:20260119T160000
DTSTAMP:20260420T131127
CREATED:20260115T214838Z
LAST-MODIFIED:20260115T214838Z
UID:10022326-1768813200-1768838400@www.wlcnonline.com
SUMMARY:"Winter Wonderland" activities at Lincoln Public Library Youth Services Annex in Lincoln
DESCRIPTION:Kids looking for something to do while out of school for MLK Day can stop in anytime between 9 AM and 4 PM to enjoy crafts\, activities\, photo opportunities and more. \nEvent codes ccfk
URL:https://www.wlcnonline.com/event/winter-wonderland-activities-at-lincoln-public-library-youth-services-annex-in-lincoln/
LOCATION:Lincoln Public LIbrary Annex\, 620 Broadway Street\, Lincoln\, IL\, 62656\, United States
ORGANIZER;CN="Lincoln Public Library District":MAILTO:refdesklpld@gmail.com
END:VEVENT
BEGIN:VEVENT
DTSTART;TZID=America/Chicago:20260119T110000
DTEND;TZID=America/Chicago:20260119T180000
DTSTAMP:20260420T131127
CREATED:20260115T214047Z
LAST-MODIFIED:20260115T214047Z
UID:10022324-1768820400-1768845600@www.wlcnonline.com
SUMMARY:Prom bash sale event by Simply Elegant by Cheri in Lincoln
DESCRIPTION:The event runs:\n* Saturday\, January 17 – 10 AM to 4 PM\n* Sunday\, January 18 – 1 PM to 5 PM\n* Monday\, January 19 – 11 AM to 6 PM \nWith over 1\,400 dresses in stock from all the top designers\, there is something for everyone. In addition\, there will be prizes with purchases as well as “spin to win.” \nEvent codes cclbep
URL:https://www.wlcnonline.com/event/prom-bash-sale-event-by-simply-elegant-by-cheri-in-lincoln/2026-01-19/
LOCATION:Simply Elegant by Cheri in Lincoln\, 2790 Woodlawn Road\, Lincoln\, IL\, 62656\, United States
ORGANIZER;CN="Simply Elegant by Cheri":MAILTO:cheri@simplyelegantbycheri.com
END:VEVENT
BEGIN:VEVENT
DTSTART;TZID=America/Chicago:20260119T133000
DTEND;TZID=America/Chicago:20260119T173000
DTSTAMP:20260420T131127
CREATED:20240808T140430Z
LAST-MODIFIED:20260212T210056Z
UID:10021040-1768829400-1768843800@www.wlcnonline.com
SUMMARY:Community blood drive at Knights of Columbus Hall in Lincoln
DESCRIPTION:Click here to schedule a donation appointment time. \nEvent codes: ccbld\, ccserv
URL:https://www.wlcnonline.com/event/community-blood-drive-at-knights-of-columbus-hall-in-lincoln-5/2026-01-19/
LOCATION:Lincoln Knights of Columbus Hall\, 217 Limit Street\, Lincoln\, IL\, 62656\, United States
END:VEVENT
BEGIN:VEVENT
DTSTART;TZID=America/Chicago:20260119T173000
DTEND;TZID=America/Chicago:20260119T183000
DTSTAMP:20260420T131127
CREATED:20251231T211807Z
LAST-MODIFIED:20251231T211807Z
UID:10022214-1768843800-1768847400@www.wlcnonline.com
SUMMARY:Intentional living workshop sessions at Nikki Chapman Yoga & Holistic Healing in Lincoln
DESCRIPTION:Intentional living is a daily practice and a conscious lifestyle choice that\, when practiced\, it helps us to define one’s core values and beliefs. Intentional living takes us out of autopilot or “allowing life to happen to us” and lets us focus on what truly matters. It fosters greater happiness\, authenticity and fuels your purpose. Attendees for this 4-week workshop will learn: \n\nthe key principles of intentional living\nhow to practice intentional living\nsetting intentions\npractice mindfulness\n– \nsetting goals and establishing healthy habits\n\nSessions will take place each Monday in January (1/5\, 1/12\, 1/19 and 1/26) from 5:30 PM to 6:30 PM \nIt is highly recommended that participants attend all classes (if unable to attend all sessions\, please message Nikki for additional information/details). \nEvent codes cchwf
URL:https://www.wlcnonline.com/event/intentional-living-workshop-sessions-at-nikki-chapman-yoga-holistic-healing-in-lincoln/2026-01-19/
LOCATION:Nikki Chapman Yoga & Holistic Healing in Lincoln\, 1555 5th Street\, Lincoln\, IL\, 62656\, United States
END:VEVENT
BEGIN:VEVENT
DTSTART;TZID=America/Chicago:20260119T180000
DTEND;TZID=America/Chicago:20260119T190000
DTSTAMP:20260420T131127
CREATED:20250227T215503Z
LAST-MODIFIED:20251231T163530Z
UID:10021828-1768845600-1768849200@www.wlcnonline.com
SUMMARY:Co-Dependents Anonymous (CoDA) meetings by Land of Lincoln Recovery Group at Hope on 5th in Lincoln
DESCRIPTION:Meetings are free to attend and take place at 6 PM Mondays. \nEvent codes
URL:https://www.wlcnonline.com/event/co-dependents-anonymous-coda-meetings-by-land-of-lincoln-recovery-group-at-hope-on-5th-in-lincoln/2026-01-19/
LOCATION:Hope on 5th in Lincoln\, 200 5th Street\, Lincoln\, 62656\, United States
ORGANIZER;CN="Logan Mason Recovery Oriented Systems of Care (ROSC)":MAILTO:jedavis@chestnut.org
END:VEVENT
BEGIN:VEVENT
DTSTART;TZID=America/Chicago:20260119T180000
DTEND;TZID=America/Chicago:20260119T200000
DTSTAMP:20260420T131127
CREATED:20250725T024845Z
LAST-MODIFIED:20251231T163623Z
UID:10021854-1768845600-1768852800@www.wlcnonline.com
SUMMARY:Music bingo at Copper & Oak Bourbon & Craft Beer Bar in Lincoln
DESCRIPTION:Music bingo is like regular bingo\, except of numbers being called\, segments of songs are played; if you can identify the song played and it is on your bingo card\, cross it off and continue doing so until someone gets bingo. \nMusic bingo is free to play. \nEvent codes ccbin ccsoc ccfb
URL:https://www.wlcnonline.com/event/music-bingo-at-copper-oak-bourbon-craft-beer-bar-in-lincoln/2026-01-19/
LOCATION:Copper & Oak in Lincoln\, 227 N. Kickapoo Street\, Lincoln\, IL\, 62656\, United States
END:VEVENT
BEGIN:VEVENT
DTSTART;TZID=America/Chicago:20260119T190000
DTEND;TZID=America/Chicago:20260119T200000
DTSTAMP:20260420T131127
CREATED:20250227T220659Z
LAST-MODIFIED:20251231T163725Z
UID:10021880-1768849200-1768852800@www.wlcnonline.com
SUMMARY:Alcoholics Anonymous meetings at Trinity Episcopal Church in Lincoln
DESCRIPTION:Meetings are free to attend and take place at the following times: \n\nMondays at 7 PM\nWednesdays at 6 PM\nFridays at 11 AM\nSundays at 6 PM\n\nEvent codes
URL:https://www.wlcnonline.com/event/alcoholics-anonymous-meetings-at-trinity-episcopal-church-in-lincoln/2026-01-19/
LOCATION:Trinity Episcopal Church in Lincoln\, 402 Pekin Street\, Lincoln\, 62656\, United States
ORGANIZER;CN="Logan Mason Recovery Oriented Systems of Care (ROSC)":MAILTO:jedavis@chestnut.org
END:VEVENT
END:VCALENDAR