BEGIN:VCALENDAR
VERSION:2.0
PRODID:-//WLCN 96.3 FM - ECPv6.15.20//NONSGML v1.0//EN
CALSCALE:GREGORIAN
METHOD:PUBLISH
X-ORIGINAL-URL:https://www.wlcnonline.com
X-WR-CALDESC:Events for WLCN 96.3 FM
REFRESH-INTERVAL;VALUE=DURATION:PT1H
X-Robots-Tag:noindex
X-PUBLISHED-TTL:PT1H
BEGIN:VTIMEZONE
TZID:America/Chicago
BEGIN:DAYLIGHT
TZOFFSETFROM:-0600
TZOFFSETTO:-0500
TZNAME:CDT
DTSTART:20250309T080000
END:DAYLIGHT
BEGIN:STANDARD
TZOFFSETFROM:-0500
TZOFFSETTO:-0600
TZNAME:CST
DTSTART:20251102T070000
END:STANDARD
BEGIN:DAYLIGHT
TZOFFSETFROM:-0600
TZOFFSETTO:-0500
TZNAME:CDT
DTSTART:20260308T080000
END:DAYLIGHT
BEGIN:STANDARD
TZOFFSETFROM:-0500
TZOFFSETTO:-0600
TZNAME:CST
DTSTART:20261101T070000
END:STANDARD
BEGIN:DAYLIGHT
TZOFFSETFROM:-0600
TZOFFSETTO:-0500
TZNAME:CDT
DTSTART:20270314T080000
END:DAYLIGHT
BEGIN:STANDARD
TZOFFSETFROM:-0500
TZOFFSETTO:-0600
TZNAME:CST
DTSTART:20271107T070000
END:STANDARD
END:VTIMEZONE
BEGIN:VEVENT
DTSTART;TZID=America/Chicago:20260110T090000
DTEND;TZID=America/Chicago:20260110T100000
DTSTAMP:20260420T131254
CREATED:20250227T214918Z
LAST-MODIFIED:20251231T162155Z
UID:10021610-1768035600-1768039200@www.wlcnonline.com
SUMMARY:Alcoholics Anonymous meetings by Land of Lincoln Recovery Group at Hope on 5th in Lincoln
DESCRIPTION:Meetings are free to attend and take place at 6 PM on Tuesdays\, Wednesdays\, Fridays and Saturdays as well as at 9 AM on Saturdays and Sundays. \nEvent codes
URL:https://www.wlcnonline.com/event/alcoholics-anonymous-meetings-by-land-of-lincoln-recovery-group-at-hope-on-5th-in-lincoln-2/2026-01-10/
LOCATION:Hope on 5th in Lincoln\, 200 5th Street\, Lincoln\, 62656\, United States
ORGANIZER;CN="Logan Mason Recovery Oriented Systems of Care (ROSC)":MAILTO:jedavis@chestnut.org
END:VEVENT
BEGIN:VEVENT
DTSTART;TZID=America/Chicago:20260110T100000
DTEND;TZID=America/Chicago:20260110T120000
DTSTAMP:20260420T131254
CREATED:20251231T212630Z
LAST-MODIFIED:20251231T212630Z
UID:10022223-1768039200-1768046400@www.wlcnonline.com
SUMMARY:"Beginning to practice a wellness journey" session at Soulful Wellness Collective in Lincoln
DESCRIPTION:This introductory two-hour session will educate attendees about different wellness modalities as well as the basics of meditation\, tarot\, smudging\, journaling\, chakras\, reiki\, and crystals. Cost is $20 per person and includes light refreshments. \nEvent codes cchwf
URL:https://www.wlcnonline.com/event/beginning-to-practice-a-wellness-journey-session-at-soulful-wellness-collective-in-lincoln/
LOCATION:Soulful Wellness Collective in Lincoln\, 1555 5th Street\, Lincoln\, 62656\, United States
END:VEVENT
BEGIN:VEVENT
DTSTART;TZID=America/Chicago:20260110T140000
DTEND;TZID=America/Chicago:20260110T170000
DTSTAMP:20260420T131254
CREATED:20251231T210536Z
LAST-MODIFIED:20251231T210536Z
UID:10022209-1768053600-1768064400@www.wlcnonline.com
SUMMARY:LCHS Lady Railer Basketball alumni day at LCHS Lady Railer game vs. Springfield at Lincoln Community High School
DESCRIPTION:All LCHS Lady Railer Basketball Alumni in attendance will be recognized and included in a group photo taken at halftime of the varsity game against Springfield. Alumni are also invited to participate in a fun game of Knock Out. \nIn addition\, Lady Railer and alumni gear will be available for purchase. \nEvent codes ccsoc ccedu
URL:https://www.wlcnonline.com/event/lchs-lady-railer-basketball-alumni-day-at-lchs-lady-railer-game-vs-springfield-at-lincoln-community-high-school/
LOCATION:Roy S. Anderson Gymnasium at Lincoln Community High School\, 1000 Railer Way\, Lincoln\, IL\, 62656\, United States
END:VEVENT
BEGIN:VEVENT
DTSTART;TZID=America/Chicago:20260110T150000
DTEND;TZID=America/Chicago:20260110T190000
DTSTAMP:20260420T131254
CREATED:20251231T211922Z
LAST-MODIFIED:20251231T211922Z
UID:10022216-1768057200-1768071600@www.wlcnonline.com
SUMMARY:Live music from the Craig Gerdes Band at The Bulldog Inn in Emden
DESCRIPTION:Enjoy food and drink while listening to live music from Craig Gerdes. \nEvent codes ccent cclm
URL:https://www.wlcnonline.com/event/live-music-from-the-craig-gerdes-band-at-the-bulldog-inn-in-emden-2/
LOCATION:The Bulldog Inn in Emden\, 225 Lincoln Street\, Emden\, IL\, 62635\, United States
END:VEVENT
BEGIN:VEVENT
DTSTART;TZID=America/Chicago:20260110T180000
DTEND;TZID=America/Chicago:20260110T190000
DTSTAMP:20260420T131254
CREATED:20250227T214713Z
LAST-MODIFIED:20251231T161900Z
UID:10021510-1768068000-1768071600@www.wlcnonline.com
SUMMARY:Alcoholics Anonymous meetings by Land of Lincoln Recovery Group at Hope on 5th in Lincoln
DESCRIPTION:Meetings are free to attend and take place at 6 PM on Tuesdays\, Wednesdays\, Fridays and Saturdays as well as at 9 AM on Saturdays and Sundays. \nEvent codes
URL:https://www.wlcnonline.com/event/alcoholics-anonymous-meetings-by-land-of-lincoln-recovery-group-at-hope-on-5th-in-lincoln/2026-01-10/
LOCATION:Hope on 5th in Lincoln\, 200 5th Street\, Lincoln\, 62656\, United States
ORGANIZER;CN="Logan Mason Recovery Oriented Systems of Care (ROSC)":MAILTO:jedavis@chestnut.org
END:VEVENT
BEGIN:VEVENT
DTSTART;TZID=America/Chicago:20260110T180000
DTEND;TZID=America/Chicago:20260110T200000
DTSTAMP:20260420T131254
CREATED:20251231T212029Z
LAST-MODIFIED:20251231T212029Z
UID:10022217-1768068000-1768075200@www.wlcnonline.com
SUMMARY:Christmas party at Village Pub in New Holland
DESCRIPTION:Attendees will enjoy some Christmas fun\, including a white elephant gift exchange (bring a gift if you wish to participate). \nEvent codes ccchr ccfb cckar ccgc
URL:https://www.wlcnonline.com/event/christmas-party-at-village-pub-in-new-holland-2/
LOCATION:Village Pub in New Holland\, 102 W. Lincoln Street\, New Holland\, IL\, 62671\, United States
ORGANIZER;CN="Village Pub in New Holland":MAILTO:styleslynn83@gmail.com
END:VEVENT
BEGIN:VEVENT
DTSTART;TZID=America/Chicago:20260110T180000
DTEND;TZID=America/Chicago:20260110T220000
DTSTAMP:20260420T131254
CREATED:20251231T204155Z
LAST-MODIFIED:20251231T205808Z
UID:10022208-1768068000-1768082400@www.wlcnonline.com
SUMMARY:Clinton FFA Boosters glow trivia fundraiser at Clinton Country Club in Clinton
DESCRIPTION:This night of fun and friendly competition takes place at the Clinton Country Club. There will be cash prizes for the top 3 teams of the the night. Tickets can be purchased online or for an individual or for an entire table. \nEvent codes ccle ccgc ccfdd
URL:https://www.wlcnonline.com/event/clinton-ffa-boosters-glow-trivia-fundraiser-at-clinton-country-club-in-clinton/
LOCATION:Clinton Country Club\, 9530 Texas Church Road\, Clinton\, IL\, 61727\, United States
ORGANIZER;CN="Clinton FFA Boosters":MAILTO:clintonffalumni@gmail.com
END:VEVENT
BEGIN:VEVENT
DTSTART;TZID=America/Chicago:20260110T200000
DTEND;TZID=America/Chicago:20260111T000000
DTSTAMP:20260420T131254
CREATED:20251231T211133Z
LAST-MODIFIED:20251231T211133Z
UID:10022211-1768075200-1768089600@www.wlcnonline.com
SUMMARY:Second anniversary event featuring live music by Branded at The Thirsty Rooster in Middletown
DESCRIPTION:Celebrate two years in business for the Thirsty Rooster and enjoy live music by Branded. \nEvent codes ccent cclm ccfb
URL:https://www.wlcnonline.com/event/second-anniversary-event-featuring-live-music-by-branded-at-the-thirsty-rooster-in-middletown/
LOCATION:The Thirsty Rooster in Middletown\, 104 South Madison Street\, Middletown\, IL\, 62666\, United States
ORGANIZER;CN="The Thirsty Rooster":MAILTO:thethirstyrooster@yahoo.com
END:VEVENT
BEGIN:VEVENT
DTSTART;TZID=America/Chicago:20260110T200000
DTEND;TZID=America/Chicago:20260111T000000
DTSTAMP:20260420T131254
CREATED:20251231T212300Z
LAST-MODIFIED:20260216T023148Z
UID:10022219-1768075200-1768089600@www.wlcnonline.com
SUMMARY:Classic country karaoke night (through January 2026) at The Next Stop Saloon in Mt. Pulaski
DESCRIPTION:The January events will feature classic country. \nEvent codes ccent cckar cclm
URL:https://www.wlcnonline.com/event/classic-country-karaoke-night-through-january-2026-at-the-next-stop-saloon-in-mt-pulaski/2026-01-10/
LOCATION:The Next Stop Saloon in Mt. Pulaski\, 100 E. Cooke Street\, Mt. Pulaski\, IL\, 62548\, United States
END:VEVENT
END:VCALENDAR