BEGIN:VCALENDAR
VERSION:2.0
PRODID:-//WLCN 96.3 FM - ECPv6.15.20//NONSGML v1.0//EN
CALSCALE:GREGORIAN
METHOD:PUBLISH
X-ORIGINAL-URL:https://www.wlcnonline.com
X-WR-CALDESC:Events for WLCN 96.3 FM
REFRESH-INTERVAL;VALUE=DURATION:PT1H
X-Robots-Tag:noindex
X-PUBLISHED-TTL:PT1H
BEGIN:VTIMEZONE
TZID:America/Chicago
BEGIN:DAYLIGHT
TZOFFSETFROM:-0600
TZOFFSETTO:-0500
TZNAME:CDT
DTSTART:20240310T080000
END:DAYLIGHT
BEGIN:STANDARD
TZOFFSETFROM:-0500
TZOFFSETTO:-0600
TZNAME:CST
DTSTART:20241103T070000
END:STANDARD
BEGIN:DAYLIGHT
TZOFFSETFROM:-0600
TZOFFSETTO:-0500
TZNAME:CDT
DTSTART:20250309T080000
END:DAYLIGHT
BEGIN:STANDARD
TZOFFSETFROM:-0500
TZOFFSETTO:-0600
TZNAME:CST
DTSTART:20251102T070000
END:STANDARD
BEGIN:DAYLIGHT
TZOFFSETFROM:-0600
TZOFFSETTO:-0500
TZNAME:CDT
DTSTART:20260308T080000
END:DAYLIGHT
BEGIN:STANDARD
TZOFFSETFROM:-0500
TZOFFSETTO:-0600
TZNAME:CST
DTSTART:20261101T070000
END:STANDARD
END:VTIMEZONE
BEGIN:VEVENT
DTSTART;TZID=America/Chicago:20251213T080000
DTEND;TZID=America/Chicago:20251213T100000
DTSTAMP:20260420T164244
CREATED:20250717T144857Z
LAST-MODIFIED:20260416T222931Z
UID:10021223-1765612800-1765620000@www.wlcnonline.com
SUMMARY:Precision Church: Faith + Fitness workout session at Precision Movement in Lincoln
DESCRIPTION:This event mixes faith and fitness to strengthen both bodies and spirits. The free event is open to the public; attendees do not have to be a Precision Fitness member to come break a sweat\, share positive energy and connect with others. \nThe event starts with prayer\, a group workout session suitable for all fitness levels\, followed by a time of fellowship and reflection. \nEvent codes cchwf ccrel
URL:https://www.wlcnonline.com/event/precision-church-faith-fitness-workout-session-at-precision-movement-in-lincoln-8/2025-12-13/
LOCATION:Precision Movement in Lincoln\, 1417 N. Kickapoo Street\, Lincoln\, IL\, 62656\, United States
ORGANIZER;CN="Precision Movement in Lincoln":MAILTO:ashley@precision-movement.com
END:VEVENT
BEGIN:VEVENT
DTSTART;TZID=America/Chicago:20251213T090000
DTEND;TZID=America/Chicago:20251213T100000
DTSTAMP:20260420T164244
CREATED:20250227T214918Z
LAST-MODIFIED:20251231T162155Z
UID:10019172-1765616400-1765620000@www.wlcnonline.com
SUMMARY:Alcoholics Anonymous meetings by Land of Lincoln Recovery Group at Hope on 5th in Lincoln
DESCRIPTION:Meetings are free to attend and take place at 6 PM on Tuesdays\, Wednesdays\, Fridays and Saturdays as well as at 9 AM on Saturdays and Sundays. \nEvent codes
URL:https://www.wlcnonline.com/event/alcoholics-anonymous-meetings-by-land-of-lincoln-recovery-group-at-hope-on-5th-in-lincoln-2/2025-12-13/
LOCATION:Hope on 5th in Lincoln\, 200 5th Street\, Lincoln\, 62656\, United States
ORGANIZER;CN="Logan Mason Recovery Oriented Systems of Care (ROSC)":MAILTO:jedavis@chestnut.org
END:VEVENT
BEGIN:VEVENT
DTSTART;TZID=America/Chicago:20251213T120000
DTEND;TZID=America/Chicago:20251213T150000
DTSTAMP:20260420T164244
CREATED:20251120T225746Z
LAST-MODIFIED:20251120T225746Z
UID:10021154-1765627200-1765638000@www.wlcnonline.com
SUMMARY:2025 horse-drawn carriage rides around the square in downtown Lincoln
DESCRIPTION:Get into the holiday spirit with a *free* ride around the historic Logan County Courthouse on the square in downtown Lincoln. \nPick up and drop off will be in front of the Arcade on Pulaski Street. A sign-up sheet will be available at the pick-up and drop-off location. Once checked in\, you can shop local downtown businesses and enjoy the decorated trees on the square until their scheduled ride time. click here to learn more. \nEvent codes ccchr ccfre ccff
URL:https://www.wlcnonline.com/event/2025-horse-drawn-carriage-rides-around-the-square-in-downtown-lincoln/2025-12-13/
LOCATION:In front of the Arcade Building in Downtown Lincoln\, 513 Pulaski Street\, Lincoln\, IL\, 62656\, United States
ORGANIZER;CN="Downtown Lincoln Illinois":MAILTO:info@downtownlincolnillinois.com
END:VEVENT
BEGIN:VEVENT
DTSTART;TZID=America/Chicago:20251213T130000
DTEND;TZID=America/Chicago:20251213T143000
DTSTAMP:20260420T164244
CREATED:20251205T044408Z
LAST-MODIFIED:20251205T044408Z
UID:10021203-1765630800-1765636200@www.wlcnonline.com
SUMMARY:Book launch event for "Virtue of Vengeance" book with author Brian McDonald at Ink & Imprint Books in Lincoln
DESCRIPTION:Author Brian McDonald will be on hand at this launch party celebrating the release of his second book\, Virtue of Vengeance. The event runs from  from 1 PM to 2:30 PM. Virtue of Vengeance is a gritty\, character-driven drama that continues the story of Jimmy Dawson and The Defenders. \nEvent codes cclbep
URL:https://www.wlcnonline.com/event/book-launch-event-for-virtue-of-vengeance-book-with-author-brian-mcdonald-at-ink-imprint-books-in-lincoln/
LOCATION:Ink & Imprint Books in Lincoln\, 125 N Kickapoo Street\, Lincoln\, 62656\, United States
ORGANIZER;CN="Ink & Imprint Books":MAILTO:inkandimprintbooks@gmail.com
END:VEVENT
BEGIN:VEVENT
DTSTART;TZID=America/Chicago:20251213T150000
DTEND;TZID=America/Chicago:20251213T173000
DTSTAMP:20260420T164244
CREATED:20251211T215305Z
LAST-MODIFIED:20251211T215305Z
UID:10021224-1765638000-1765647000@www.wlcnonline.com
SUMMARY:Victorian Christmas Tea party at LaTeaDa Cafe/Barn Bar/Events in Clinton
DESCRIPTION:Savory bites and sweet treats will be served at this afternoon tea\, along with teas & coffees. Every dining guest will receive with a gift. \nTickets cost $25 per person and must be purchased in advance. Tickets can be bought by calling (217) 935-8855\, Tuesday through Saturday between 10 AM to 4 PM. \nEvent codes ccfb ccgc ccsoc ccchr cctriv
URL:https://www.wlcnonline.com/event/victorian-christmas-tea-party-at-lateada-cafe-barn-bar-events-in-clinton/
LOCATION:LaTeaDa Cafe/Barn Bar/Events in Clinton\, 1100 S. Madison Street\, Clinton\, IL\, 61727\, United States
ORGANIZER;CN="LaTeaDa Cafe/Barn Bar/Events":MAILTO:lateadaladies@gmail.com
END:VEVENT
BEGIN:VEVENT
DTSTART;TZID=America/Chicago:20251213T160000
DTEND;TZID=America/Chicago:20251213T180000
DTSTAMP:20260420T164244
CREATED:20251205T042948Z
LAST-MODIFIED:20251205T042948Z
UID:10021200-1765641600-1765648800@www.wlcnonline.com
SUMMARY:2025 Journey to Bethlehem event at Zion Lutheran School in Lincoln
DESCRIPTION:The public is invited to experience this free indoor interactive journey through the story of Christmas in a meaningful and unforgettable way. \nEvent codes ccff ccedu ccrel ccchr
URL:https://www.wlcnonline.com/event/2025-journey-to-bethlehem-event-at-zion-lutheran-school-in-lincoln/
LOCATION:Zion Lutheran School-Lincoln\, 1600 Woodlawn Road\, Lincoln\, IL\, 62656\, United States
END:VEVENT
BEGIN:VEVENT
DTSTART;TZID=America/Chicago:20251213T180000
DTEND;TZID=America/Chicago:20251213T190000
DTSTAMP:20260420T164244
CREATED:20250227T214713Z
LAST-MODIFIED:20251231T161900Z
UID:10019079-1765648800-1765652400@www.wlcnonline.com
SUMMARY:Alcoholics Anonymous meetings by Land of Lincoln Recovery Group at Hope on 5th in Lincoln
DESCRIPTION:Meetings are free to attend and take place at 6 PM on Tuesdays\, Wednesdays\, Fridays and Saturdays as well as at 9 AM on Saturdays and Sundays. \nEvent codes
URL:https://www.wlcnonline.com/event/alcoholics-anonymous-meetings-by-land-of-lincoln-recovery-group-at-hope-on-5th-in-lincoln/2025-12-13/
LOCATION:Hope on 5th in Lincoln\, 200 5th Street\, Lincoln\, 62656\, United States
ORGANIZER;CN="Logan Mason Recovery Oriented Systems of Care (ROSC)":MAILTO:jedavis@chestnut.org
END:VEVENT
BEGIN:VEVENT
DTSTART;TZID=America/Chicago:20251213T180000
DTEND;TZID=America/Chicago:20251213T230000
DTSTAMP:20260420T164244
CREATED:20251211T215727Z
LAST-MODIFIED:20251211T215727Z
UID:10021228-1765648800-1765666800@www.wlcnonline.com
SUMMARY:3rd annual Ugly Sweater Party at The Thirsty Barrel in Mason City
DESCRIPTION:The Thirsty Barrel’s 3rd Annual Ugly Sweater Party coincides with the Reimagine MC Christmas Parade. There will be snacks\, drink specials\, free jukebox and prizes for the ugliest sweater contest winners! \nEvent codes ccchr ccfb ccsoc
URL:https://www.wlcnonline.com/event/3rd-annual-ugly-sweater-party-at-the-thirsty-barrel-in-mason-city/
LOCATION:The Thirsty Barrel in Mason City\, 118 S. Tonica Street\, Mason City\, IL\, 62664\, United States
ORGANIZER;CN="The Thirsty Barrel in Mason City":MAILTO:thirstybarrelbar@gmail.com
END:VEVENT
BEGIN:VEVENT
DTSTART;TZID=America/Chicago:20251213T190000
DTEND;TZID=America/Chicago:20251213T220000
DTSTAMP:20260420T164244
CREATED:20251205T045543Z
LAST-MODIFIED:20251205T045543Z
UID:10021205-1765652400-1765663200@www.wlcnonline.com
SUMMARY:Live music by Spoony & The Bootleggers at Minier Tap in Minier
DESCRIPTION:This 4-piece band brings a fresh take to classic sounds of outlaw country\, bluegrass and southern rock music. Spoony & The Bootleggers features a driving rhythm section\, acoustic lead guitars\, and vocal harmonies to get audience members moving and grooving. \nEvent codes ccent cclm ccfb
URL:https://www.wlcnonline.com/event/live-music-by-spoony-the-bootleggers-at-minier-tap-in-minier-2/
LOCATION:Minier Tap\, 121 S. Main Avenue\, Minier\, IL\, 61759\, United States
END:VEVENT
END:VCALENDAR