BEGIN:VCALENDAR
VERSION:2.0
PRODID:-//WLCN 96.3 FM - ECPv6.15.20//NONSGML v1.0//EN
CALSCALE:GREGORIAN
METHOD:PUBLISH
X-ORIGINAL-URL:https://www.wlcnonline.com
X-WR-CALDESC:Events for WLCN 96.3 FM
REFRESH-INTERVAL;VALUE=DURATION:PT1H
X-Robots-Tag:noindex
X-PUBLISHED-TTL:PT1H
BEGIN:VTIMEZONE
TZID:America/Chicago
BEGIN:DAYLIGHT
TZOFFSETFROM:-0600
TZOFFSETTO:-0500
TZNAME:CDT
DTSTART:20240310T080000
END:DAYLIGHT
BEGIN:STANDARD
TZOFFSETFROM:-0500
TZOFFSETTO:-0600
TZNAME:CST
DTSTART:20241103T070000
END:STANDARD
BEGIN:DAYLIGHT
TZOFFSETFROM:-0600
TZOFFSETTO:-0500
TZNAME:CDT
DTSTART:20250309T080000
END:DAYLIGHT
BEGIN:STANDARD
TZOFFSETFROM:-0500
TZOFFSETTO:-0600
TZNAME:CST
DTSTART:20251102T070000
END:STANDARD
BEGIN:DAYLIGHT
TZOFFSETFROM:-0600
TZOFFSETTO:-0500
TZNAME:CDT
DTSTART:20260308T080000
END:DAYLIGHT
BEGIN:STANDARD
TZOFFSETFROM:-0500
TZOFFSETTO:-0600
TZNAME:CST
DTSTART:20261101T070000
END:STANDARD
END:VTIMEZONE
BEGIN:VEVENT
DTSTART;TZID=America/Chicago:20251208T100000
DTEND;TZID=America/Chicago:20251208T104500
DTSTAMP:20260420T151241
CREATED:20250814T215225Z
LAST-MODIFIED:20260115T152229Z
UID:10020637-1765188000-1765190700@www.wlcnonline.com
SUMMARY:Chair yoga by Silver Fox Fitness at The Villas at Lincoln﻿
DESCRIPTION:Seated and standing poses will be utilized with the goal of increasing flexibility\, balance and strength along with providing relaxation. Participants never get down on the floor. \nEvent codes: ccfs\, cchwf
URL:https://www.wlcnonline.com/event/chair-yoga-by-silver-fox-fitness-at-the-villas-at-lincoln/2025-12-08/
LOCATION:Villas at Lincoln (formerly The Christian Village) in Lincoln\, 1507 7th Street\, Lincoln\, IL\, 62656\, United States
END:VEVENT
BEGIN:VEVENT
DTSTART;TZID=America/Chicago:20251208T130000
DTEND;TZID=America/Chicago:20251208T143000
DTSTAMP:20260420T151241
CREATED:20250625T183317Z
LAST-MODIFIED:20250626T203816Z
UID:10020317-1765198800-1765204200@www.wlcnonline.com
SUMMARY:Marvelous Mondays event by the Educational Center for the Visually Impaired at The Oasis Senior Center in Lincoln
DESCRIPTION:These free events are intended for anyone who is blind or visually impaired to connect with each another and learn how to navigate life independently. Events take place on the second Monday of each month at The Oasis Senior Center.  Guest speakers scheduled for the upcoming months are: \nJuly – Dave Jackson; Topic: Problems of going Blind\nAugust – Stephanie Hall\, Master Gardener; Topic: Talking about micro greens\nSeptember – Tom Ewald; Topic: Talking about his book\, “Judas and the Criminal Mind”\nOctober – Dave Jackson; Topic: Problems of going blind\nNovember – To be Determined\nDecember – Christmas Party \nLight refreshments will be served. \nEvent codes ccsen ccfre ccedu
URL:https://www.wlcnonline.com/event/marvelous-monday-event-by-the-educational-center-for-the-visually-impaired-at-the-oasis-senior-center-in-lincoln/2025-12-08/
LOCATION:Oasis Senior Center\, 2810 Woodlawn Road\, Lincoln\, IL\, 62656\, United States
ORGANIZER;CN="Educational Center for the Visually Impaired":MAILTO:pdyson@edcentervi.org
END:VEVENT
BEGIN:VEVENT
DTSTART;TZID=America/Chicago:20251208T180000
DTEND;TZID=America/Chicago:20251208T190000
DTSTAMP:20260420T151241
CREATED:20250227T215503Z
LAST-MODIFIED:20251231T163530Z
UID:10019262-1765216800-1765220400@www.wlcnonline.com
SUMMARY:Co-Dependents Anonymous (CoDA) meetings by Land of Lincoln Recovery Group at Hope on 5th in Lincoln
DESCRIPTION:Meetings are free to attend and take place at 6 PM Mondays. \nEvent codes
URL:https://www.wlcnonline.com/event/co-dependents-anonymous-coda-meetings-by-land-of-lincoln-recovery-group-at-hope-on-5th-in-lincoln/2025-12-08/
LOCATION:Hope on 5th in Lincoln\, 200 5th Street\, Lincoln\, 62656\, United States
ORGANIZER;CN="Logan Mason Recovery Oriented Systems of Care (ROSC)":MAILTO:jedavis@chestnut.org
END:VEVENT
BEGIN:VEVENT
DTSTART;TZID=America/Chicago:20251208T180000
DTEND;TZID=America/Chicago:20251208T200000
DTSTAMP:20260420T151241
CREATED:20250725T024845Z
LAST-MODIFIED:20251231T163623Z
UID:10020587-1765216800-1765224000@www.wlcnonline.com
SUMMARY:Music bingo at Copper & Oak Bourbon & Craft Beer Bar in Lincoln
DESCRIPTION:Music bingo is like regular bingo\, except of numbers being called\, segments of songs are played; if you can identify the song played and it is on your bingo card\, cross it off and continue doing so until someone gets bingo. \nMusic bingo is free to play. \nEvent codes ccbin ccsoc ccfb
URL:https://www.wlcnonline.com/event/music-bingo-at-copper-oak-bourbon-craft-beer-bar-in-lincoln/2025-12-08/
LOCATION:Copper & Oak in Lincoln\, 227 N. Kickapoo Street\, Lincoln\, IL\, 62656\, United States
END:VEVENT
BEGIN:VEVENT
DTSTART;TZID=America/Chicago:20251208T183000
DTEND;TZID=America/Chicago:20251208T203000
DTSTAMP:20260420T151241
CREATED:20251126T175304Z
LAST-MODIFIED:20251205T052743Z
UID:10021162-1765218600-1765225800@www.wlcnonline.com
SUMMARY:December card making event at Interurban Merchant in Williamsville
DESCRIPTION:Interurban Merchant is hosting this creative event for attendees to make four unique handcrafted cards for sending or giving\, all while enjoying a cool or warm beverage of choice. All card supplies\, specialty tools and instructions will be provided\, but attendees should bring scissors and adhesive (tape runner type works best). \nCost is $20 and includes the costs of supplies and instruction. Participants will also get a free beverage. \nDue to a limited number of spaces\, those planning to attend are asked to RSVP by November 30 so supply kits can be prepared. Interested persons can text or call (217) 741-1688 to confirm availability and reserve a spot. \nEvent codes ccaca ccsoc
URL:https://www.wlcnonline.com/event/december-card-making-event-at-interurban-merchant-in-williamsville/
LOCATION:Interurban Merchant in Williamsville\, 112 W. Main Street\, Williamsville\, IL\, 62693\, United States
ORGANIZER;CN="Interurban Merchant":MAILTO:interurbanmerchant@gmail.com
END:VEVENT
BEGIN:VEVENT
DTSTART;TZID=America/Chicago:20251208T190000
DTEND;TZID=America/Chicago:20251208T200000
DTSTAMP:20260420T151241
CREATED:20250227T220659Z
LAST-MODIFIED:20251231T163725Z
UID:10019369-1765220400-1765224000@www.wlcnonline.com
SUMMARY:Alcoholics Anonymous meetings at Trinity Episcopal Church in Lincoln
DESCRIPTION:Meetings are free to attend and take place at the following times: \n\nMondays at 7 PM\nWednesdays at 6 PM\nFridays at 11 AM\nSundays at 6 PM\n\nEvent codes
URL:https://www.wlcnonline.com/event/alcoholics-anonymous-meetings-at-trinity-episcopal-church-in-lincoln/2025-12-08/
LOCATION:Trinity Episcopal Church in Lincoln\, 402 Pekin Street\, Lincoln\, 62656\, United States
ORGANIZER;CN="Logan Mason Recovery Oriented Systems of Care (ROSC)":MAILTO:jedavis@chestnut.org
END:VEVENT
END:VCALENDAR