BEGIN:VCALENDAR
VERSION:2.0
PRODID:-//WLCN 96.3 FM - ECPv6.15.20//NONSGML v1.0//EN
CALSCALE:GREGORIAN
METHOD:PUBLISH
X-ORIGINAL-URL:https://www.wlcnonline.com
X-WR-CALDESC:Events for WLCN 96.3 FM
REFRESH-INTERVAL;VALUE=DURATION:PT1H
X-Robots-Tag:noindex
X-PUBLISHED-TTL:PT1H
BEGIN:VTIMEZONE
TZID:America/Chicago
BEGIN:DAYLIGHT
TZOFFSETFROM:-0600
TZOFFSETTO:-0500
TZNAME:CDT
DTSTART:20240310T080000
END:DAYLIGHT
BEGIN:STANDARD
TZOFFSETFROM:-0500
TZOFFSETTO:-0600
TZNAME:CST
DTSTART:20241103T070000
END:STANDARD
BEGIN:DAYLIGHT
TZOFFSETFROM:-0600
TZOFFSETTO:-0500
TZNAME:CDT
DTSTART:20250309T080000
END:DAYLIGHT
BEGIN:STANDARD
TZOFFSETFROM:-0500
TZOFFSETTO:-0600
TZNAME:CST
DTSTART:20251102T070000
END:STANDARD
BEGIN:DAYLIGHT
TZOFFSETFROM:-0600
TZOFFSETTO:-0500
TZNAME:CDT
DTSTART:20260308T080000
END:DAYLIGHT
BEGIN:STANDARD
TZOFFSETFROM:-0500
TZOFFSETTO:-0600
TZNAME:CST
DTSTART:20261101T070000
END:STANDARD
END:VTIMEZONE
BEGIN:VEVENT
DTSTART;TZID=America/Chicago:20251205T110000
DTEND;TZID=America/Chicago:20251205T120000
DTSTAMP:20260420T151236
CREATED:20250227T220937Z
LAST-MODIFIED:20251231T160939Z
UID:10019456-1764932400-1764936000@www.wlcnonline.com
SUMMARY:Alcoholics Anonymous meetings at Trinity Episcopal Church in Lincoln
DESCRIPTION:Meetings are free to attend and take place at the following times: \n\nMondays at 7 PM\nWednesdays at 6 PM\nFridays at 11 AM\nSundays at 6 PM\n\nEvent codes
URL:https://www.wlcnonline.com/event/alcoholics-anonymous-meetings-at-trinity-episcopal-church-in-lincoln-3/2025-12-05/
LOCATION:Trinity Episcopal Church in Lincoln\, 402 Pekin Street\, Lincoln\, 62656\, United States
ORGANIZER;CN="Logan Mason Recovery Oriented Systems of Care (ROSC)":MAILTO:jedavis@chestnut.org
END:VEVENT
BEGIN:VEVENT
DTSTART;TZID=America/Chicago:20251205T120000
DTEND;TZID=America/Chicago:20251205T133000
DTSTAMP:20260420T151236
CREATED:20250227T221857Z
LAST-MODIFIED:20251231T161051Z
UID:10019631-1764936000-1764941400@www.wlcnonline.com
SUMMARY:SMART (Self-Management and Recovery Training) recovery meetings at Hope on 5th in Lincoln
DESCRIPTION:Meetings are free to attend and take place Fridays from noon to 1:30 PM. \nEvent codes
URL:https://www.wlcnonline.com/event/smart-self-management-and-recovery-training-recovery-meetings-at-hope-on-5th-in-lincoln/2025-12-05/
LOCATION:Hope on 5th in Lincoln\, 200 5th Street\, Lincoln\, 62656\, United States
ORGANIZER;CN="Logan Mason Recovery Oriented Systems of Care (ROSC)":MAILTO:jedavis@chestnut.org
END:VEVENT
BEGIN:VEVENT
DTSTART;TZID=America/Chicago:20251205T160000
DTEND;TZID=America/Chicago:20251205T230000
DTSTAMP:20260420T151236
CREATED:20251126T200003Z
LAST-MODIFIED:20251126T200003Z
UID:10021169-1764950400-1764975600@www.wlcnonline.com
SUMMARY:10 year anniversary celebration at Spirited Republic/Limerick Brewing Company in Lincoln
DESCRIPTION:Spirited Republic will celebrate 10 years of craft beer\, community and countless good times in an event on December 5. Slated to happen at the event are: \n\nLive music\nSpecial beer releases\nGiveaways\nAnd plenty of celebrating with patrons. \nEvent codes cclbep ccsoc ccfb
URL:https://www.wlcnonline.com/event/10-year-anniversary-celebration-at-spirited-republic-limerick-brewing-company-in-lincoln/
LOCATION:Spirited Republic in Lincoln\, 509 Pulaski Street\, Lincoln\, IL\, 62656\, United States
ORGANIZER;CN="Spirited Republic/Limerick Brewing Company":MAILTO:spiritedrepublic@gmail.com
END:VEVENT
BEGIN:VEVENT
DTSTART;TZID=America/Chicago:20251205T173000
DTEND;TZID=America/Chicago:20251205T183000
DTSTAMP:20260420T151236
CREATED:20251126T200458Z
LAST-MODIFIED:20251126T200458Z
UID:10021170-1764955800-1764959400@www.wlcnonline.com
SUMMARY:Christmas in the Park holiday tree lighting event in Elkhart
DESCRIPTION:Citizens are invited to bring family\, friends\, and neighbors to kick off the holiday season with Elkhart’s holiday festivities\, including Christmas caroling\, hot chocolate and cookies. Santa is scheduled to arrive at 6 PM to light the tree. \nEvent codes ccff ccchr ccfb ccfk ccsoc
URL:https://www.wlcnonline.com/event/christmas-in-the-park-holiday-tree-lighting-event-in-elkhart/
LOCATION:Village of Elkhart\, IL\, 103 Governor Oglesby Street\, Elkhart\, IL\, 62634\, United States
END:VEVENT
BEGIN:VEVENT
DTSTART;TZID=America/Chicago:20251205T173000
DTEND;TZID=America/Chicago:20251205T193000
DTSTAMP:20260420T151236
CREATED:20251126T201037Z
LAST-MODIFIED:20251126T201037Z
UID:10021171-1764955800-1764963000@www.wlcnonline.com
SUMMARY:Pizza and PJs with Santa at Lincoln Park District
DESCRIPTION:Bring the family and wear your comfiest pajamas for a night of crafts\, pizza for all along with Santa! Click here to register for the event. \nEvent codes ccff ccfk ccaca ccchr ccfb
URL:https://www.wlcnonline.com/event/pizza-and-pjs-with-santa-at-lincoln-park-district/
LOCATION:Lincoln Park District\, 1400 Primm Road\, Lincoln\, IL\, 62656\, United States
ORGANIZER;CN="Lincoln Park District":MAILTO:info@lincolnparkdistrict.com
END:VEVENT
BEGIN:VEVENT
DTSTART;TZID=America/Chicago:20251205T180000
DTEND;TZID=America/Chicago:20251205T190000
DTSTAMP:20260420T151236
CREATED:20250227T214713Z
LAST-MODIFIED:20251231T161900Z
UID:10019074-1764957600-1764961200@www.wlcnonline.com
SUMMARY:Alcoholics Anonymous meetings by Land of Lincoln Recovery Group at Hope on 5th in Lincoln
DESCRIPTION:Meetings are free to attend and take place at 6 PM on Tuesdays\, Wednesdays\, Fridays and Saturdays as well as at 9 AM on Saturdays and Sundays. \nEvent codes
URL:https://www.wlcnonline.com/event/alcoholics-anonymous-meetings-by-land-of-lincoln-recovery-group-at-hope-on-5th-in-lincoln/2025-12-05/
LOCATION:Hope on 5th in Lincoln\, 200 5th Street\, Lincoln\, 62656\, United States
ORGANIZER;CN="Logan Mason Recovery Oriented Systems of Care (ROSC)":MAILTO:jedavis@chestnut.org
END:VEVENT
BEGIN:VEVENT
DTSTART;TZID=America/Chicago:20251205T180000
DTEND;TZID=America/Chicago:20251205T190000
DTSTAMP:20260420T151236
CREATED:20250227T215905Z
LAST-MODIFIED:20251231T161347Z
UID:10019275-1764957600-1764961200@www.wlcnonline.com
SUMMARY:Veterans recovery group meetings by Never Alone at Hope on 5th in Lincoln
DESCRIPTION:Meetings are free to attend and take place at 6 PM on the first and third Fridays of the month. \nEvent codes
URL:https://www.wlcnonline.com/event/veterans-recovery-group-meetings-by-never-alone-at-hope-on-5th-in-lincoln/2025-12-05/
LOCATION:Hope on 5th in Lincoln\, 200 5th Street\, Lincoln\, 62656\, United States
ORGANIZER;CN="Logan Mason Recovery Oriented Systems of Care (ROSC)":MAILTO:jedavis@chestnut.org
END:VEVENT
BEGIN:VEVENT
DTSTART;TZID=America/Chicago:20251205T180000
DTEND;TZID=America/Chicago:20251205T213000
DTSTAMP:20260420T151236
CREATED:20251126T203256Z
LAST-MODIFIED:20251126T203256Z
UID:10021174-1764957600-1764970200@www.wlcnonline.com
SUMMARY:Outrageous Christmas party at LaTeaDa Boutique and Tea Room in Clinton
DESCRIPTION:Every guest leads this event with a present. There will be a four-course dinner will include soup\, salad\, main entree and festive dessert. \nThe Boutique will open at 5:30 PM and remain open for party guests until 9 PM. Shoppers and attendees are encouraged to wear their most festive items to be eligible with gifts. \nCost is $35 per person and includes the cost of the meal\, non-alcoholic beverages and inclusion in the event. \nTickets must be purchased by calling LaTeaDa at (217) 935-8855 (one reservation/credit card order per entire group\, please). \nAlcoholic beverages will be available via cash bar also. \nTickets are non-refundable\, but transferable. Attendees must be 18 or older. \nEvent codes ccchr ccsoc ccfb cclbep
URL:https://www.wlcnonline.com/event/outrageous-christmas-party-at-lateada-boutique-and-tea-room-in-clinton/
LOCATION:LaTeaDa Cafe/Barn Bar/Events in Clinton\, 1100 S. Madison Street\, Clinton\, IL\, 61727\, United States
ORGANIZER;CN="LaTeaDa Cafe/Barn Bar/Events":MAILTO:lateadaladies@gmail.com
END:VEVENT
END:VCALENDAR