BEGIN:VCALENDAR
VERSION:2.0
PRODID:-//WLCN 96.3 FM - ECPv6.15.20//NONSGML v1.0//EN
CALSCALE:GREGORIAN
METHOD:PUBLISH
X-WR-CALNAME:WLCN 96.3 FM
X-ORIGINAL-URL:https://www.wlcnonline.com
X-WR-CALDESC:Events for WLCN 96.3 FM
REFRESH-INTERVAL;VALUE=DURATION:PT1H
X-Robots-Tag:noindex
X-PUBLISHED-TTL:PT1H
BEGIN:VTIMEZONE
TZID:America/Chicago
BEGIN:DAYLIGHT
TZOFFSETFROM:-0600
TZOFFSETTO:-0500
TZNAME:CDT
DTSTART:20240310T080000
END:DAYLIGHT
BEGIN:STANDARD
TZOFFSETFROM:-0500
TZOFFSETTO:-0600
TZNAME:CST
DTSTART:20241103T070000
END:STANDARD
BEGIN:DAYLIGHT
TZOFFSETFROM:-0600
TZOFFSETTO:-0500
TZNAME:CDT
DTSTART:20250309T080000
END:DAYLIGHT
BEGIN:STANDARD
TZOFFSETFROM:-0500
TZOFFSETTO:-0600
TZNAME:CST
DTSTART:20251102T070000
END:STANDARD
BEGIN:DAYLIGHT
TZOFFSETFROM:-0600
TZOFFSETTO:-0500
TZNAME:CDT
DTSTART:20260308T080000
END:DAYLIGHT
BEGIN:STANDARD
TZOFFSETFROM:-0500
TZOFFSETTO:-0600
TZNAME:CST
DTSTART:20261101T070000
END:STANDARD
END:VTIMEZONE
BEGIN:VEVENT
DTSTART;TZID=America/Chicago:20251202T050000
DTEND;TZID=America/Chicago:20251202T180000
DTSTAMP:20260420T162718
CREATED:20260102T002551Z
LAST-MODIFIED:20260102T002617Z
UID:10021397-1764651600-1764698400@www.wlcnonline.com
SUMMARY:New Year Reformer class at Imago del Pilates Studio in Lincoln
DESCRIPTION:On January 2\, all reformer classes at Imago Del Pilates will feature a Ring In The New Year kickoff – complete with a festive playlist and a special focus on the Pilates Ring (also known as the magic circle). \nThis prop provides feedback and resistance to help participants move with purpose – activating the core\, sculpting the arms and legs\, and supporting mindful alignment to help reset your rhythm and begin the year feeling strong from the inside out. \nAll levels welcome. Modifications are always available. \nEvent code cchwf
URL:https://www.wlcnonline.com/event/new-year-reformer-class-at-imago-del-pilates-studio-in-lincoln-4/
LOCATION:Imago Dei Pilates Studio at the Dugan Center in Lincoln\, 1500 N McLean Street\, Suite 5\, Lincoln\, 62656\, United States
ORGANIZER;CN="Imago Dei Pilates":MAILTO:info@imagopilates.com
END:VEVENT
BEGIN:VEVENT
DTSTART;TZID=America/Chicago:20251202T170000
DTEND;TZID=America/Chicago:20251202T190000
DTSTAMP:20260420T162718
CREATED:20251126T175528Z
LAST-MODIFIED:20251126T175528Z
UID:10021163-1764694800-1764702000@www.wlcnonline.com
SUMMARY:Adult winter/Christmas sign craft time at Mt. Pulaski Public Library in Mt. Pulaski
DESCRIPTION:Attendees can make either a Christmas-themed or winter-themed decorative sign during this session. \nAdvance registration is required and limited to 20 people. Registration can be completed in person at the library or by calling (217) 792-5919. \nIf anyone signs up and then is unable to attend\, please let the library know so the space can be given to someone else. \nEvent codes ccaca ccfa21 ccsoc
URL:https://www.wlcnonline.com/event/adult-winter-christmas-sign-craft-time-at-mt-pulaski-public-library-in-mt-pulaski/
LOCATION:Mt. Pulaski Public Library\, 320 N. Washington Street\, Mt. Pulaski\, IL\, 62548\, United States
ORGANIZER;CN="Mt. Pulaski Public Library District":MAILTO:mtpulaskipubliclibrary@gmail.com
END:VEVENT
BEGIN:VEVENT
DTSTART;TZID=America/Chicago:20251202T170000
DTEND;TZID=America/Chicago:20251202T200000
DTSTAMP:20260420T162718
CREATED:20250130T142928Z
LAST-MODIFIED:20250228T024515Z
UID:10018090-1764694800-1764705600@www.wlcnonline.com
SUMMARY:Fundraiser for Faith Church of Lincoln at Culver's of Lincoln
DESCRIPTION:Purchase food from Culver’s of Lincoln and help support a worthy cause whether dining in\, carrying out\, using the drive-thru or ordering through DoorDash. During the hours of the fundraiser\, a portion of all proceeds will be donated to the organization. \nEvent codes ccfb\, ccfdd
URL:https://www.wlcnonline.com/event/fundraiser-for-faith-church-of-lincoln-at-culvers-of-lincoln/2025-12-02/
LOCATION:Culver’s of Lincoln\, 2530 Woodlawn Road\, Lincoln\, IL\, 62656\, United States
ORGANIZER;CN="Culver's of Lincoln":MAILTO:lincolnculvers@comcast.net
END:VEVENT
BEGIN:VEVENT
DTSTART;TZID=America/Chicago:20251202T170000
DTEND;TZID=America/Chicago:20251202T203000
DTSTAMP:20260420T162719
CREATED:20250220T233455Z
LAST-MODIFIED:20251231T163935Z
UID:10018887-1764694800-1764707400@www.wlcnonline.com
SUMMARY:Tuesday night bingo (meal @ 5 PM\, bingo @ 6:30 PM) at Oasis Senior Center in Lincoln﻿
DESCRIPTION:Bingo takes place on Tuesday evenings from 6:30 PM to 8:30 PM and is open to the public. Doors open at 5 PM for a meal\, snack and beverages. \nEvent codes ccgc ccbin ccfb ccsoc
URL:https://www.wlcnonline.com/event/tuesday-night-bingo-meal-5-pm-bingo-630-pm-at-oasis-senior-center-in-lincoln/2025-12-02/
LOCATION:Oasis Senior Center\, 2810 Woodlawn Road\, Lincoln\, IL\, 62656\, United States
ORGANIZER;CN="Oasis Senior Center":MAILTO:nancy@oasisseniorcenter.com
END:VEVENT
BEGIN:VEVENT
DTSTART;TZID=America/Chicago:20251202T173000
DTEND;TZID=America/Chicago:20251202T183000
DTSTAMP:20260420T162719
CREATED:20251126T180353Z
LAST-MODIFIED:20251126T194345Z
UID:10021164-1764696600-1764700200@www.wlcnonline.com
SUMMARY:Light Up a Life tree lighting ceremony by Lincoln Memorial Hospital Foundation at Lincoln Memorial Hospital
DESCRIPTION:The Lincoln Memorial Foundation invites the public to help kick off its Light Up a Life campaign at this tree lighting ceremony. Funds raised stay in the community and allow the Lincoln Memorial Foundation to provide healthcare career education grants\, purchase medical equipment to improve patient care\, strengthen the LMH Community Health Collaborative\, and enhance the vital programs of the LMH Auxiliary. \nThis 38th annual Tree-Lighting Ceremony takes place Tuesday\, December 2 at 5:30 PM in front of Lincoln Memorial Hospital. The ceremony will celebrate loved ones and honor those gone before us. A free soup dinner (available as dine-in or grab-and-go) will be available for those who RSVP for the dinner. \nThose interested  can make a gift in honor\, remembrance or appreciation of someone special. Honorary names will be printed in special online-only editions of The Courier\, Lincoln Daily News and New Herald News. Deadline for names to be included in the online editions is Dec. 5. Click here for more information\, to RSVP for the soup dinner (before Nov. 21)\, or to donate and submit names. \nEvent codes ccchr ccfdd cchwf
URL:https://www.wlcnonline.com/event/light-up-a-life-tree-lighting-ceremony-by-lincoln-memorial-hospital-foundation-at-lincoln-memorial-hospital/
LOCATION:Lincoln Memorial Hospital\, 200 Stahlhut Drive\, Lincoln\, IL\, 62656\, United States
END:VEVENT
BEGIN:VEVENT
DTSTART;TZID=America/Chicago:20251202T180000
DTEND;TZID=America/Chicago:20251202T190000
DTSTAMP:20260420T162719
CREATED:20250227T214713Z
LAST-MODIFIED:20251231T161900Z
UID:10019072-1764698400-1764702000@www.wlcnonline.com
SUMMARY:Alcoholics Anonymous meetings by Land of Lincoln Recovery Group at Hope on 5th in Lincoln
DESCRIPTION:Meetings are free to attend and take place at 6 PM on Tuesdays\, Wednesdays\, Fridays and Saturdays as well as at 9 AM on Saturdays and Sundays. \nEvent codes
URL:https://www.wlcnonline.com/event/alcoholics-anonymous-meetings-by-land-of-lincoln-recovery-group-at-hope-on-5th-in-lincoln/2025-12-02/
LOCATION:Hope on 5th in Lincoln\, 200 5th Street\, Lincoln\, 62656\, United States
ORGANIZER;CN="Logan Mason Recovery Oriented Systems of Care (ROSC)":MAILTO:jedavis@chestnut.org
END:VEVENT
BEGIN:VEVENT
DTSTART;TZID=America/Chicago:20251202T200000
DTEND;TZID=America/Chicago:20251203T000000
DTSTAMP:20260420T162719
CREATED:20251126T193848Z
LAST-MODIFIED:20251126T194015Z
UID:10020556-1764705600-1764720000@www.wlcnonline.com
SUMMARY:Disney karaoke night at The Rusty Rail Pub in Lincoln
DESCRIPTION:Karaoke events are scheduled at the Rusty Rail each Tuesday night from 8 PM to midnight\, but this one will have a magical twist as it will consist only of Disney tunes. \nEvent codes ccfb ccent cckar
URL:https://www.wlcnonline.com/event/disney-karaoke-night-at-the-rusty-rail-pub-in-lincoln/
LOCATION:The Rusty Rail Pub in Lincoln\, 405 Pulaski Street\, Lincoln\, IL\, 62656\, United States
END:VEVENT
END:VCALENDAR