BEGIN:VCALENDAR
VERSION:2.0
PRODID:-//WLCN 96.3 FM - ECPv6.15.20//NONSGML v1.0//EN
CALSCALE:GREGORIAN
METHOD:PUBLISH
X-WR-CALNAME:WLCN 96.3 FM
X-ORIGINAL-URL:https://www.wlcnonline.com
X-WR-CALDESC:Events for WLCN 96.3 FM
REFRESH-INTERVAL;VALUE=DURATION:PT1H
X-Robots-Tag:noindex
X-PUBLISHED-TTL:PT1H
BEGIN:VTIMEZONE
TZID:America/Chicago
BEGIN:DAYLIGHT
TZOFFSETFROM:-0600
TZOFFSETTO:-0500
TZNAME:CDT
DTSTART:20240310T080000
END:DAYLIGHT
BEGIN:STANDARD
TZOFFSETFROM:-0500
TZOFFSETTO:-0600
TZNAME:CST
DTSTART:20241103T070000
END:STANDARD
BEGIN:DAYLIGHT
TZOFFSETFROM:-0600
TZOFFSETTO:-0500
TZNAME:CDT
DTSTART:20250309T080000
END:DAYLIGHT
BEGIN:STANDARD
TZOFFSETFROM:-0500
TZOFFSETTO:-0600
TZNAME:CST
DTSTART:20251102T070000
END:STANDARD
BEGIN:DAYLIGHT
TZOFFSETFROM:-0600
TZOFFSETTO:-0500
TZNAME:CDT
DTSTART:20260308T080000
END:DAYLIGHT
BEGIN:STANDARD
TZOFFSETFROM:-0500
TZOFFSETTO:-0600
TZNAME:CST
DTSTART:20261101T070000
END:STANDARD
END:VTIMEZONE
BEGIN:VEVENT
DTSTART;TZID=America/Chicago:20251128T100000
DTEND;TZID=America/Chicago:20251128T180000
DTSTAMP:20260420T213951
CREATED:20251120T210412Z
LAST-MODIFIED:20251120T210610Z
UID:10021143-1764324000-1764352800@www.wlcnonline.com
SUMMARY:Holiday sales event at Beauty of a Site in Delavan
DESCRIPTION:Attendees will enjoy shopping special “doorbusters” deals and special promotions. \nEvent codes cclbep
URL:https://www.wlcnonline.com/event/black-friday-small-business-saturday-event-at-beauty-of-a-site-in-delavan/2025-11-28/
LOCATION:Beauty of a Site in Delavan\, 302 Locust Street\, Delavan\, IL\, 61734\, United States
ORGANIZER;CN="Beauty of a Site":MAILTO:info@beautyofasite.com
END:VEVENT
BEGIN:VEVENT
DTSTART;TZID=America/Chicago:20251128T110000
DTEND;TZID=America/Chicago:20251128T120000
DTSTAMP:20260420T213951
CREATED:20250227T220937Z
LAST-MODIFIED:20251231T160939Z
UID:10019455-1764327600-1764331200@www.wlcnonline.com
SUMMARY:Alcoholics Anonymous meetings at Trinity Episcopal Church in Lincoln
DESCRIPTION:Meetings are free to attend and take place at the following times: \n\nMondays at 7 PM\nWednesdays at 6 PM\nFridays at 11 AM\nSundays at 6 PM\n\nEvent codes
URL:https://www.wlcnonline.com/event/alcoholics-anonymous-meetings-at-trinity-episcopal-church-in-lincoln-3/2025-11-28/
LOCATION:Trinity Episcopal Church in Lincoln\, 402 Pekin Street\, Lincoln\, 62656\, United States
ORGANIZER;CN="Logan Mason Recovery Oriented Systems of Care (ROSC)":MAILTO:jedavis@chestnut.org
END:VEVENT
BEGIN:VEVENT
DTSTART;TZID=America/Chicago:20251128T120000
DTEND;TZID=America/Chicago:20251128T133000
DTSTAMP:20260420T213951
CREATED:20250227T221857Z
LAST-MODIFIED:20251231T161051Z
UID:10019630-1764331200-1764336600@www.wlcnonline.com
SUMMARY:SMART (Self-Management and Recovery Training) recovery meetings at Hope on 5th in Lincoln
DESCRIPTION:Meetings are free to attend and take place Fridays from noon to 1:30 PM. \nEvent codes
URL:https://www.wlcnonline.com/event/smart-self-management-and-recovery-training-recovery-meetings-at-hope-on-5th-in-lincoln/2025-11-28/
LOCATION:Hope on 5th in Lincoln\, 200 5th Street\, Lincoln\, 62656\, United States
ORGANIZER;CN="Logan Mason Recovery Oriented Systems of Care (ROSC)":MAILTO:jedavis@chestnut.org
END:VEVENT
BEGIN:VEVENT
DTSTART;TZID=America/Chicago:20251128T173000
DTEND;TZID=America/Chicago:20251128T180000
DTSTAMP:20260420T213951
CREATED:20251120T225127Z
LAST-MODIFIED:20251120T231014Z
UID:10021149-1764351000-1764352800@www.wlcnonline.com
SUMMARY:2025 Lighting of Christmas Tree Winter Wonderland in Downtown Lincoln
DESCRIPTION:The lighting of the Christmas trees around the Logan County Courthouse will take place at 5:30 PM. \nEvent codes ccchr ccfce ccfre
URL:https://www.wlcnonline.com/event/2025-lighting-of-christmas-tree-winter-wonderland-in-downtown-lincoln/
LOCATION:Downtown Lincoln\, 166 S. Kickapoo Street\, Lincoln\, IL\, 62656\, United States
ORGANIZER;CN="Small Town Creations":MAILTO:smalltowncreations16@gmail.com
END:VEVENT
BEGIN:VEVENT
DTSTART;TZID=America/Chicago:20251128T180000
DTEND;TZID=America/Chicago:20251128T190000
DTSTAMP:20260420T213951
CREATED:20250227T214713Z
LAST-MODIFIED:20251231T161900Z
UID:10019070-1764352800-1764356400@www.wlcnonline.com
SUMMARY:Alcoholics Anonymous meetings by Land of Lincoln Recovery Group at Hope on 5th in Lincoln
DESCRIPTION:Meetings are free to attend and take place at 6 PM on Tuesdays\, Wednesdays\, Fridays and Saturdays as well as at 9 AM on Saturdays and Sundays. \nEvent codes
URL:https://www.wlcnonline.com/event/alcoholics-anonymous-meetings-by-land-of-lincoln-recovery-group-at-hope-on-5th-in-lincoln/2025-11-28/
LOCATION:Hope on 5th in Lincoln\, 200 5th Street\, Lincoln\, 62656\, United States
ORGANIZER;CN="Logan Mason Recovery Oriented Systems of Care (ROSC)":MAILTO:jedavis@chestnut.org
END:VEVENT
BEGIN:VEVENT
DTSTART;TZID=America/Chicago:20251128T180000
DTEND;TZID=America/Chicago:20251128T210000
DTSTAMP:20260420T213951
CREATED:20251120T225746Z
LAST-MODIFIED:20251120T225746Z
UID:10021150-1764352800-1764363600@www.wlcnonline.com
SUMMARY:2025 horse-drawn carriage rides around the square in downtown Lincoln
DESCRIPTION:Get into the holiday spirit with a *free* ride around the historic Logan County Courthouse on the square in downtown Lincoln. \nPick up and drop off will be in front of the Arcade on Pulaski Street. A sign-up sheet will be available at the pick-up and drop-off location. Once checked in\, you can shop local downtown businesses and enjoy the decorated trees on the square until their scheduled ride time. click here to learn more. \nEvent codes ccchr ccfre ccff
URL:https://www.wlcnonline.com/event/2025-horse-drawn-carriage-rides-around-the-square-in-downtown-lincoln/2025-11-28/
LOCATION:In front of the Arcade Building in Downtown Lincoln\, 513 Pulaski Street\, Lincoln\, IL\, 62656\, United States
ORGANIZER;CN="Downtown Lincoln Illinois":MAILTO:info@downtownlincolnillinois.com
END:VEVENT
BEGIN:VEVENT
DTSTART;TZID=America/Chicago:20251128T190000
DTEND;TZID=America/Chicago:20251128T203000
DTSTAMP:20260420T213951
CREATED:20251120T210121Z
LAST-MODIFIED:20251120T210121Z
UID:10021140-1764356400-1764361800@www.wlcnonline.com
SUMMARY:Lincoln Community Theatre presents "A Christmas Extravaganza" at Lincoln Community High School Auditorium in Lincoln
DESCRIPTION:Start the holiday season with family and friends right by joining performers from Lincoln Community Theatre for a Christmas show full of classic Christmas favorites and comedy. Tickets cost $16 for the general public and $11 for students (with a $1 discount per ticket for cash). Tickets can be purchased at the door prior to the performance. \nThis event has festival/non-reserved seating. Tickets will be available for purchase one hour prior to the event; doors into the theater open 30 minutes prior to the show. \nEvent codes ccent ccff cclm cclc ccchr
URL:https://www.wlcnonline.com/event/lincoln-community-theatre-presents-a-christmas-extravaganza-at-lincoln-community-high-school-auditorium-in-lincoln/2025-11-28/
LOCATION:Lincoln Community High School Auditorium\, 1000 Railer Way\, Lincoln\, IL\, 62656\, United States
ORGANIZER;CN="Lincoln Community Theatre":MAILTO:info@lincolncommunitytheatre.org
END:VEVENT
BEGIN:VEVENT
DTSTART;TZID=America/Chicago:20251128T190000
DTEND;TZID=America/Chicago:20251128T220000
DTSTAMP:20260420T213951
CREATED:20251126T174159Z
LAST-MODIFIED:20251126T174159Z
UID:10021159-1764356400-1764367200@www.wlcnonline.com
SUMMARY:Live music by David "The Live Jukebox" Howie at the Irish Circle in Wapella
DESCRIPTION:Enjoy a unique blend of music by David Howie at the Irish Circle in Wapella. \nEvent codes ccfb ccent cclm
URL:https://www.wlcnonline.com/event/live-music-by-david-the-live-jukebox-howie-at-the-irish-circle-in-wapella-2/
LOCATION:The Irish Circle in Wapella\, 405 N Walnut Street\, Wapella\, IL\, 61777\, United States
END:VEVENT
END:VCALENDAR