BEGIN:VCALENDAR
VERSION:2.0
PRODID:-//WLCN 96.3 FM - ECPv6.15.20//NONSGML v1.0//EN
CALSCALE:GREGORIAN
METHOD:PUBLISH
X-WR-CALNAME:WLCN 96.3 FM
X-ORIGINAL-URL:https://www.wlcnonline.com
X-WR-CALDESC:Events for WLCN 96.3 FM
REFRESH-INTERVAL;VALUE=DURATION:PT1H
X-Robots-Tag:noindex
X-PUBLISHED-TTL:PT1H
BEGIN:VTIMEZONE
TZID:America/Chicago
BEGIN:DAYLIGHT
TZOFFSETFROM:-0600
TZOFFSETTO:-0500
TZNAME:CDT
DTSTART:20240310T080000
END:DAYLIGHT
BEGIN:STANDARD
TZOFFSETFROM:-0500
TZOFFSETTO:-0600
TZNAME:CST
DTSTART:20241103T070000
END:STANDARD
BEGIN:DAYLIGHT
TZOFFSETFROM:-0600
TZOFFSETTO:-0500
TZNAME:CDT
DTSTART:20250309T080000
END:DAYLIGHT
BEGIN:STANDARD
TZOFFSETFROM:-0500
TZOFFSETTO:-0600
TZNAME:CST
DTSTART:20251102T070000
END:STANDARD
BEGIN:DAYLIGHT
TZOFFSETFROM:-0600
TZOFFSETTO:-0500
TZNAME:CDT
DTSTART:20260308T080000
END:DAYLIGHT
BEGIN:STANDARD
TZOFFSETFROM:-0500
TZOFFSETTO:-0600
TZNAME:CST
DTSTART:20261101T070000
END:STANDARD
END:VTIMEZONE
BEGIN:VEVENT
DTSTART;TZID=America/Chicago:20251121T090000
DTEND;TZID=America/Chicago:20251121T110000
DTSTAMP:20260421T004424
CREATED:20250710T213848Z
LAST-MODIFIED:20251212T053103Z
UID:10021071-1763715600-1763722800@www.wlcnonline.com
SUMMARY:Meet and mingle event by Lincoln Park District at Guest House Coffee & Pastries in Lincoln
DESCRIPTION:The public is invited to this Meet & Mingle event to find out about upcoming events and programming while speaking with staff and park district members. Pick up the latest group fitness Schedule and the latest newsletter while attending. \nEvent codes ccfb cclbep cchwf
URL:https://www.wlcnonline.com/event/meet-and-mingle-event-by-lincoln-park-district-at-guest-house-coffee-pastries-in-lincoln-2/2025-11-21/
LOCATION:Guest House Coffee & Pastries in Lincoln\, 113 S. Kickapoo Street\, Lincoln\, IL\, 62656\, United States
ORGANIZER;CN="Lincoln Park District":MAILTO:info@lincolnparkdistrict.com
END:VEVENT
BEGIN:VEVENT
DTSTART;TZID=America/Chicago:20251121T090000
DTEND;TZID=America/Chicago:20251121T140000
DTSTAMP:20260421T004424
CREATED:20251113T212155Z
LAST-MODIFIED:20251113T212155Z
UID:10021076-1763715600-1763733600@www.wlcnonline.com
SUMMARY:Community blood drive at Illini Central High School in Mason City
DESCRIPTION:Donations can be made between 9 AM and 2 PM. Click here to reserve a time online. \nEvent codes: ccbld\, ccserv
URL:https://www.wlcnonline.com/event/community-blood-drive-at-illini-central-high-school-in-mason-city-2/
LOCATION:Illini Central High School\, 208 Northwest Avenue\, Mason City\, IL\, 62664\, United States
END:VEVENT
BEGIN:VEVENT
DTSTART;TZID=America/Chicago:20251121T100000
DTEND;TZID=America/Chicago:20251121T180000
DTSTAMP:20260421T004424
CREATED:20251120T201157Z
LAST-MODIFIED:20251120T220129Z
UID:10021080-1763719200-1763748000@www.wlcnonline.com
SUMMARY:Pink Friday event at several businesses in and near downtown Lincoln
DESCRIPTION:This event is a spin on Black Friday…Pink Friday for boutiques. Participating shops are donating 10% of their daily proceeds to the Lincoln Women’s Club\, which helps the community through educational scholarships\, programming and donations. In addition\, the Pink Friday event will include special deals\, prizes and drawings. Businesses scheduled to participate include: \n\nThe Bee\nPrairie Threads\nSmall Town Creations\nTop Hat Creamery\nthe Overstock Outlet\nIndigo Quilt Shop\nLittle Barn Boutique\nAP Thrift Haus\nInk & Imprint Books\n\nEvent codes ccchr cclbep ccvs
URL:https://www.wlcnonline.com/event/pink-friday-event-at-several-businesses-in-and-near-downtown-lincoln/
LOCATION:The Bee in Lincoln\, 121 S. Kickapoo Street\, Lincoln\, IL\, 62656\, United States
ORGANIZER;CN="Downtown Lincoln Illinois":MAILTO:info@downtownlincolnillinois.com
END:VEVENT
BEGIN:VEVENT
DTSTART;TZID=America/Chicago:20251121T110000
DTEND;TZID=America/Chicago:20251121T120000
DTSTAMP:20260421T004424
CREATED:20250227T220937Z
LAST-MODIFIED:20251231T160939Z
UID:10019454-1763722800-1763726400@www.wlcnonline.com
SUMMARY:Alcoholics Anonymous meetings at Trinity Episcopal Church in Lincoln
DESCRIPTION:Meetings are free to attend and take place at the following times: \n\nMondays at 7 PM\nWednesdays at 6 PM\nFridays at 11 AM\nSundays at 6 PM\n\nEvent codes
URL:https://www.wlcnonline.com/event/alcoholics-anonymous-meetings-at-trinity-episcopal-church-in-lincoln-3/2025-11-21/
LOCATION:Trinity Episcopal Church in Lincoln\, 402 Pekin Street\, Lincoln\, 62656\, United States
ORGANIZER;CN="Logan Mason Recovery Oriented Systems of Care (ROSC)":MAILTO:jedavis@chestnut.org
END:VEVENT
BEGIN:VEVENT
DTSTART;TZID=America/Chicago:20251121T120000
DTEND;TZID=America/Chicago:20251121T133000
DTSTAMP:20260421T004424
CREATED:20250227T221857Z
LAST-MODIFIED:20251231T161051Z
UID:10019629-1763726400-1763731800@www.wlcnonline.com
SUMMARY:SMART (Self-Management and Recovery Training) recovery meetings at Hope on 5th in Lincoln
DESCRIPTION:Meetings are free to attend and take place Fridays from noon to 1:30 PM. \nEvent codes
URL:https://www.wlcnonline.com/event/smart-self-management-and-recovery-training-recovery-meetings-at-hope-on-5th-in-lincoln/2025-11-21/
LOCATION:Hope on 5th in Lincoln\, 200 5th Street\, Lincoln\, 62656\, United States
ORGANIZER;CN="Logan Mason Recovery Oriented Systems of Care (ROSC)":MAILTO:jedavis@chestnut.org
END:VEVENT
BEGIN:VEVENT
DTSTART;TZID=America/Chicago:20251121T180000
DTEND;TZID=America/Chicago:20251121T190000
DTSTAMP:20260421T004424
CREATED:20250227T214713Z
LAST-MODIFIED:20251231T161900Z
UID:10019066-1763748000-1763751600@www.wlcnonline.com
SUMMARY:Alcoholics Anonymous meetings by Land of Lincoln Recovery Group at Hope on 5th in Lincoln
DESCRIPTION:Meetings are free to attend and take place at 6 PM on Tuesdays\, Wednesdays\, Fridays and Saturdays as well as at 9 AM on Saturdays and Sundays. \nEvent codes
URL:https://www.wlcnonline.com/event/alcoholics-anonymous-meetings-by-land-of-lincoln-recovery-group-at-hope-on-5th-in-lincoln/2025-11-21/
LOCATION:Hope on 5th in Lincoln\, 200 5th Street\, Lincoln\, 62656\, United States
ORGANIZER;CN="Logan Mason Recovery Oriented Systems of Care (ROSC)":MAILTO:jedavis@chestnut.org
END:VEVENT
BEGIN:VEVENT
DTSTART;TZID=America/Chicago:20251121T180000
DTEND;TZID=America/Chicago:20251121T190000
DTSTAMP:20260421T004424
CREATED:20250227T220016Z
LAST-MODIFIED:20250227T220016Z
UID:10019284-1763748000-1763751600@www.wlcnonline.com
SUMMARY:Veterans recovery group meetings by Never Alone at Hope on 5th in Lincoln
DESCRIPTION:Meetings are free to attend and take place at 6 PM on the first and third Fridays of the month. \nEvent codes
URL:https://www.wlcnonline.com/event/veterans-recovery-group-meetings-by-never-alone-at-hope-on-5th-in-lincoln-2/2025-11-21/
LOCATION:Hope on 5th in Lincoln\, 200 5th Street\, Lincoln\, 62656\, United States
ORGANIZER;CN="Logan Mason Recovery Oriented Systems of Care (ROSC)":MAILTO:jedavis@chestnut.org
END:VEVENT
BEGIN:VEVENT
DTSTART;TZID=America/Chicago:20251121T180000
DTEND;TZID=America/Chicago:20251121T190000
DTSTAMP:20260421T004424
CREATED:20251231T161511Z
LAST-MODIFIED:20251231T161511Z
UID:10021497-1763748000-1763751600@www.wlcnonline.com
SUMMARY:Veterans recovery group meetings by Never Alone at Hope on 5th in Lincoln
DESCRIPTION:Meetings are free to attend and take place at 6 PM on the first and third Fridays of the month. \nEvent codes
URL:https://www.wlcnonline.com/event/veterans-recovery-group-meetings-by-never-alone-at-hope-on-5th-in-lincoln-3/2025-11-21/
LOCATION:Hope on 5th in Lincoln\, 200 5th Street\, Lincoln\, 62656\, United States
ORGANIZER;CN="Logan Mason Recovery Oriented Systems of Care (ROSC)":MAILTO:jedavis@chestnut.org
END:VEVENT
END:VCALENDAR