BEGIN:VCALENDAR
VERSION:2.0
PRODID:-//WLCN 96.3 FM - ECPv6.15.20//NONSGML v1.0//EN
CALSCALE:GREGORIAN
METHOD:PUBLISH
X-ORIGINAL-URL:https://www.wlcnonline.com
X-WR-CALDESC:Events for WLCN 96.3 FM
REFRESH-INTERVAL;VALUE=DURATION:PT1H
X-Robots-Tag:noindex
X-PUBLISHED-TTL:PT1H
BEGIN:VTIMEZONE
TZID:America/Chicago
BEGIN:DAYLIGHT
TZOFFSETFROM:-0600
TZOFFSETTO:-0500
TZNAME:CDT
DTSTART:20240310T080000
END:DAYLIGHT
BEGIN:STANDARD
TZOFFSETFROM:-0500
TZOFFSETTO:-0600
TZNAME:CST
DTSTART:20241103T070000
END:STANDARD
BEGIN:DAYLIGHT
TZOFFSETFROM:-0600
TZOFFSETTO:-0500
TZNAME:CDT
DTSTART:20250309T080000
END:DAYLIGHT
BEGIN:STANDARD
TZOFFSETFROM:-0500
TZOFFSETTO:-0600
TZNAME:CST
DTSTART:20251102T070000
END:STANDARD
BEGIN:DAYLIGHT
TZOFFSETFROM:-0600
TZOFFSETTO:-0500
TZNAME:CDT
DTSTART:20260308T080000
END:DAYLIGHT
BEGIN:STANDARD
TZOFFSETFROM:-0500
TZOFFSETTO:-0600
TZNAME:CST
DTSTART:20261101T070000
END:STANDARD
END:VTIMEZONE
BEGIN:VEVENT
DTSTART;TZID=America/Chicago:20251109T090000
DTEND;TZID=America/Chicago:20251109T100000
DTSTAMP:20260421T004614
CREATED:20250227T214918Z
LAST-MODIFIED:20251231T162155Z
UID:10019163-1762678800-1762682400@www.wlcnonline.com
SUMMARY:Alcoholics Anonymous meetings by Land of Lincoln Recovery Group at Hope on 5th in Lincoln
DESCRIPTION:Meetings are free to attend and take place at 6 PM on Tuesdays\, Wednesdays\, Fridays and Saturdays as well as at 9 AM on Saturdays and Sundays. \nEvent codes
URL:https://www.wlcnonline.com/event/alcoholics-anonymous-meetings-by-land-of-lincoln-recovery-group-at-hope-on-5th-in-lincoln-2/2025-11-09/
LOCATION:Hope on 5th in Lincoln\, 200 5th Street\, Lincoln\, 62656\, United States
ORGANIZER;CN="Logan Mason Recovery Oriented Systems of Care (ROSC)":MAILTO:jedavis@chestnut.org
END:VEVENT
BEGIN:VEVENT
DTSTART;TZID=America/Chicago:20251109T100000
DTEND;TZID=America/Chicago:20251109T170000
DTSTAMP:20260421T004614
CREATED:20251030T141816Z
LAST-MODIFIED:20251030T141816Z
UID:10021027-1762682400-1762707600@www.wlcnonline.com
SUMMARY:2025 holiday market at Perfect Pair Boutique in Warrensburg
DESCRIPTION:Attendees can browse the holiday inventory at this event featuring a variety of local vendors. \nThe market takes place November 7\, 8 and 9 from 10 AM to 5 PM. \nEvent codes cclbep ccchr
URL:https://www.wlcnonline.com/event/2025-holiday-market-at-perfect-pair-boutique-in-warrensburg/2025-11-09/
LOCATION:Perfect Pair Boutique in Warrensburg\, 266 N\, State Route 121\, Warrensburg\, 62573\, United States
ORGANIZER;CN="Perfect Pair Boutique":MAILTO:theperfectpair04@gmail.com
END:VEVENT
BEGIN:VEVENT
DTSTART;TZID=America/Chicago:20251109T120000
DTEND;TZID=America/Chicago:20251109T130000
DTSTAMP:20260421T004614
CREATED:20251023T205432Z
LAST-MODIFIED:20251023T205432Z
UID:10020986-1762689600-1762693200@www.wlcnonline.com
SUMMARY:2025 Logan County pumpkin smash & splash event at parks around Lincoln
DESCRIPTION:Join the Logan County Parks Coalition for a fun way to recycle your pumpkins and help the environment. Pumpkins can be dropped off between November 1 and November 14 from noon to 1 PM at Kickapoo Creek Park\, Madigan State Park\, the David W. Schroder Memorial Community Garden or the Lincoln Park District. Then on November 15\, pumpkins will be smashed from 9 AM to noon at the Schroder Memorial Garden\, and they’ll be “splashed” from 11 AM to 1 PM at Kickapoo Creek Park. \nEvent codes cchwf ccfre cchall
URL:https://www.wlcnonline.com/event/2025-logan-county-pumpkin-smash-splash-event-at-parks-around-lincoln/2025-11-09/
LOCATION:Kickapoo Creek Park in Lincoln\, 2000 Jefferson Street\, Lincoln\, IL\, 62656\, United States
END:VEVENT
BEGIN:VEVENT
DTSTART;TZID=America/Chicago:20251109T140000
DTEND;TZID=America/Chicago:20251109T160000
DTSTAMP:20260421T004614
CREATED:20240607T073345Z
LAST-MODIFIED:20251231T163021Z
UID:10020362-1762696800-1762704000@www.wlcnonline.com
SUMMARY:Xtreme Bar Bingo at The Next Stop Saloon in Mt. Pulaski
DESCRIPTION:Games take place every Sunday from 2 PM to 4 PM. \nEvent codes ccfb ccbin
URL:https://www.wlcnonline.com/event/xtreme-bar-bingo-at-the-next-stop-saloon-in-mt-pulaski/2025-11-09/
LOCATION:The Next Stop Saloon in Mt. Pulaski\, 100 E. Cooke Street\, Mt. Pulaski\, IL\, 62548\, United States
END:VEVENT
BEGIN:VEVENT
DTSTART;TZID=America/Chicago:20251109T170000
DTEND;TZID=America/Chicago:20251109T180000
DTSTAMP:20260421T004614
CREATED:20250227T215139Z
LAST-MODIFIED:20251231T162319Z
UID:10019671-1762707600-1762711200@www.wlcnonline.com
SUMMARY:Narcotics Anonymous meetings by Land of Lincoln Recovery Group at Hope on 5th in Lincoln
DESCRIPTION:Meetings are free to attend and take place at 6 PM Thursdays as well as at 5 PM on Sundays. \nEvent codes
URL:https://www.wlcnonline.com/event/narcotics-anonymous-meetings-by-land-of-lincoln-recovery-group-at-hope-on-5th-in-lincoln/2025-11-09/
LOCATION:Hope on 5th in Lincoln\, 200 5th Street\, Lincoln\, 62656\, United States
ORGANIZER;CN="Logan Mason Recovery Oriented Systems of Care (ROSC)":MAILTO:jedavis@chestnut.org
END:VEVENT
BEGIN:VEVENT
DTSTART;TZID=America/Chicago:20251109T180000
DTEND;TZID=America/Chicago:20251109T190000
DTSTAMP:20260421T004614
CREATED:20250227T221038Z
LAST-MODIFIED:20251231T162443Z
UID:10019496-1762711200-1762714800@www.wlcnonline.com
SUMMARY:Alcoholics Anonymous meetings at Trinity Episcopal Church in Lincoln
DESCRIPTION:Meetings are free to attend and take place at the following times: \n\nMondays at 7 PM\nWednesdays at 6 PM\nFridays at 11 AM\nSundays at 6 PM\n\nEvent codes
URL:https://www.wlcnonline.com/event/alcoholics-anonymous-meetings-at-trinity-episcopal-church-in-lincoln-4/2025-11-09/
LOCATION:Trinity Episcopal Church in Lincoln\, 402 Pekin Street\, Lincoln\, 62656\, United States
ORGANIZER;CN="Logan Mason Recovery Oriented Systems of Care (ROSC)":MAILTO:jedavis@chestnut.org
END:VEVENT
END:VCALENDAR