BEGIN:VCALENDAR
VERSION:2.0
PRODID:-//WLCN 96.3 FM - ECPv6.15.20//NONSGML v1.0//EN
CALSCALE:GREGORIAN
METHOD:PUBLISH
X-ORIGINAL-URL:https://www.wlcnonline.com
X-WR-CALDESC:Events for WLCN 96.3 FM
REFRESH-INTERVAL;VALUE=DURATION:PT1H
X-Robots-Tag:noindex
X-PUBLISHED-TTL:PT1H
BEGIN:VTIMEZONE
TZID:America/Chicago
BEGIN:DAYLIGHT
TZOFFSETFROM:-0600
TZOFFSETTO:-0500
TZNAME:CDT
DTSTART:20240310T080000
END:DAYLIGHT
BEGIN:STANDARD
TZOFFSETFROM:-0500
TZOFFSETTO:-0600
TZNAME:CST
DTSTART:20241103T070000
END:STANDARD
BEGIN:DAYLIGHT
TZOFFSETFROM:-0600
TZOFFSETTO:-0500
TZNAME:CDT
DTSTART:20250309T080000
END:DAYLIGHT
BEGIN:STANDARD
TZOFFSETFROM:-0500
TZOFFSETTO:-0600
TZNAME:CST
DTSTART:20251102T070000
END:STANDARD
BEGIN:DAYLIGHT
TZOFFSETFROM:-0600
TZOFFSETTO:-0500
TZNAME:CDT
DTSTART:20260308T080000
END:DAYLIGHT
BEGIN:STANDARD
TZOFFSETFROM:-0500
TZOFFSETTO:-0600
TZNAME:CST
DTSTART:20261101T070000
END:STANDARD
END:VTIMEZONE
BEGIN:VEVENT
DTSTART;TZID=America/Chicago:20251107T080000
DTEND;TZID=America/Chicago:20251107T170000
DTSTAMP:20260421T004604
CREATED:20251023T221915Z
LAST-MODIFIED:20251023T222054Z
UID:10021007-1762502400-1762534800@www.wlcnonline.com
SUMMARY:Donations for "Nourish Together" to benefit Logan County residents at sites around Lincoln
DESCRIPTION:Donations will be collected from November 1 through November 8 for this project to benefit Logan County residents. Hours of operation for dropping off items will vary between locations; see image posted here for locations. \nIn addition\, there will be four special events to highlight and support this cause; see image posted here for additional information. \nEvent codes ccfdd
URL:https://www.wlcnonline.com/event/donations-for-nourish-together-to-benefit-logan-county-residents-at-sites-around-lincoln/2025-11-07/
LOCATION:Top Hat Creamery in Lincoln\, 513 Pulaski Street\, Lincoln\, IL\, 62656\, United States
ORGANIZER;CN="First Presbyterian Church of Lincoln":MAILTO:office@preslincoln.org
END:VEVENT
BEGIN:VEVENT
DTSTART;TZID=America/Chicago:20251107T084500
DTEND;TZID=America/Chicago:20251107T150000
DTSTAMP:20260421T004604
CREATED:20251030T154556Z
LAST-MODIFIED:20251030T154556Z
UID:10021037-1762505100-1762527600@www.wlcnonline.com
SUMMARY:Community blood drive at Mt. Pulaski High School
DESCRIPTION:The event runs from 9 AM to 3 PM. Click here to make an appointment time online. \nEvent codes cchwf ccbld
URL:https://www.wlcnonline.com/event/community-blood-drive-at-mt-pulaski-high-school-2/
LOCATION:Mt. Pulaski High School\, 206 S Spring Street\, Mt. Pulaski\, IL\, 62648\, United States
ORGANIZER;CN="Mt. Pulaski High School":MAILTO:scooper@mtpulaski.k12.il.us
END:VEVENT
BEGIN:VEVENT
DTSTART;TZID=America/Chicago:20251107T100000
DTEND;TZID=America/Chicago:20251107T170000
DTSTAMP:20260421T004604
CREATED:20251030T141816Z
LAST-MODIFIED:20251030T141816Z
UID:10021025-1762509600-1762534800@www.wlcnonline.com
SUMMARY:2025 holiday market at Perfect Pair Boutique in Warrensburg
DESCRIPTION:Attendees can browse the holiday inventory at this event featuring a variety of local vendors. \nThe market takes place November 7\, 8 and 9 from 10 AM to 5 PM. \nEvent codes cclbep ccchr
URL:https://www.wlcnonline.com/event/2025-holiday-market-at-perfect-pair-boutique-in-warrensburg/2025-11-07/
LOCATION:Perfect Pair Boutique in Warrensburg\, 266 N\, State Route 121\, Warrensburg\, 62573\, United States
ORGANIZER;CN="Perfect Pair Boutique":MAILTO:theperfectpair04@gmail.com
END:VEVENT
BEGIN:VEVENT
DTSTART;TZID=America/Chicago:20251107T110000
DTEND;TZID=America/Chicago:20251107T120000
DTSTAMP:20260421T004604
CREATED:20250227T220937Z
LAST-MODIFIED:20251231T160939Z
UID:10019452-1762513200-1762516800@www.wlcnonline.com
SUMMARY:Alcoholics Anonymous meetings at Trinity Episcopal Church in Lincoln
DESCRIPTION:Meetings are free to attend and take place at the following times: \n\nMondays at 7 PM\nWednesdays at 6 PM\nFridays at 11 AM\nSundays at 6 PM\n\nEvent codes
URL:https://www.wlcnonline.com/event/alcoholics-anonymous-meetings-at-trinity-episcopal-church-in-lincoln-3/2025-11-07/
LOCATION:Trinity Episcopal Church in Lincoln\, 402 Pekin Street\, Lincoln\, 62656\, United States
ORGANIZER;CN="Logan Mason Recovery Oriented Systems of Care (ROSC)":MAILTO:jedavis@chestnut.org
END:VEVENT
BEGIN:VEVENT
DTSTART;TZID=America/Chicago:20251107T110000
DTEND;TZID=America/Chicago:20251107T160000
DTSTAMP:20260421T004604
CREATED:20251030T151103Z
LAST-MODIFIED:20251030T151103Z
UID:10021032-1762513200-1762531200@www.wlcnonline.com
SUMMARY:2025 holiday open house and luncheon (11AM-2PM) at LaTeaDa Boutique in Clinton
DESCRIPTION:The LaTeaDa Boutique in Clinton is kicking off the holiday season with an open house featuring a wide assortment of holiday gifts\, apparel\, festive jewelry\, holiday flavors\, winter wear and much more. \nIn addition\, the LaTeaDa Tea Room will offer its holiday-themed lunch menu from 11 AM to 2 PM on both days\, featuring holiday desserts and classic favorites. Reservations are recommended and can be made by calling (217) 935-8855. \nEvent codes ccchr cclbep ccfb
URL:https://www.wlcnonline.com/event/2025-holiday-open-house-and-luncheon-11am-2pm-at-lateada-boutique-in-clinton/2025-11-07/
LOCATION:LaTeaDa Cafe/Barn Bar/Events in Clinton\, 1100 S. Madison Street\, Clinton\, IL\, 61727\, United States
ORGANIZER;CN="LaTeaDa Cafe/Barn Bar/Events":MAILTO:lateadaladies@gmail.com
END:VEVENT
BEGIN:VEVENT
DTSTART;TZID=America/Chicago:20251107T120000
DTEND;TZID=America/Chicago:20251107T130000
DTSTAMP:20260421T004605
CREATED:20251023T205432Z
LAST-MODIFIED:20251023T205432Z
UID:10020984-1762516800-1762520400@www.wlcnonline.com
SUMMARY:2025 Logan County pumpkin smash & splash event at parks around Lincoln
DESCRIPTION:Join the Logan County Parks Coalition for a fun way to recycle your pumpkins and help the environment. Pumpkins can be dropped off between November 1 and November 14 from noon to 1 PM at Kickapoo Creek Park\, Madigan State Park\, the David W. Schroder Memorial Community Garden or the Lincoln Park District. Then on November 15\, pumpkins will be smashed from 9 AM to noon at the Schroder Memorial Garden\, and they’ll be “splashed” from 11 AM to 1 PM at Kickapoo Creek Park. \nEvent codes cchwf ccfre cchall
URL:https://www.wlcnonline.com/event/2025-logan-county-pumpkin-smash-splash-event-at-parks-around-lincoln/2025-11-07/
LOCATION:Kickapoo Creek Park in Lincoln\, 2000 Jefferson Street\, Lincoln\, IL\, 62656\, United States
END:VEVENT
BEGIN:VEVENT
DTSTART;TZID=America/Chicago:20251107T120000
DTEND;TZID=America/Chicago:20251107T133000
DTSTAMP:20260421T004605
CREATED:20250227T221857Z
LAST-MODIFIED:20251231T161051Z
UID:10019627-1762516800-1762522200@www.wlcnonline.com
SUMMARY:SMART (Self-Management and Recovery Training) recovery meetings at Hope on 5th in Lincoln
DESCRIPTION:Meetings are free to attend and take place Fridays from noon to 1:30 PM. \nEvent codes
URL:https://www.wlcnonline.com/event/smart-self-management-and-recovery-training-recovery-meetings-at-hope-on-5th-in-lincoln/2025-11-07/
LOCATION:Hope on 5th in Lincoln\, 200 5th Street\, Lincoln\, 62656\, United States
ORGANIZER;CN="Logan Mason Recovery Oriented Systems of Care (ROSC)":MAILTO:jedavis@chestnut.org
END:VEVENT
BEGIN:VEVENT
DTSTART;TZID=America/Chicago:20251107T180000
DTEND;TZID=America/Chicago:20251107T190000
DTSTAMP:20260421T004605
CREATED:20250227T214713Z
LAST-MODIFIED:20251231T161900Z
UID:10019058-1762538400-1762542000@www.wlcnonline.com
SUMMARY:Alcoholics Anonymous meetings by Land of Lincoln Recovery Group at Hope on 5th in Lincoln
DESCRIPTION:Meetings are free to attend and take place at 6 PM on Tuesdays\, Wednesdays\, Fridays and Saturdays as well as at 9 AM on Saturdays and Sundays. \nEvent codes
URL:https://www.wlcnonline.com/event/alcoholics-anonymous-meetings-by-land-of-lincoln-recovery-group-at-hope-on-5th-in-lincoln/2025-11-07/
LOCATION:Hope on 5th in Lincoln\, 200 5th Street\, Lincoln\, 62656\, United States
ORGANIZER;CN="Logan Mason Recovery Oriented Systems of Care (ROSC)":MAILTO:jedavis@chestnut.org
END:VEVENT
BEGIN:VEVENT
DTSTART;TZID=America/Chicago:20251107T180000
DTEND;TZID=America/Chicago:20251107T190000
DTSTAMP:20260421T004605
CREATED:20250227T215905Z
LAST-MODIFIED:20251231T161347Z
UID:10019274-1762538400-1762542000@www.wlcnonline.com
SUMMARY:Veterans recovery group meetings by Never Alone at Hope on 5th in Lincoln
DESCRIPTION:Meetings are free to attend and take place at 6 PM on the first and third Fridays of the month. \nEvent codes
URL:https://www.wlcnonline.com/event/veterans-recovery-group-meetings-by-never-alone-at-hope-on-5th-in-lincoln/2025-11-07/
LOCATION:Hope on 5th in Lincoln\, 200 5th Street\, Lincoln\, 62656\, United States
ORGANIZER;CN="Logan Mason Recovery Oriented Systems of Care (ROSC)":MAILTO:jedavis@chestnut.org
END:VEVENT
BEGIN:VEVENT
DTSTART;TZID=America/Chicago:20251107T180000
DTEND;TZID=America/Chicago:20251107T210000
DTSTAMP:20260421T004605
CREATED:20251030T142724Z
LAST-MODIFIED:20251030T142724Z
UID:10021028-1762538400-1762549200@www.wlcnonline.com
SUMMARY:Glow Bingo event to benefit Oasis Senior Center at Lincoln American Legion Post #263 in Lincoln
DESCRIPTION:Doors open for the event at 5 PM; bingo begins at 6 PM. \nCost for basic play is $35 if purchased in advance online or $40 at the door. Click here to purchase tickets through the Oasis Senior Center web site. \nThere will be a costume contest for best glowing costume and best celebrity look-alike. Snacks will be provided; meals will be available for purchase. \nParticipants must be at least 18 years of age. \nEvent codes ccfb ccfdd ccgc ccsoc ccbin
URL:https://www.wlcnonline.com/event/glow-bingo-event-to-benefit-oasis-senior-center-at-lincoln-american-legion-post-263-in-lincoln/
LOCATION:Lincoln American Legion Post #263\, 1740 5th Street\, Lincoln\, IL\, 62656\, United States
ORGANIZER;CN="Oasis Senior Center":MAILTO:nancy@oasisseniorcenter.com
END:VEVENT
BEGIN:VEVENT
DTSTART;TZID=America/Chicago:20251107T200000
DTEND;TZID=America/Chicago:20251108T000000
DTSTAMP:20260421T004605
CREATED:20250408T132432Z
LAST-MODIFIED:20251030T142921Z
UID:10021029-1762545600-1762560000@www.wlcnonline.com
SUMMARY:Live music by Outland at Minier Tap
DESCRIPTION:Outland covers a wide variety of music\, including old and new country favorites from Jon Pardi\, Morgan Wallen\, Brooks & Dunn\, George Strait\, Old Dominion as well as rock/alternative hits by AC/DC\, Blink 182\, Coldplay\, Matchbox 20 and more. \nEvent codes: ccent\, cclm\, ccfb
URL:https://www.wlcnonline.com/event/live-music-by-outland-at-minier-tap/2025-11-07/
LOCATION:Minier Tap\, 121 S. Main Avenue\, Minier\, IL\, 61759\, United States
END:VEVENT
END:VCALENDAR