BEGIN:VCALENDAR
VERSION:2.0
PRODID:-//WLCN 96.3 FM - ECPv6.15.20//NONSGML v1.0//EN
CALSCALE:GREGORIAN
METHOD:PUBLISH
X-ORIGINAL-URL:https://www.wlcnonline.com
X-WR-CALDESC:Events for WLCN 96.3 FM
REFRESH-INTERVAL;VALUE=DURATION:PT1H
X-Robots-Tag:noindex
X-PUBLISHED-TTL:PT1H
BEGIN:VTIMEZONE
TZID:America/Chicago
BEGIN:DAYLIGHT
TZOFFSETFROM:-0600
TZOFFSETTO:-0500
TZNAME:CDT
DTSTART:20240310T080000
END:DAYLIGHT
BEGIN:STANDARD
TZOFFSETFROM:-0500
TZOFFSETTO:-0600
TZNAME:CST
DTSTART:20241103T070000
END:STANDARD
BEGIN:DAYLIGHT
TZOFFSETFROM:-0600
TZOFFSETTO:-0500
TZNAME:CDT
DTSTART:20250309T080000
END:DAYLIGHT
BEGIN:STANDARD
TZOFFSETFROM:-0500
TZOFFSETTO:-0600
TZNAME:CST
DTSTART:20251102T070000
END:STANDARD
BEGIN:DAYLIGHT
TZOFFSETFROM:-0600
TZOFFSETTO:-0500
TZNAME:CDT
DTSTART:20260308T080000
END:DAYLIGHT
BEGIN:STANDARD
TZOFFSETFROM:-0500
TZOFFSETTO:-0600
TZNAME:CST
DTSTART:20261101T070000
END:STANDARD
END:VTIMEZONE
BEGIN:VEVENT
DTSTART;TZID=America/Chicago:20251105T080000
DTEND;TZID=America/Chicago:20251105T170000
DTSTAMP:20260421T004601
CREATED:20251023T221915Z
LAST-MODIFIED:20251023T222054Z
UID:10021005-1762329600-1762362000@www.wlcnonline.com
SUMMARY:Donations for "Nourish Together" to benefit Logan County residents at sites around Lincoln
DESCRIPTION:Donations will be collected from November 1 through November 8 for this project to benefit Logan County residents. Hours of operation for dropping off items will vary between locations; see image posted here for locations. \nIn addition\, there will be four special events to highlight and support this cause; see image posted here for additional information. \nEvent codes ccfdd
URL:https://www.wlcnonline.com/event/donations-for-nourish-together-to-benefit-logan-county-residents-at-sites-around-lincoln/2025-11-05/
LOCATION:Top Hat Creamery in Lincoln\, 513 Pulaski Street\, Lincoln\, IL\, 62656\, United States
ORGANIZER;CN="First Presbyterian Church of Lincoln":MAILTO:office@preslincoln.org
END:VEVENT
BEGIN:VEVENT
DTSTART;TZID=America/Chicago:20251105T100000
DTEND;TZID=America/Chicago:20251105T113000
DTSTAMP:20260421T004601
CREATED:20251030T160817Z
LAST-MODIFIED:20251030T160817Z
UID:10021043-1762336800-1762342200@www.wlcnonline.com
SUMMARY:Health & Wellness Series Event: Ease Into Medicare presentation at Lincoln Park District
DESCRIPTION:This brief presentation by Juliette Chihade will cover relevant facts and the basics of Medicare. \nThe event is free to the public; you do not need to be a member of the Lincoln Park District to attend. \nEvent codes ccfre ccedu
URL:https://www.wlcnonline.com/event/health-wellness-series-event-ease-into-medicare-presentation-at-lincoln-park-district/
LOCATION:Lincoln Park District\, 1400 Primm Road\, Lincoln\, IL\, 62656\, United States
ORGANIZER;CN="Lincoln Park District":MAILTO:info@lincolnparkdistrict.com
END:VEVENT
BEGIN:VEVENT
DTSTART;TZID=America/Chicago:20251105T100000
DTEND;TZID=America/Chicago:20251105T220000
DTSTAMP:20260421T004601
CREATED:20250829T031235Z
LAST-MODIFIED:20250829T031235Z
UID:10020715-1762336800-1762380000@www.wlcnonline.com
SUMMARY:Fundraiser for West Lincoln Broadwell School at Culver's of Lincoln
DESCRIPTION:Purchase food from Culver’s of Lincoln and help support a worthy cause whether dining in\, carrying out\, using the drive-thru or ordering through DoorDash. During the hours of the fundraiser\, a portion of all proceeds will be donated to the organization. Fundraisers for all schools run all day. Those making purchases during school fundraisers must fill out a slip to designate the class to which the donation is to be credited; those ordering via DoorDash can call Culver’s (217-732-7300) to designate how the donation from their purchase should be allocated. \nEvent codes ccfb\, ccfdd
URL:https://www.wlcnonline.com/event/fundraiser-for-west-lincoln-broadwell-school-at-culvers-of-lincoln/2025-11-05/
LOCATION:Culver’s of Lincoln\, 2530 Woodlawn Road\, Lincoln\, IL\, 62656\, United States
ORGANIZER;CN="Culver's of Lincoln":MAILTO:lincolnculvers@comcast.net
END:VEVENT
BEGIN:VEVENT
DTSTART;TZID=America/Chicago:20251105T120000
DTEND;TZID=America/Chicago:20251105T130000
DTSTAMP:20260421T004601
CREATED:20251023T205432Z
LAST-MODIFIED:20251023T205432Z
UID:10020982-1762344000-1762347600@www.wlcnonline.com
SUMMARY:2025 Logan County pumpkin smash & splash event at parks around Lincoln
DESCRIPTION:Join the Logan County Parks Coalition for a fun way to recycle your pumpkins and help the environment. Pumpkins can be dropped off between November 1 and November 14 from noon to 1 PM at Kickapoo Creek Park\, Madigan State Park\, the David W. Schroder Memorial Community Garden or the Lincoln Park District. Then on November 15\, pumpkins will be smashed from 9 AM to noon at the Schroder Memorial Garden\, and they’ll be “splashed” from 11 AM to 1 PM at Kickapoo Creek Park. \nEvent codes cchwf ccfre cchall
URL:https://www.wlcnonline.com/event/2025-logan-county-pumpkin-smash-splash-event-at-parks-around-lincoln/2025-11-05/
LOCATION:Kickapoo Creek Park in Lincoln\, 2000 Jefferson Street\, Lincoln\, IL\, 62656\, United States
END:VEVENT
BEGIN:VEVENT
DTSTART;TZID=America/Chicago:20251105T120000
DTEND;TZID=America/Chicago:20251105T170000
DTSTAMP:20260421T004601
CREATED:20251030T154644Z
LAST-MODIFIED:20251030T154644Z
UID:10021038-1762344000-1762362000@www.wlcnonline.com
SUMMARY:Community blood drive at Lincoln Park District
DESCRIPTION:Click here to reserve a time online. \nEvent codes: ccbld\, ccserv
URL:https://www.wlcnonline.com/event/community-blood-drive-at-lincoln-park-district-5/
LOCATION:Lincoln Park District\, 1400 Primm Road\, Lincoln\, IL\, 62656\, United States
ORGANIZER;CN="Lincoln Park District":MAILTO:info@lincolnparkdistrict.com
END:VEVENT
BEGIN:VEVENT
DTSTART;TZID=America/Chicago:20251105T180000
DTEND;TZID=America/Chicago:20251105T190000
DTSTAMP:20260421T004601
CREATED:20250227T214713Z
LAST-MODIFIED:20251231T161900Z
UID:10019057-1762365600-1762369200@www.wlcnonline.com
SUMMARY:Alcoholics Anonymous meetings by Land of Lincoln Recovery Group at Hope on 5th in Lincoln
DESCRIPTION:Meetings are free to attend and take place at 6 PM on Tuesdays\, Wednesdays\, Fridays and Saturdays as well as at 9 AM on Saturdays and Sundays. \nEvent codes
URL:https://www.wlcnonline.com/event/alcoholics-anonymous-meetings-by-land-of-lincoln-recovery-group-at-hope-on-5th-in-lincoln/2025-11-05/
LOCATION:Hope on 5th in Lincoln\, 200 5th Street\, Lincoln\, 62656\, United States
ORGANIZER;CN="Logan Mason Recovery Oriented Systems of Care (ROSC)":MAILTO:jedavis@chestnut.org
END:VEVENT
BEGIN:VEVENT
DTSTART;TZID=America/Chicago:20251105T180000
DTEND;TZID=America/Chicago:20251105T190000
DTSTAMP:20260421T004601
CREATED:20250227T220829Z
LAST-MODIFIED:20251231T164443Z
UID:10019408-1762365600-1762369200@www.wlcnonline.com
SUMMARY:Alcoholics Anonymous meetings at Trinity Episcopal Church in Lincoln
DESCRIPTION:Meetings are free to attend and take place at the following times: \n\nMondays at 7 PM\nWednesdays at 6 PM\nFridays at 11 AM\nSundays at 6 PM\n\nEvent codes
URL:https://www.wlcnonline.com/event/alcoholics-anonymous-meetings-at-trinity-episcopal-church-in-lincoln-2/2025-11-05/
LOCATION:Trinity Episcopal Church in Lincoln\, 402 Pekin Street\, Lincoln\, 62656\, United States
ORGANIZER;CN="Logan Mason Recovery Oriented Systems of Care (ROSC)":MAILTO:jedavis@chestnut.org
END:VEVENT
BEGIN:VEVENT
DTSTART;TZID=America/Chicago:20251105T180000
DTEND;TZID=America/Chicago:20251105T190000
DTSTAMP:20260421T004601
CREATED:20250227T221550Z
LAST-MODIFIED:20251231T171533Z
UID:10019582-1762365600-1762369200@www.wlcnonline.com
SUMMARY:Odds & Ends peer recovery support group meeting at Hardee's in Havana
DESCRIPTION:Meetings are free to attend and take place Wednesdays at 6 PM. \nEvent codes
URL:https://www.wlcnonline.com/event/odds-ends-peer-recovery-support-group-meeting-at-hardees-in-havana/2025-11-05/
LOCATION:Hardee’s in Havana\, 401 W. Dearborn Street\, Havana\, 62644\, United States
ORGANIZER;CN="Logan Mason Recovery Oriented Systems of Care (ROSC)":MAILTO:jedavis@chestnut.org
END:VEVENT
BEGIN:VEVENT
DTSTART;TZID=America/Chicago:20251105T190000
DTEND;TZID=America/Chicago:20251105T210000
DTSTAMP:20260421T004601
CREATED:20251023T222656Z
LAST-MODIFIED:20251023T223126Z
UID:10021010-1762369200-1762376400@www.wlcnonline.com
SUMMARY:Trivia night event to support the "Nourish Together" series benefitting Logan County residents at Spirited Republic in Lincoln
DESCRIPTION:This event is one of four special events in support of the “Nourish Together” series of events benefitting Logan County residents in need; see image posted here for additional information. \nDonations will be collected from November 1 through November 8 for this project to benefit Logan County residents. Hours of operation for dropping off items will vary between locations; see image posted here for locations. \nEvent codes ccfdd
URL:https://www.wlcnonline.com/event/trivia-night-event-to-support-the-nourish-together-series-benefitting-logan-county-residents-at-spirited-republic-in-lincoln/
LOCATION:Spirited Republic in Lincoln\, 509 Pulaski Street\, Lincoln\, IL\, 62656\, United States
ORGANIZER;CN="First Presbyterian Church of Lincoln":MAILTO:office@preslincoln.org
END:VEVENT
END:VCALENDAR