BEGIN:VCALENDAR
VERSION:2.0
PRODID:-//WLCN 96.3 FM - ECPv6.15.20//NONSGML v1.0//EN
CALSCALE:GREGORIAN
METHOD:PUBLISH
X-WR-CALNAME:WLCN 96.3 FM
X-ORIGINAL-URL:https://www.wlcnonline.com
X-WR-CALDESC:Events for WLCN 96.3 FM
REFRESH-INTERVAL;VALUE=DURATION:PT1H
X-Robots-Tag:noindex
X-PUBLISHED-TTL:PT1H
BEGIN:VTIMEZONE
TZID:America/Chicago
BEGIN:DAYLIGHT
TZOFFSETFROM:-0600
TZOFFSETTO:-0500
TZNAME:CDT
DTSTART:20240310T080000
END:DAYLIGHT
BEGIN:STANDARD
TZOFFSETFROM:-0500
TZOFFSETTO:-0600
TZNAME:CST
DTSTART:20241103T070000
END:STANDARD
BEGIN:DAYLIGHT
TZOFFSETFROM:-0600
TZOFFSETTO:-0500
TZNAME:CDT
DTSTART:20250309T080000
END:DAYLIGHT
BEGIN:STANDARD
TZOFFSETFROM:-0500
TZOFFSETTO:-0600
TZNAME:CST
DTSTART:20251102T070000
END:STANDARD
BEGIN:DAYLIGHT
TZOFFSETFROM:-0600
TZOFFSETTO:-0500
TZNAME:CDT
DTSTART:20260308T080000
END:DAYLIGHT
BEGIN:STANDARD
TZOFFSETFROM:-0500
TZOFFSETTO:-0600
TZNAME:CST
DTSTART:20261101T070000
END:STANDARD
END:VTIMEZONE
BEGIN:VEVENT
DTSTART;TZID=America/Chicago:20251101T080000
DTEND;TZID=America/Chicago:20251101T170000
DTSTAMP:20260420T162717
CREATED:20251023T221915Z
LAST-MODIFIED:20251023T222054Z
UID:10021001-1761984000-1762016400@www.wlcnonline.com
SUMMARY:Donations for "Nourish Together" to benefit Logan County residents at sites around Lincoln
DESCRIPTION:Donations will be collected from November 1 through November 8 for this project to benefit Logan County residents. Hours of operation for dropping off items will vary between locations; see image posted here for locations. \nIn addition\, there will be four special events to highlight and support this cause; see image posted here for additional information. \nEvent codes ccfdd
URL:https://www.wlcnonline.com/event/donations-for-nourish-together-to-benefit-logan-county-residents-at-sites-around-lincoln/2025-11-01/
LOCATION:Top Hat Creamery in Lincoln\, 513 Pulaski Street\, Lincoln\, IL\, 62656\, United States
ORGANIZER;CN="First Presbyterian Church of Lincoln":MAILTO:office@preslincoln.org
END:VEVENT
BEGIN:VEVENT
DTSTART;TZID=America/Chicago:20251101T090000
DTEND;TZID=America/Chicago:20251101T100000
DTSTAMP:20260420T162717
CREATED:20250227T214918Z
LAST-MODIFIED:20251231T162155Z
UID:10019160-1761987600-1761991200@www.wlcnonline.com
SUMMARY:Alcoholics Anonymous meetings by Land of Lincoln Recovery Group at Hope on 5th in Lincoln
DESCRIPTION:Meetings are free to attend and take place at 6 PM on Tuesdays\, Wednesdays\, Fridays and Saturdays as well as at 9 AM on Saturdays and Sundays. \nEvent codes
URL:https://www.wlcnonline.com/event/alcoholics-anonymous-meetings-by-land-of-lincoln-recovery-group-at-hope-on-5th-in-lincoln-2/2025-11-01/
LOCATION:Hope on 5th in Lincoln\, 200 5th Street\, Lincoln\, 62656\, United States
ORGANIZER;CN="Logan Mason Recovery Oriented Systems of Care (ROSC)":MAILTO:jedavis@chestnut.org
END:VEVENT
BEGIN:VEVENT
DTSTART;TZID=America/Chicago:20251101T093000
DTEND;TZID=America/Chicago:20251101T110000
DTSTAMP:20260420T162717
CREATED:20251023T192649Z
LAST-MODIFIED:20251023T192649Z
UID:10020974-1761989400-1761994800@www.wlcnonline.com
SUMMARY:"Staying Healthy Through the Holidays" presentation at Lincoln Park District in Lincoln
DESCRIPTION:This event will focus on simple strategies to stay healthy this holiday season as attendees learn how to enjoy everything the holidays bring while keeping balance in mind. \nThe event is free for the community; you do not have to be a member of the park district to attend. \nParticipants can register to win a free personal training session; the first 15 attending will receive a free gift. \nEvent codes ccfre cchwf ccedu
URL:https://www.wlcnonline.com/event/staying-healthy-through-the-holidays-presentation-at-lincoln-park-district-in-lincoln/
LOCATION:Lincoln Park District\, 1400 Primm Road\, Lincoln\, IL\, 62656\, United States
ORGANIZER;CN="Lincoln Park District":MAILTO:info@lincolnparkdistrict.com
END:VEVENT
BEGIN:VEVENT
DTSTART;TZID=America/Chicago:20251101T110000
DTEND;TZID=America/Chicago:20251101T160000
DTSTAMP:20260420T162717
CREATED:20251023T210404Z
LAST-MODIFIED:20251023T210404Z
UID:10020993-1761994800-1762012800@www.wlcnonline.com
SUMMARY:Mackinaw Vineyard Holiday Cheer & Homemade Market at Mackinaw Valley Winery & Vineyard
DESCRIPTION:The Mackinaw Vineyard Holiday Cheer & Homemade Market is the place where attendees can get some early shopping done and catch that holiday spirit \nThere will be booths in The Pavilion as well as the outdoor covered patio areas and pop up tents in the yard areas. Vendors will be showing and selling holiday decorations\, vintage items\, handmade items\, clothing\, jewelry\, artwork\, and other wares \nThere will be food for sale in the tasting room by Ropp Jersey cheese\, Flesor’s Candy Kitchen Confection Chocolates\, Sweet Shop Truffles\, and Donny B’s gourmet popcorn. Coffee\, cocoa and hot cider drinks will be available as well as wine\, beer and soft drinks in the tasting room area. Concessions will also be available from Tony’s on Wheels by Haddad’s Lebanese Restaurant. \nThe event runs both Saturday and Sunday from 11 AM to 4 PM. The tasting room will be iopen from 11 AM to 5 PM both days. There will be live music from noon to 4 PM both days. \nFor booth space\, email Diane Hahn at MackinawWinery03@gmail.com or call (309) 645-5054. \nEvent codes ccvs cclbep ccfb
URL:https://www.wlcnonline.com/event/mackinaw-vineyard-holiday-cheer-homemade-market-at-mackinaw-valley-winery-vineyard/2025-11-01/
LOCATION:Mackinaw Valley Vineyard and Winery\, 33633 State Route 9\, Mackinaw\, IL\, 61755\, United States
ORGANIZER;CN="Mackinaw Valley Vineyard and Winery":MAILTO:mackinawwinery03@gmail.com
END:VEVENT
BEGIN:VEVENT
DTSTART;TZID=America/Chicago:20251101T120000
DTEND;TZID=America/Chicago:20251101T130000
DTSTAMP:20260420T162718
CREATED:20251023T205432Z
LAST-MODIFIED:20251023T205432Z
UID:10020978-1761998400-1762002000@www.wlcnonline.com
SUMMARY:2025 Logan County pumpkin smash & splash event at parks around Lincoln
DESCRIPTION:Join the Logan County Parks Coalition for a fun way to recycle your pumpkins and help the environment. Pumpkins can be dropped off between November 1 and November 14 from noon to 1 PM at Kickapoo Creek Park\, Madigan State Park\, the David W. Schroder Memorial Community Garden or the Lincoln Park District. Then on November 15\, pumpkins will be smashed from 9 AM to noon at the Schroder Memorial Garden\, and they’ll be “splashed” from 11 AM to 1 PM at Kickapoo Creek Park. \nEvent codes cchwf ccfre cchall
URL:https://www.wlcnonline.com/event/2025-logan-county-pumpkin-smash-splash-event-at-parks-around-lincoln/2025-11-01/
LOCATION:Kickapoo Creek Park in Lincoln\, 2000 Jefferson Street\, Lincoln\, IL\, 62656\, United States
END:VEVENT
BEGIN:VEVENT
DTSTART;TZID=America/Chicago:20251101T120000
DTEND;TZID=America/Chicago:20251101T230000
DTSTAMP:20260420T162718
CREATED:20251023T194910Z
LAST-MODIFIED:20251023T194910Z
UID:10020976-1761998400-1762038000@www.wlcnonline.com
SUMMARY:"Rockvember" event featuring live music by Green Diamond Express (6PM) at Copper & Oak Bourbon and Craft Beer Bar in Lincoln
DESCRIPTION:Kick off November with live music\, creative cocktails\, and sweet vibes as Copper & Oak teams up with We Three Sweets to offer special fall drinks and treats starting at noon. There will be exclusive collab specialty cocktail creations by Copper & Oak and We Three Sweets\, live music through the afternoon and featuring Green Diamond Express from 6 PM to 10 PM\, full menu until 8 PM. \nEvent codes ccent cclm ccfb ccsoc
URL:https://www.wlcnonline.com/event/rockvember-event-featuring-live-music-by-green-diamond-express-6pm-at-copper-oak-bourbon-and-craft-beer-bar-in-lincoln/
LOCATION:Copper & Oak in Lincoln\, 227 N. Kickapoo Street\, Lincoln\, IL\, 62656\, United States
END:VEVENT
BEGIN:VEVENT
DTSTART;TZID=America/Chicago:20251101T140000
DTEND;TZID=America/Chicago:20251101T160000
DTSTAMP:20260420T162718
CREATED:20251023T193953Z
LAST-MODIFIED:20251023T193953Z
UID:10020975-1762005600-1762012800@www.wlcnonline.com
SUMMARY:Sip & paint event at Village Pub in New Holland
DESCRIPTION:Those interested in participating should contact the Village Pub to reserve a spot and to guarantee supplies will be available for everyone. Cost is $30 and covers the cost of supplies as well as one complimentary drink. \nEvent codes ccsoc ccfb ccpai ccaca
URL:https://www.wlcnonline.com/event/sip-paint-event-at-village-pub-in-new-holland/
LOCATION:Village Pub in New Holland\, 102 W. Lincoln Street\, New Holland\, IL\, 62671\, United States
ORGANIZER;CN="Village Pub in New Holland":MAILTO:styleslynn83@gmail.com
END:VEVENT
BEGIN:VEVENT
DTSTART;TZID=America/Chicago:20251101T180000
DTEND;TZID=America/Chicago:20251101T190000
DTSTAMP:20260420T162718
CREATED:20250227T214713Z
LAST-MODIFIED:20251231T161900Z
UID:10019055-1762020000-1762023600@www.wlcnonline.com
SUMMARY:Alcoholics Anonymous meetings by Land of Lincoln Recovery Group at Hope on 5th in Lincoln
DESCRIPTION:Meetings are free to attend and take place at 6 PM on Tuesdays\, Wednesdays\, Fridays and Saturdays as well as at 9 AM on Saturdays and Sundays. \nEvent codes
URL:https://www.wlcnonline.com/event/alcoholics-anonymous-meetings-by-land-of-lincoln-recovery-group-at-hope-on-5th-in-lincoln/2025-11-01/
LOCATION:Hope on 5th in Lincoln\, 200 5th Street\, Lincoln\, 62656\, United States
ORGANIZER;CN="Logan Mason Recovery Oriented Systems of Care (ROSC)":MAILTO:jedavis@chestnut.org
END:VEVENT
BEGIN:VEVENT
DTSTART;TZID=America/Chicago:20251101T210000
DTEND;TZID=America/Chicago:20251102T010000
DTSTAMP:20260420T162718
CREATED:20251023T191809Z
LAST-MODIFIED:20251023T191809Z
UID:10020973-1762030800-1762045200@www.wlcnonline.com
SUMMARY:Halloween extravaganza with live music 10/31 and a DJ 11/1 at the Rusty Rail Pub in Lincoln
DESCRIPTION:This event is so large it takes place over two nights! On Friday 10/31\, enjoy music from the Ozzy Osborne tribute band Killer of Giants from 8 PM to midnight. On Saturday 11/1\, stop by and listen as DJ Dylan spins tunes from 9 PM to 1 AM. \nEvent codes cchall ccsoc ccfb ccent cclm ccdj
URL:https://www.wlcnonline.com/event/halloween-extravaganza-with-live-music-10-31-and-a-dj-11-1-at-the-rusty-rail-pub-in-lincoln/2025-11-01/
LOCATION:The Rusty Rail Pub in Lincoln\, 405 Pulaski Street\, Lincoln\, IL\, 62656\, United States
END:VEVENT
END:VCALENDAR