BEGIN:VCALENDAR
VERSION:2.0
PRODID:-//WLCN 96.3 FM - ECPv6.15.20//NONSGML v1.0//EN
CALSCALE:GREGORIAN
METHOD:PUBLISH
X-WR-CALNAME:WLCN 96.3 FM
X-ORIGINAL-URL:https://www.wlcnonline.com
X-WR-CALDESC:Events for WLCN 96.3 FM
REFRESH-INTERVAL;VALUE=DURATION:PT1H
X-Robots-Tag:noindex
X-PUBLISHED-TTL:PT1H
BEGIN:VTIMEZONE
TZID:America/Chicago
BEGIN:DAYLIGHT
TZOFFSETFROM:-0600
TZOFFSETTO:-0500
TZNAME:CDT
DTSTART:20240310T080000
END:DAYLIGHT
BEGIN:STANDARD
TZOFFSETFROM:-0500
TZOFFSETTO:-0600
TZNAME:CST
DTSTART:20241103T070000
END:STANDARD
BEGIN:DAYLIGHT
TZOFFSETFROM:-0600
TZOFFSETTO:-0500
TZNAME:CDT
DTSTART:20250309T080000
END:DAYLIGHT
BEGIN:STANDARD
TZOFFSETFROM:-0500
TZOFFSETTO:-0600
TZNAME:CST
DTSTART:20251102T070000
END:STANDARD
BEGIN:DAYLIGHT
TZOFFSETFROM:-0600
TZOFFSETTO:-0500
TZNAME:CDT
DTSTART:20260308T080000
END:DAYLIGHT
BEGIN:STANDARD
TZOFFSETFROM:-0500
TZOFFSETTO:-0600
TZNAME:CST
DTSTART:20261101T070000
END:STANDARD
END:VTIMEZONE
BEGIN:VEVENT
DTSTART;TZID=America/Chicago:20251026T090000
DTEND;TZID=America/Chicago:20251026T100000
DTSTAMP:20260420T231748
CREATED:20250227T214918Z
LAST-MODIFIED:20251231T162155Z
UID:10019159-1761469200-1761472800@www.wlcnonline.com
SUMMARY:Alcoholics Anonymous meetings by Land of Lincoln Recovery Group at Hope on 5th in Lincoln
DESCRIPTION:Meetings are free to attend and take place at 6 PM on Tuesdays\, Wednesdays\, Fridays and Saturdays as well as at 9 AM on Saturdays and Sundays. \nEvent codes
URL:https://www.wlcnonline.com/event/alcoholics-anonymous-meetings-by-land-of-lincoln-recovery-group-at-hope-on-5th-in-lincoln-2/2025-10-26/
LOCATION:Hope on 5th in Lincoln\, 200 5th Street\, Lincoln\, 62656\, United States
ORGANIZER;CN="Logan Mason Recovery Oriented Systems of Care (ROSC)":MAILTO:jedavis@chestnut.org
END:VEVENT
BEGIN:VEVENT
DTSTART;TZID=America/Chicago:20251026T100000
DTEND;TZID=America/Chicago:20251026T170000
DTSTAMP:20260420T231748
CREATED:20251023T214850Z
LAST-MODIFIED:20251023T214850Z
UID:10020996-1761472800-1761498000@www.wlcnonline.com
SUMMARY:Goats\, floats & goblins Halloween event (final weekend of operation for the season) at Mariah's Mums & More in rural Clinton
DESCRIPTION:This is the final fall weekend as Mariah’s wraps up the 2025 season. Those who attend in costume for trick-or-treating will get a free apple cider doughnut. Those who bring their dogs in costume will receive a free pup cup. \nAll mums and all jack-o-lantern pumpkins will be priced at $5 each. The Sweet Eats Concession will feature Soda & Cider Floats\, including the Monster Mash Float. Doughnuts will be made in four different flavors (apple cider\, strawberry\, blueberry and pumpkin with maple icing) and available in a variety dozen pack; order in advance to guarantee you get some. \nEvent codes ccff ccfk ccfb cchall cclbep
URL:https://www.wlcnonline.com/event/goats-floats-goblins-halloween-event-final-weekend-of-operation-for-the-season-at-mariahs-mums-more-in-rural-clinton/2025-10-26/
LOCATION:Mariah’s Mums & More in rural Clinton\, 16727 Airport Road\, Clinton\, IL\, 61727\, United States
ORGANIZER;CN="Mariah's Mums & More in rural Clinton":MAILTO:mariahandgreg@mariahsmums.com
END:VEVENT
BEGIN:VEVENT
DTSTART;TZID=America/Chicago:20251026T100000
DTEND;TZID=America/Chicago:20251026T170000
DTSTAMP:20260420T231748
CREATED:20251023T220853Z
LAST-MODIFIED:20251023T220853Z
UID:10021000-1761472800-1761498000@www.wlcnonline.com
SUMMARY:Costume parade and trick-or-treating at the Wagon Wheel Pumpkin Farm in rural Clinton
DESCRIPTION:The costume parade and trick-or-treating will take place Sunday\, October 26. Free face painting will be available starting at noon from Expressions Body Art and Design. The costume parade will begin at 2 PM. After the parade\, attendees can trick or treat with the vendors present. \nEvent codes cchall ccff ccfk ccfb
URL:https://www.wlcnonline.com/event/costume-parade-and-trick-or-treating-at-the-wagon-wheel-pumpkin-farm-in-rural-clinton/
LOCATION:Wagon Wheel Pumpkin Farm in rural Clinton\, 16578 Airport Road\, Clinton\, 61727\, United States
ORGANIZER;CN="Wagon Wheel Pumpkin Farm":MAILTO:WagonWheelPumpkinFarm@Gmail.com
END:VEVENT
BEGIN:VEVENT
DTSTART;TZID=America/Chicago:20251026T140000
DTEND;TZID=America/Chicago:20251026T160000
DTSTAMP:20260420T231748
CREATED:20240607T073345Z
LAST-MODIFIED:20251231T163021Z
UID:10020360-1761487200-1761494400@www.wlcnonline.com
SUMMARY:Xtreme Bar Bingo at The Next Stop Saloon in Mt. Pulaski
DESCRIPTION:Games take place every Sunday from 2 PM to 4 PM. \nEvent codes ccfb ccbin
URL:https://www.wlcnonline.com/event/xtreme-bar-bingo-at-the-next-stop-saloon-in-mt-pulaski/2025-10-26/
LOCATION:The Next Stop Saloon in Mt. Pulaski\, 100 E. Cooke Street\, Mt. Pulaski\, IL\, 62548\, United States
END:VEVENT
BEGIN:VEVENT
DTSTART;TZID=America/Chicago:20251026T170000
DTEND;TZID=America/Chicago:20251026T180000
DTSTAMP:20260420T231748
CREATED:20250227T215139Z
LAST-MODIFIED:20251231T162319Z
UID:10019669-1761498000-1761501600@www.wlcnonline.com
SUMMARY:Narcotics Anonymous meetings by Land of Lincoln Recovery Group at Hope on 5th in Lincoln
DESCRIPTION:Meetings are free to attend and take place at 6 PM Thursdays as well as at 5 PM on Sundays. \nEvent codes
URL:https://www.wlcnonline.com/event/narcotics-anonymous-meetings-by-land-of-lincoln-recovery-group-at-hope-on-5th-in-lincoln/2025-10-26/
LOCATION:Hope on 5th in Lincoln\, 200 5th Street\, Lincoln\, 62656\, United States
ORGANIZER;CN="Logan Mason Recovery Oriented Systems of Care (ROSC)":MAILTO:jedavis@chestnut.org
END:VEVENT
BEGIN:VEVENT
DTSTART;TZID=America/Chicago:20251026T180000
DTEND;TZID=America/Chicago:20251026T190000
DTSTAMP:20260420T231748
CREATED:20250227T221038Z
LAST-MODIFIED:20251231T162443Z
UID:10019494-1761501600-1761505200@www.wlcnonline.com
SUMMARY:Alcoholics Anonymous meetings at Trinity Episcopal Church in Lincoln
DESCRIPTION:Meetings are free to attend and take place at the following times: \n\nMondays at 7 PM\nWednesdays at 6 PM\nFridays at 11 AM\nSundays at 6 PM\n\nEvent codes
URL:https://www.wlcnonline.com/event/alcoholics-anonymous-meetings-at-trinity-episcopal-church-in-lincoln-4/2025-10-26/
LOCATION:Trinity Episcopal Church in Lincoln\, 402 Pekin Street\, Lincoln\, 62656\, United States
ORGANIZER;CN="Logan Mason Recovery Oriented Systems of Care (ROSC)":MAILTO:jedavis@chestnut.org
END:VEVENT
END:VCALENDAR