BEGIN:VCALENDAR
VERSION:2.0
PRODID:-//WLCN 96.3 FM - ECPv6.15.20//NONSGML v1.0//EN
CALSCALE:GREGORIAN
METHOD:PUBLISH
X-ORIGINAL-URL:https://www.wlcnonline.com
X-WR-CALDESC:Events for WLCN 96.3 FM
REFRESH-INTERVAL;VALUE=DURATION:PT1H
X-Robots-Tag:noindex
X-PUBLISHED-TTL:PT1H
BEGIN:VTIMEZONE
TZID:America/Chicago
BEGIN:DAYLIGHT
TZOFFSETFROM:-0600
TZOFFSETTO:-0500
TZNAME:CDT
DTSTART:20240310T080000
END:DAYLIGHT
BEGIN:STANDARD
TZOFFSETFROM:-0500
TZOFFSETTO:-0600
TZNAME:CST
DTSTART:20241103T070000
END:STANDARD
BEGIN:DAYLIGHT
TZOFFSETFROM:-0600
TZOFFSETTO:-0500
TZNAME:CDT
DTSTART:20250309T080000
END:DAYLIGHT
BEGIN:STANDARD
TZOFFSETFROM:-0500
TZOFFSETTO:-0600
TZNAME:CST
DTSTART:20251102T070000
END:STANDARD
BEGIN:DAYLIGHT
TZOFFSETFROM:-0600
TZOFFSETTO:-0500
TZNAME:CDT
DTSTART:20260308T080000
END:DAYLIGHT
BEGIN:STANDARD
TZOFFSETFROM:-0500
TZOFFSETTO:-0600
TZNAME:CST
DTSTART:20261101T070000
END:STANDARD
END:VTIMEZONE
BEGIN:VEVENT
DTSTART;TZID=America/Chicago:20251024T110000
DTEND;TZID=America/Chicago:20251024T120000
DTSTAMP:20260421T004605
CREATED:20250227T220937Z
LAST-MODIFIED:20251231T160939Z
UID:10019450-1761303600-1761307200@www.wlcnonline.com
SUMMARY:Alcoholics Anonymous meetings at Trinity Episcopal Church in Lincoln
DESCRIPTION:Meetings are free to attend and take place at the following times: \n\nMondays at 7 PM\nWednesdays at 6 PM\nFridays at 11 AM\nSundays at 6 PM\n\nEvent codes
URL:https://www.wlcnonline.com/event/alcoholics-anonymous-meetings-at-trinity-episcopal-church-in-lincoln-3/2025-10-24/
LOCATION:Trinity Episcopal Church in Lincoln\, 402 Pekin Street\, Lincoln\, 62656\, United States
ORGANIZER;CN="Logan Mason Recovery Oriented Systems of Care (ROSC)":MAILTO:jedavis@chestnut.org
END:VEVENT
BEGIN:VEVENT
DTSTART;TZID=America/Chicago:20251024T120000
DTEND;TZID=America/Chicago:20251024T133000
DTSTAMP:20260421T004605
CREATED:20250227T221857Z
LAST-MODIFIED:20251231T161051Z
UID:10019625-1761307200-1761312600@www.wlcnonline.com
SUMMARY:SMART (Self-Management and Recovery Training) recovery meetings at Hope on 5th in Lincoln
DESCRIPTION:Meetings are free to attend and take place Fridays from noon to 1:30 PM. \nEvent codes
URL:https://www.wlcnonline.com/event/smart-self-management-and-recovery-training-recovery-meetings-at-hope-on-5th-in-lincoln/2025-10-24/
LOCATION:Hope on 5th in Lincoln\, 200 5th Street\, Lincoln\, 62656\, United States
ORGANIZER;CN="Logan Mason Recovery Oriented Systems of Care (ROSC)":MAILTO:jedavis@chestnut.org
END:VEVENT
BEGIN:VEVENT
DTSTART;TZID=America/Chicago:20251024T153000
DTEND;TZID=America/Chicago:20251024T163000
DTSTAMP:20260421T004606
CREATED:20251016T154756Z
LAST-MODIFIED:20251017T031044Z
UID:10020949-1761319800-1761323400@www.wlcnonline.com
SUMMARY:Halloween story time at Mt. Pulaski Public Library
DESCRIPTION:Kids are invited to attend and read Halloween books together. \nEvent codes cchall ccfk ccedu ccsoc
URL:https://www.wlcnonline.com/event/halloween-story-time-at-mt-pulaski-public-library/2025-10-24/
LOCATION:Mt. Pulaski Public Library\, 320 N. Washington Street\, Mt. Pulaski\, IL\, 62548\, United States
ORGANIZER;CN="Mt. Pulaski Public Library District":MAILTO:mtpulaskipubliclibrary@gmail.com
END:VEVENT
BEGIN:VEVENT
DTSTART;TZID=America/Chicago:20251024T160000
DTEND;TZID=America/Chicago:20251024T180000
DTSTAMP:20260421T004606
CREATED:20251017T033019Z
LAST-MODIFIED:20251017T033019Z
UID:10020951-1761321600-1761328800@www.wlcnonline.com
SUMMARY:Trunk or treat event at Timber Creek Village Assisted Living in Lincoln
DESCRIPTION:Participants should wear their Halloween costumes and attend the event to enjoy trunk-or-treating with the Timber Creek Village residents. \nEvent codes cchall ccfk
URL:https://www.wlcnonline.com/event/trunk-or-treat-event-at-timber-creek-village-assisted-living-in-lincoln/
LOCATION:Timber Creek Village in Lincoln\, 201 Stahlhut Drive\, Lincoln\, IL\, 62656\, United States
ORGANIZER;CN="Timber Creek Village":MAILTO:mary.moore@seniorhealthspecialties.net
END:VEVENT
BEGIN:VEVENT
DTSTART;TZID=America/Chicago:20251024T170000
DTEND;TZID=America/Chicago:20251024T200000
DTSTAMP:20260421T004606
CREATED:20251017T031950Z
LAST-MODIFIED:20251017T035845Z
UID:10020950-1761325200-1761336000@www.wlcnonline.com
SUMMARY:"Ghouls" night out at businesses in and around downtown Lincoln
DESCRIPTION:Each business will be hosting their own specials so watch each page to see what’s “brewing”\nBring your ghoul friends downtown for a frightfully good time. \nBusinesses scheduled to participate include: \n\nSmall Town Creations\nSpirited Republic\nThe Bee\nPrairie Threads\nAbe’s Caramel Corn\nVerdant Salon\nSorrento’s Pizza\nThe Overstock Outlet\nTop Hat Creamery\n\nEvent codes: cclbep cchall
URL:https://www.wlcnonline.com/event/ghouls-night-out-at-businesses-in-and-around-downtown-lincoln/
LOCATION:Small Town Creations in Lincoln\, 115 S. Kickapoo Street\, Lincoln\, IL\, 62656\, United States
ORGANIZER;CN="Downtown Lincoln Illinois":MAILTO:info@downtownlincolnillinois.com
END:VEVENT
BEGIN:VEVENT
DTSTART;TZID=America/Chicago:20251024T170000
DTEND;TZID=America/Chicago:20251024T200000
DTSTAMP:20260421T004606
CREATED:20251023T153625Z
LAST-MODIFIED:20251023T153625Z
UID:10020962-1761325200-1761336000@www.wlcnonline.com
SUMMARY:Kids' Halloween extravaganza at BB's BFE Bar & Grill in Latham
DESCRIPTION:This event occurs over two days and includes the following: \n\nFriday\, October 24 – 5 PM to 8 PM – Trunk or Treat – Kids can enjoy a fun and safe evening of candy\, costumes\, and community\nSaturday\, October 25 – 3 PM – Pumpkin Painting – Cost is $15 per child and includes paint\, brushes\, pumpkin and a kids meal of their choice\nSaturday\, October 25 – 5 PM to 8PM – Kids Halloween bash – This family-friendly event will include music\, kids karaoke\, a costume contest and food.\nEvent codes cchall ccff ccfk ccfb ccent ccaca cckar ccdan
URL:https://www.wlcnonline.com/event/kids-halloween-extravaganza-at-bbs-bfe-bar-grill-in-latham/2025-10-24/
LOCATION:BB’s BFE in Latham\, 2371 N Route 121\, Latham\, 62543\, United States
ORGANIZER;CN="BB's BFE":MAILTO:BBS.BFE.2025@gmail.com
END:VEVENT
BEGIN:VEVENT
DTSTART;TZID=America/Chicago:20251024T180000
DTEND;TZID=America/Chicago:20251024T190000
DTSTAMP:20260421T004606
CREATED:20250227T214713Z
LAST-MODIFIED:20251231T161900Z
UID:10019050-1761328800-1761332400@www.wlcnonline.com
SUMMARY:Alcoholics Anonymous meetings by Land of Lincoln Recovery Group at Hope on 5th in Lincoln
DESCRIPTION:Meetings are free to attend and take place at 6 PM on Tuesdays\, Wednesdays\, Fridays and Saturdays as well as at 9 AM on Saturdays and Sundays. \nEvent codes
URL:https://www.wlcnonline.com/event/alcoholics-anonymous-meetings-by-land-of-lincoln-recovery-group-at-hope-on-5th-in-lincoln/2025-10-24/
LOCATION:Hope on 5th in Lincoln\, 200 5th Street\, Lincoln\, 62656\, United States
ORGANIZER;CN="Logan Mason Recovery Oriented Systems of Care (ROSC)":MAILTO:jedavis@chestnut.org
END:VEVENT
BEGIN:VEVENT
DTSTART;TZID=America/Chicago:20251024T183000
DTEND;TZID=America/Chicago:20251024T194500
DTSTAMP:20260421T004606
CREATED:20251023T163044Z
LAST-MODIFIED:20251023T163044Z
UID:10020967-1761330600-1761335100@www.wlcnonline.com
SUMMARY:Red kettle kickoff event by the Salvation Army Lincoln 360 Life Center at Faith Church in Lincoln
DESCRIPTION:This kick-off will launch the The Salvation Army’s annual red kettle campaign\, started in 1891 as a way to cover the cost of the community Christmas meal. Today\, donations to the campaign help The Salvation Army care for homeless and needy families as well as assisting the organization in serving over 27 million people all year long with many different services. \nThis event takes place at Faith Church in Lincoln and is scheduled from 6:30 PM to 7:45 PM. \nEvent codes ccchr ccfdd
URL:https://www.wlcnonline.com/event/red-kettle-kickoff-event-by-the-salvation-army-lincoln-360-life-center-at-faith-church-in-lincoln/
LOCATION:Faith Church in Lincoln\, 1225 Nicholson Road\, Lincoln\, IL\, 62656\, United States
END:VEVENT
BEGIN:VEVENT
DTSTART;TZID=America/Chicago:20251024T183000
DTEND;TZID=America/Chicago:20251024T210000
DTSTAMP:20260421T004606
CREATED:20251023T160742Z
LAST-MODIFIED:20251023T160742Z
UID:10020965-1761330600-1761339600@www.wlcnonline.com
SUMMARY:"Slay it again\, Sam" murder mystery dinner theatre event at Mackinaw Valley Vineyard & Winery
DESCRIPTION:“Here’s looking at murder\, kid.” Who can be trusted at Rick’s Cafe? No one\, if they’re all out to steal the Maltese Chicken. \nSuggested arrival time is between 5:30 and 6:30 PM for seating and “mingling” with the cast to let them know if you want to participate in the show. The show begins at approximately 6:30. Wine can be sampled at the tasting bar and wine can be purchased by the bottle or glass\, beer and sodas are also available. \nDinner is served buffet style after the first act and dessert is served tableside. The performance will be held in the tasting room in the main building\, center entrance from main parking lot. \nTickets can be purchased in person or reserved by phone. Questions can be emailed to mackinawwinery03@gmail.com. Tickets are not available for purchase online. \nCost is $55 per person plus tax and covers dinner\, dessert and admission to the performance. Dinner and dessert will be served by The Catering Company: \n\nHerb Roasted Chicken\nBaked Ziti w/Italian Sausage Meat Sauce\nButtered Baby Peas w/Mushrooms\nTwice Baked Potato Casserole\nTossed Salad w/Dressings\nSliced French Bread w/Butter\nFrosted Chocolate Fudge Cake\nIced Tea and Water\nCoffee Available with Dessert\nGluten free and vegetarian options are available by advance request
URL:https://www.wlcnonline.com/event/slay-it-again-sam-murder-mystery-dinner-theatre-event-at-mackinaw-valley-vineyard-winery/2025-10-24/
LOCATION:Mackinaw Valley Vineyard and Winery\, 33633 State Route 9\, Mackinaw\, IL\, 61755\, United States
ORGANIZER;CN="Mackinaw Valley Vineyard and Winery":MAILTO:mackinawwinery03@gmail.com
END:VEVENT
BEGIN:VEVENT
DTSTART;TZID=America/Chicago:20251024T190000
DTEND;TZID=America/Chicago:20251024T210000
DTSTAMP:20260421T004606
CREATED:20251017T033407Z
LAST-MODIFIED:20251017T033407Z
UID:10020952-1761332400-1761339600@www.wlcnonline.com
SUMMARY:Free Halloween family movie night featuring Disney Pixar's "Monsters\, Inc." movie at Eighth Street Park in Lincoln
DESCRIPTION:The movie will begin around dusk (approximately 7 PM). Attendees should bring their own lawn chairs and blankets. \nFood and beverages may be brought\, but no alcohol is allowed. \nEvent codes cchall ccff
URL:https://www.wlcnonline.com/event/free-halloween-family-movie-night-featuring-disney-pixars-monsters-inc-movie-at-eighth-street-park-in-lincoln/
LOCATION:Eighth Street Park in Lincoln\, 315 8th Street\, Lincoln\, 62656\, United States
END:VEVENT
BEGIN:VEVENT
DTSTART;TZID=America/Chicago:20251024T190000
DTEND;TZID=America/Chicago:20251024T220000
DTSTAMP:20260421T004607
CREATED:20251023T164232Z
LAST-MODIFIED:20251023T164232Z
UID:10020968-1761332400-1761343200@www.wlcnonline.com
SUMMARY:Live music by Nick Sizemore & the Hollow Eyes acoustics at the Irish Circle in Wapella
DESCRIPTION:Nick Sizemore acoustics is a raw high-energy acoustic show that blends rebellious outlaw country along with the older country hits to create a unique sound. \nEvent codes ccent cclm ccfb ccsoc
URL:https://www.wlcnonline.com/event/live-music-by-nick-sizemore-the-hollow-eyes-acoustics-at-the-irish-circle-in-wapella/
LOCATION:The Irish Circle in Wapella\, 405 N Walnut Street\, Wapella\, IL\, 61777\, United States
END:VEVENT
END:VCALENDAR