BEGIN:VCALENDAR
VERSION:2.0
PRODID:-//WLCN 96.3 FM - ECPv6.15.20//NONSGML v1.0//EN
CALSCALE:GREGORIAN
METHOD:PUBLISH
X-ORIGINAL-URL:https://www.wlcnonline.com
X-WR-CALDESC:Events for WLCN 96.3 FM
REFRESH-INTERVAL;VALUE=DURATION:PT1H
X-Robots-Tag:noindex
X-PUBLISHED-TTL:PT1H
BEGIN:VTIMEZONE
TZID:America/Chicago
BEGIN:DAYLIGHT
TZOFFSETFROM:-0600
TZOFFSETTO:-0500
TZNAME:CDT
DTSTART:20240310T080000
END:DAYLIGHT
BEGIN:STANDARD
TZOFFSETFROM:-0500
TZOFFSETTO:-0600
TZNAME:CST
DTSTART:20241103T070000
END:STANDARD
BEGIN:DAYLIGHT
TZOFFSETFROM:-0600
TZOFFSETTO:-0500
TZNAME:CDT
DTSTART:20250309T080000
END:DAYLIGHT
BEGIN:STANDARD
TZOFFSETFROM:-0500
TZOFFSETTO:-0600
TZNAME:CST
DTSTART:20251102T070000
END:STANDARD
BEGIN:DAYLIGHT
TZOFFSETFROM:-0600
TZOFFSETTO:-0500
TZNAME:CDT
DTSTART:20260308T080000
END:DAYLIGHT
BEGIN:STANDARD
TZOFFSETFROM:-0500
TZOFFSETTO:-0600
TZNAME:CST
DTSTART:20261101T070000
END:STANDARD
END:VTIMEZONE
BEGIN:VEVENT
DTSTART;TZID=America/Chicago:20251019T090000
DTEND;TZID=America/Chicago:20251019T100000
DTSTAMP:20260420T213956
CREATED:20250227T214918Z
LAST-MODIFIED:20251231T162155Z
UID:10019157-1760864400-1760868000@www.wlcnonline.com
SUMMARY:Alcoholics Anonymous meetings by Land of Lincoln Recovery Group at Hope on 5th in Lincoln
DESCRIPTION:Meetings are free to attend and take place at 6 PM on Tuesdays\, Wednesdays\, Fridays and Saturdays as well as at 9 AM on Saturdays and Sundays. \nEvent codes
URL:https://www.wlcnonline.com/event/alcoholics-anonymous-meetings-by-land-of-lincoln-recovery-group-at-hope-on-5th-in-lincoln-2/2025-10-19/
LOCATION:Hope on 5th in Lincoln\, 200 5th Street\, Lincoln\, 62656\, United States
ORGANIZER;CN="Logan Mason Recovery Oriented Systems of Care (ROSC)":MAILTO:jedavis@chestnut.org
END:VEVENT
BEGIN:VEVENT
DTSTART;TZID=America/Chicago:20251019T120000
DTEND;TZID=America/Chicago:20251019T170000
DTSTAMP:20260420T213956
CREATED:20251009T215857Z
LAST-MODIFIED:20251016T161316Z
UID:10020925-1760875200-1760893200@www.wlcnonline.com
SUMMARY:"Dress Up the Dog" event with live music by California Jeff/Not Petty at Gail's Pumpkin Patch in rural Beason
DESCRIPTION:The first 25 dogs in costume receive a free “pup cup”. Please keep all animals leashed. Lincoln Land Catering-The Dog House will have honey battered corn dogs available. Music will be provided by California Jeff. \nEvent codes ccff cchall ccani
URL:https://www.wlcnonline.com/event/dress-up-the-dog-event-with-live-music-by-california-jack-at-gails-pumpkin-patch-in-rural-beason/
LOCATION:Gail’s Pumpkin Patch in rural Beason\, 1709 2000th Avenue\, Beason\, IL\, 62512\, United States
ORGANIZER;CN="Gail's Pumpkin Patch":MAILTO:gail@gailspumpkinpatch.com
END:VEVENT
BEGIN:VEVENT
DTSTART;TZID=America/Chicago:20251019T123000
DTEND;TZID=America/Chicago:20251019T140000
DTSTAMP:20260420T213956
CREATED:20251009T193826Z
LAST-MODIFIED:20251009T193826Z
UID:10020908-1760877000-1760882400@www.wlcnonline.com
SUMMARY:Meet and greet/book signing event with Diana Louise Webb at Ink & Imprint Books in Lincoln
DESCRIPTION:The public is invited to meet Diana Louise Webb\, whose most recent award-winning book is Last of the Autumn Rain. Readers of Gillian Flynn\, Alice Sebold\, and other masters of psychological suspense will find Webb’s voice unflinching\, daring\, and unforgettable. \nIn addition\, Diana’s mother\, a child survivor of Nazi Germany who turns 90 next month\, also will attend. Diana’s book\, The Butterfly Cometh\, is a collection of short stories that includes a story about how her grandfather narrowly escaped placement in a concentration camp. Attendees can learn about the story from Diana’s mother\, who witnessed the event. \nEvent codes cclbep
URL:https://www.wlcnonline.com/event/meet-and-greet-book-signing-event-with-diana-louise-webb-at-ink-imprint-books-in-lincoln/
LOCATION:Ink & Imprint Books in Lincoln\, 125 N Kickapoo Street\, Lincoln\, 62656\, United States
ORGANIZER;CN="Ink & Imprint Books":MAILTO:inkandimprintbooks@gmail.com
END:VEVENT
BEGIN:VEVENT
DTSTART;TZID=America/Chicago:20251019T130000
DTEND;TZID=America/Chicago:20251019T170000
DTSTAMP:20260420T213956
CREATED:20251009T221138Z
LAST-MODIFIED:20251009T221138Z
UID:10020927-1760878800-1760893200@www.wlcnonline.com
SUMMARY:Quarter auction by San Jose Quarter Frenzy raising funds for Edie's Relay for Life Team at San Jose United Methodist Church﻿
DESCRIPTION:Each vendor will have 4 items (one is a donation item) to be placed in the frenzy. Each item will be raffled off one at a time. A listing of all items up for bid for the afternoon will be provided and will include the number of quarters necessary to try to win. \nThose arriving will purchase a paddle(s) that will have numbers on them. The paddles are $1 each and individuals may purchase as many as they like. \nAll proceeds from the paddle sales\, donation item quarters and vendor fees go to a different charity/cause each month! This month\, proceeds will benefit Relay for Life (Edie’s Team). \nDoors open at noon; attendees can buy lunch and chat with vendors. The frenzy event starts at 1 PM. \nProceeds from lunch go to Team Matthew. \nEvent codes ccfb ccfdd
URL:https://www.wlcnonline.com/event/quarter-auction-by-san-jose-quarter-frenzy-raising-funds-for-edies-relay-for-life-team-at-san-jose-united-methodist-church/
LOCATION:San Jose United Methodist Church\, 600 S. First Street\, San Jose\, IL\, 62682\, United States
ORGANIZER;CN="Nancy Martin/San Jose Quarter Frenzy":MAILTO:nmartin23@gmail.com
END:VEVENT
BEGIN:VEVENT
DTSTART;TZID=America/Chicago:20251019T140000
DTEND;TZID=America/Chicago:20251019T160000
DTSTAMP:20260420T213956
CREATED:20240607T073345Z
LAST-MODIFIED:20251231T163021Z
UID:10020359-1760882400-1760889600@www.wlcnonline.com
SUMMARY:Xtreme Bar Bingo at The Next Stop Saloon in Mt. Pulaski
DESCRIPTION:Games take place every Sunday from 2 PM to 4 PM. \nEvent codes ccfb ccbin
URL:https://www.wlcnonline.com/event/xtreme-bar-bingo-at-the-next-stop-saloon-in-mt-pulaski/2025-10-19/
LOCATION:The Next Stop Saloon in Mt. Pulaski\, 100 E. Cooke Street\, Mt. Pulaski\, IL\, 62548\, United States
END:VEVENT
BEGIN:VEVENT
DTSTART;TZID=America/Chicago:20251019T170000
DTEND;TZID=America/Chicago:20251019T180000
DTSTAMP:20260420T213956
CREATED:20250227T215139Z
LAST-MODIFIED:20251231T162319Z
UID:10019668-1760893200-1760896800@www.wlcnonline.com
SUMMARY:Narcotics Anonymous meetings by Land of Lincoln Recovery Group at Hope on 5th in Lincoln
DESCRIPTION:Meetings are free to attend and take place at 6 PM Thursdays as well as at 5 PM on Sundays. \nEvent codes
URL:https://www.wlcnonline.com/event/narcotics-anonymous-meetings-by-land-of-lincoln-recovery-group-at-hope-on-5th-in-lincoln/2025-10-19/
LOCATION:Hope on 5th in Lincoln\, 200 5th Street\, Lincoln\, 62656\, United States
ORGANIZER;CN="Logan Mason Recovery Oriented Systems of Care (ROSC)":MAILTO:jedavis@chestnut.org
END:VEVENT
BEGIN:VEVENT
DTSTART;TZID=America/Chicago:20251019T180000
DTEND;TZID=America/Chicago:20251019T190000
DTSTAMP:20260420T213956
CREATED:20250227T221038Z
LAST-MODIFIED:20251231T162443Z
UID:10019493-1760896800-1760900400@www.wlcnonline.com
SUMMARY:Alcoholics Anonymous meetings at Trinity Episcopal Church in Lincoln
DESCRIPTION:Meetings are free to attend and take place at the following times: \n\nMondays at 7 PM\nWednesdays at 6 PM\nFridays at 11 AM\nSundays at 6 PM\n\nEvent codes
URL:https://www.wlcnonline.com/event/alcoholics-anonymous-meetings-at-trinity-episcopal-church-in-lincoln-4/2025-10-19/
LOCATION:Trinity Episcopal Church in Lincoln\, 402 Pekin Street\, Lincoln\, 62656\, United States
ORGANIZER;CN="Logan Mason Recovery Oriented Systems of Care (ROSC)":MAILTO:jedavis@chestnut.org
END:VEVENT
END:VCALENDAR