BEGIN:VCALENDAR
VERSION:2.0
PRODID:-//WLCN 96.3 FM - ECPv6.15.20//NONSGML v1.0//EN
CALSCALE:GREGORIAN
METHOD:PUBLISH
X-WR-CALNAME:WLCN 96.3 FM
X-ORIGINAL-URL:https://www.wlcnonline.com
X-WR-CALDESC:Events for WLCN 96.3 FM
REFRESH-INTERVAL;VALUE=DURATION:PT1H
X-Robots-Tag:noindex
X-PUBLISHED-TTL:PT1H
BEGIN:VTIMEZONE
TZID:America/Chicago
BEGIN:DAYLIGHT
TZOFFSETFROM:-0600
TZOFFSETTO:-0500
TZNAME:CDT
DTSTART:20240310T080000
END:DAYLIGHT
BEGIN:STANDARD
TZOFFSETFROM:-0500
TZOFFSETTO:-0600
TZNAME:CST
DTSTART:20241103T070000
END:STANDARD
BEGIN:DAYLIGHT
TZOFFSETFROM:-0600
TZOFFSETTO:-0500
TZNAME:CDT
DTSTART:20250309T080000
END:DAYLIGHT
BEGIN:STANDARD
TZOFFSETFROM:-0500
TZOFFSETTO:-0600
TZNAME:CST
DTSTART:20251102T070000
END:STANDARD
BEGIN:DAYLIGHT
TZOFFSETFROM:-0600
TZOFFSETTO:-0500
TZNAME:CDT
DTSTART:20260308T080000
END:DAYLIGHT
BEGIN:STANDARD
TZOFFSETFROM:-0500
TZOFFSETTO:-0600
TZNAME:CST
DTSTART:20261101T070000
END:STANDARD
END:VTIMEZONE
BEGIN:VEVENT
DTSTART;TZID=America/Chicago:20251017T110000
DTEND;TZID=America/Chicago:20251017T120000
DTSTAMP:20260421T004324
CREATED:20250227T220937Z
LAST-MODIFIED:20251231T160939Z
UID:10019449-1760698800-1760702400@www.wlcnonline.com
SUMMARY:Alcoholics Anonymous meetings at Trinity Episcopal Church in Lincoln
DESCRIPTION:Meetings are free to attend and take place at the following times: \n\nMondays at 7 PM\nWednesdays at 6 PM\nFridays at 11 AM\nSundays at 6 PM\n\nEvent codes
URL:https://www.wlcnonline.com/event/alcoholics-anonymous-meetings-at-trinity-episcopal-church-in-lincoln-3/2025-10-17/
LOCATION:Trinity Episcopal Church in Lincoln\, 402 Pekin Street\, Lincoln\, 62656\, United States
ORGANIZER;CN="Logan Mason Recovery Oriented Systems of Care (ROSC)":MAILTO:jedavis@chestnut.org
END:VEVENT
BEGIN:VEVENT
DTSTART;TZID=America/Chicago:20251017T120000
DTEND;TZID=America/Chicago:20251017T133000
DTSTAMP:20260421T004324
CREATED:20250227T221857Z
LAST-MODIFIED:20251231T161051Z
UID:10019624-1760702400-1760707800@www.wlcnonline.com
SUMMARY:SMART (Self-Management and Recovery Training) recovery meetings at Hope on 5th in Lincoln
DESCRIPTION:Meetings are free to attend and take place Fridays from noon to 1:30 PM. \nEvent codes
URL:https://www.wlcnonline.com/event/smart-self-management-and-recovery-training-recovery-meetings-at-hope-on-5th-in-lincoln/2025-10-17/
LOCATION:Hope on 5th in Lincoln\, 200 5th Street\, Lincoln\, 62656\, United States
ORGANIZER;CN="Logan Mason Recovery Oriented Systems of Care (ROSC)":MAILTO:jedavis@chestnut.org
END:VEVENT
BEGIN:VEVENT
DTSTART;TZID=America/Chicago:20251017T140000
DTEND;TZID=America/Chicago:20251017T150000
DTSTAMP:20260421T004324
CREATED:20251009T213501Z
LAST-MODIFIED:20251009T213501Z
UID:10020922-1760709600-1760713200@www.wlcnonline.com
SUMMARY:Magic hour magic show by Richard Landry at Vonderleith Living Center in Mt. Pulaski
DESCRIPTION:Richard Landry will entertain attendees with feats of magic during an afternoon for the family filled with laughter\, amazement\, and magical fun. \nEvent codes ccent ccff
URL:https://www.wlcnonline.com/event/magic-hour-magic-show-by-richard-landry-at-vonderleith-living-center-in-mt-pulaski/
LOCATION:Vonderleith Living Center in Mt. Pulaski\, 1120 N. Topper Drive\, Mt. Pulaski\, 62548\, United States
ORGANIZER;CN="Vonderleith Living Center":MAILTO:dkinkade@Heritageofcare.com
END:VEVENT
BEGIN:VEVENT
DTSTART;TZID=America/Chicago:20251017T153000
DTEND;TZID=America/Chicago:20251017T163000
DTSTAMP:20260421T004324
CREATED:20251016T154756Z
LAST-MODIFIED:20251017T031044Z
UID:10020932-1760715000-1760718600@www.wlcnonline.com
SUMMARY:Halloween story time at Mt. Pulaski Public Library
DESCRIPTION:Kids are invited to attend and read Halloween books together. \nEvent codes cchall ccfk ccedu ccsoc
URL:https://www.wlcnonline.com/event/halloween-story-time-at-mt-pulaski-public-library/2025-10-17/
LOCATION:Mt. Pulaski Public Library\, 320 N. Washington Street\, Mt. Pulaski\, IL\, 62548\, United States
ORGANIZER;CN="Mt. Pulaski Public Library District":MAILTO:mtpulaskipubliclibrary@gmail.com
END:VEVENT
BEGIN:VEVENT
DTSTART;TZID=America/Chicago:20251017T180000
DTEND;TZID=America/Chicago:20251017T190000
DTSTAMP:20260421T004324
CREATED:20250227T214713Z
LAST-MODIFIED:20251231T161900Z
UID:10019046-1760724000-1760727600@www.wlcnonline.com
SUMMARY:Alcoholics Anonymous meetings by Land of Lincoln Recovery Group at Hope on 5th in Lincoln
DESCRIPTION:Meetings are free to attend and take place at 6 PM on Tuesdays\, Wednesdays\, Fridays and Saturdays as well as at 9 AM on Saturdays and Sundays. \nEvent codes
URL:https://www.wlcnonline.com/event/alcoholics-anonymous-meetings-by-land-of-lincoln-recovery-group-at-hope-on-5th-in-lincoln/2025-10-17/
LOCATION:Hope on 5th in Lincoln\, 200 5th Street\, Lincoln\, 62656\, United States
ORGANIZER;CN="Logan Mason Recovery Oriented Systems of Care (ROSC)":MAILTO:jedavis@chestnut.org
END:VEVENT
BEGIN:VEVENT
DTSTART;TZID=America/Chicago:20251017T180000
DTEND;TZID=America/Chicago:20251017T190000
DTSTAMP:20260421T004324
CREATED:20250227T220016Z
LAST-MODIFIED:20250227T220016Z
UID:10019283-1760724000-1760727600@www.wlcnonline.com
SUMMARY:Veterans recovery group meetings by Never Alone at Hope on 5th in Lincoln
DESCRIPTION:Meetings are free to attend and take place at 6 PM on the first and third Fridays of the month. \nEvent codes
URL:https://www.wlcnonline.com/event/veterans-recovery-group-meetings-by-never-alone-at-hope-on-5th-in-lincoln-2/2025-10-17/
LOCATION:Hope on 5th in Lincoln\, 200 5th Street\, Lincoln\, 62656\, United States
ORGANIZER;CN="Logan Mason Recovery Oriented Systems of Care (ROSC)":MAILTO:jedavis@chestnut.org
END:VEVENT
BEGIN:VEVENT
DTSTART;TZID=America/Chicago:20251017T180000
DTEND;TZID=America/Chicago:20251017T190000
DTSTAMP:20260421T004324
CREATED:20251231T161511Z
LAST-MODIFIED:20251231T161511Z
UID:10021496-1760724000-1760727600@www.wlcnonline.com
SUMMARY:Veterans recovery group meetings by Never Alone at Hope on 5th in Lincoln
DESCRIPTION:Meetings are free to attend and take place at 6 PM on the first and third Fridays of the month. \nEvent codes
URL:https://www.wlcnonline.com/event/veterans-recovery-group-meetings-by-never-alone-at-hope-on-5th-in-lincoln-3/2025-10-17/
LOCATION:Hope on 5th in Lincoln\, 200 5th Street\, Lincoln\, 62656\, United States
ORGANIZER;CN="Logan Mason Recovery Oriented Systems of Care (ROSC)":MAILTO:jedavis@chestnut.org
END:VEVENT
BEGIN:VEVENT
DTSTART;TZID=America/Chicago:20251017T190000
DTEND;TZID=America/Chicago:20251017T220000
DTSTAMP:20260421T004324
CREATED:20251009T213836Z
LAST-MODIFIED:20251009T213836Z
UID:10020923-1760727600-1760738400@www.wlcnonline.com
SUMMARY:Live music by the Hunter and Brady of Country Roots at the Irish Circle in Wapella
DESCRIPTION:LHunter and Brady from the acoustic band Country Roots will perform country\, bluegrass and classic rock favorites. \nEvent codes ccent cclm ccfb ccsoc
URL:https://www.wlcnonline.com/event/live-music-by-the-hunter-and-brady-of-country-roots-at-the-irish-circle-in-wapella/
LOCATION:The Irish Circle in Wapella\, 405 N Walnut Street\, Wapella\, IL\, 61777\, United States
END:VEVENT
BEGIN:VEVENT
DTSTART;TZID=America/Chicago:20251017T190000
DTEND;TZID=America/Chicago:20251017T230000
DTSTAMP:20260421T004324
CREATED:20251009T212844Z
LAST-MODIFIED:20251009T212844Z
UID:10020920-1760727600-1760742000@www.wlcnonline.com
SUMMARY:DIRTCar Nationals racing event at Lincoln Speedway in Logan County Fairgrounds in Lincoln
DESCRIPTION:The DIRTcar Fall Nationals are back at Lincoln Speedway with optional practice day Thursday\, October 16 and full racing shows on Friday\, October 17 and Saturday\, October 18. The event will feature Super Late Models\, Pro Late Models\, Modifieds\, Pro Modifieds\, and Stock Cars. \nDIRTcar Fall Nationals \nThursday\, October 16\, 2025\nDIRTcar Fall Nationals Practice \nDivisions:\nDIRTcar Super Late Models\nDIRTcar Modifieds\nDIRTcar Pro Late Models\nDIRTcar Pro Modifieds\nDIRTcar Stock Cars \nTimes:\nPits: 4:00\nStands: 4:00\nHotlaps: 6:30 \nThursday Grandstand Pricing:\nAdults – Free\nChildren 11 & Under – Free \nFriday\, October 17\, 2025\nDIRTcar Fall Nationals Friday \nDivisions:\nDIRTcar Super Late Models\nDIRTcar Modifieds\nDIRTcar Pro Modifieds\nDIRTcar Pro Late Models \nTimes:\nPits: 3:00\nStands: 4:00\nQualifying Hotlaps: 6:00\nRacing: 7:00 \nFriday Grandstand Pricing:\nAdults (2-Day) – $45\nAdults (Friday) – $25\nChildren 11 & Under – Free \nSaturday\, October 18\, 2025\nDIRTcar Fall Nationals Saturday \nDivisions:\nDIRTcar Super Late Models\nDIRTcar Pro Late Models\nDIRTcar Modifieds\nDIRTcar Pro Modifieds\nDIRTcar Stock Cars \nTimes:\nPits: 2:00\nStands: 3:00\nQualifying Hotlaps: 5:00\nRacing: 6:00 \nSaturday Grandstand Pricing:\nAdults (Saturday) – $25\nChildren 11 & Under – Free \nTickets and pit passes will be available at the gate on raceday \nEvent codes cccavse ccfre ccmrac
URL:https://www.wlcnonline.com/event/dirtcar-nationals-racing-event-at-lincoln-speedway-in-logan-county-fairgrounds-in-lincoln/2025-10-17/
LOCATION:Lincoln Speedway at Logan County Fairgrounds\, 230 N. Postville Drive\, Lincoln\, IL\, 62656\, United States
ORGANIZER;CN="Track Enterprises":MAILTO:track@trackenterprises.com
END:VEVENT
END:VCALENDAR