BEGIN:VCALENDAR
VERSION:2.0
PRODID:-//WLCN 96.3 FM - ECPv6.15.20//NONSGML v1.0//EN
CALSCALE:GREGORIAN
METHOD:PUBLISH
X-ORIGINAL-URL:https://www.wlcnonline.com
X-WR-CALDESC:Events for WLCN 96.3 FM
REFRESH-INTERVAL;VALUE=DURATION:PT1H
X-Robots-Tag:noindex
X-PUBLISHED-TTL:PT1H
BEGIN:VTIMEZONE
TZID:America/Chicago
BEGIN:DAYLIGHT
TZOFFSETFROM:-0600
TZOFFSETTO:-0500
TZNAME:CDT
DTSTART:20240310T080000
END:DAYLIGHT
BEGIN:STANDARD
TZOFFSETFROM:-0500
TZOFFSETTO:-0600
TZNAME:CST
DTSTART:20241103T070000
END:STANDARD
BEGIN:DAYLIGHT
TZOFFSETFROM:-0600
TZOFFSETTO:-0500
TZNAME:CDT
DTSTART:20250309T080000
END:DAYLIGHT
BEGIN:STANDARD
TZOFFSETFROM:-0500
TZOFFSETTO:-0600
TZNAME:CST
DTSTART:20251102T070000
END:STANDARD
BEGIN:DAYLIGHT
TZOFFSETFROM:-0600
TZOFFSETTO:-0500
TZNAME:CDT
DTSTART:20260308T080000
END:DAYLIGHT
BEGIN:STANDARD
TZOFFSETFROM:-0500
TZOFFSETTO:-0600
TZNAME:CST
DTSTART:20261101T070000
END:STANDARD
END:VTIMEZONE
BEGIN:VEVENT
DTSTART;TZID=America/Chicago:20251015T180000
DTEND;TZID=America/Chicago:20251015T190000
DTSTAMP:20260421T004617
CREATED:20250227T214713Z
LAST-MODIFIED:20251231T161900Z
UID:10019045-1760551200-1760554800@www.wlcnonline.com
SUMMARY:Alcoholics Anonymous meetings by Land of Lincoln Recovery Group at Hope on 5th in Lincoln
DESCRIPTION:Meetings are free to attend and take place at 6 PM on Tuesdays\, Wednesdays\, Fridays and Saturdays as well as at 9 AM on Saturdays and Sundays. \nEvent codes
URL:https://www.wlcnonline.com/event/alcoholics-anonymous-meetings-by-land-of-lincoln-recovery-group-at-hope-on-5th-in-lincoln/2025-10-15/
LOCATION:Hope on 5th in Lincoln\, 200 5th Street\, Lincoln\, 62656\, United States
ORGANIZER;CN="Logan Mason Recovery Oriented Systems of Care (ROSC)":MAILTO:jedavis@chestnut.org
END:VEVENT
BEGIN:VEVENT
DTSTART;TZID=America/Chicago:20251015T180000
DTEND;TZID=America/Chicago:20251015T190000
DTSTAMP:20260421T004617
CREATED:20250227T220829Z
LAST-MODIFIED:20251231T164443Z
UID:10019405-1760551200-1760554800@www.wlcnonline.com
SUMMARY:Alcoholics Anonymous meetings at Trinity Episcopal Church in Lincoln
DESCRIPTION:Meetings are free to attend and take place at the following times: \n\nMondays at 7 PM\nWednesdays at 6 PM\nFridays at 11 AM\nSundays at 6 PM\n\nEvent codes
URL:https://www.wlcnonline.com/event/alcoholics-anonymous-meetings-at-trinity-episcopal-church-in-lincoln-2/2025-10-15/
LOCATION:Trinity Episcopal Church in Lincoln\, 402 Pekin Street\, Lincoln\, 62656\, United States
ORGANIZER;CN="Logan Mason Recovery Oriented Systems of Care (ROSC)":MAILTO:jedavis@chestnut.org
END:VEVENT
BEGIN:VEVENT
DTSTART;TZID=America/Chicago:20251015T180000
DTEND;TZID=America/Chicago:20251015T190000
DTSTAMP:20260421T004617
CREATED:20250227T221550Z
LAST-MODIFIED:20251231T171533Z
UID:10019579-1760551200-1760554800@www.wlcnonline.com
SUMMARY:Odds & Ends peer recovery support group meeting at Hardee's in Havana
DESCRIPTION:Meetings are free to attend and take place Wednesdays at 6 PM. \nEvent codes
URL:https://www.wlcnonline.com/event/odds-ends-peer-recovery-support-group-meeting-at-hardees-in-havana/2025-10-15/
LOCATION:Hardee’s in Havana\, 401 W. Dearborn Street\, Havana\, 62644\, United States
ORGANIZER;CN="Logan Mason Recovery Oriented Systems of Care (ROSC)":MAILTO:jedavis@chestnut.org
END:VEVENT
BEGIN:VEVENT
DTSTART;TZID=America/Chicago:20251015T180000
DTEND;TZID=America/Chicago:20251015T200000
DTSTAMP:20260421T004617
CREATED:20251009T211719Z
LAST-MODIFIED:20251009T211719Z
UID:10020917-1760551200-1760558400@www.wlcnonline.com
SUMMARY:Safe Zone Training event by Logan County Pride at Heartland Community College Lincoln
DESCRIPTION:Logan County Pride is proud to offer this FREE safe zone training\, providing education and tools towards LGBTQIA+ awareness in a 2-hour workshop. The curriculum will include important vocabulary and activities for attendees to further their knowledge. \nA limited number of spots are available; click here to register online.
URL:https://www.wlcnonline.com/event/safe-zone-training-event-by-logan-county-pride-at-heartland-community-college-lincoln-3/
LOCATION:Heartland Community College Lincoln\, 2201 Woodlawn Road\, Suite 200\, Lincoln\, IL\, 62656\, United States
ORGANIZER;CN="Logan County Pride":MAILTO:logancountypride@gmail.com
END:VEVENT
END:VCALENDAR