BEGIN:VCALENDAR
VERSION:2.0
PRODID:-//WLCN 96.3 FM - ECPv6.15.20//NONSGML v1.0//EN
CALSCALE:GREGORIAN
METHOD:PUBLISH
X-ORIGINAL-URL:https://www.wlcnonline.com
X-WR-CALDESC:Events for WLCN 96.3 FM
REFRESH-INTERVAL;VALUE=DURATION:PT1H
X-Robots-Tag:noindex
X-PUBLISHED-TTL:PT1H
BEGIN:VTIMEZONE
TZID:America/Chicago
BEGIN:DAYLIGHT
TZOFFSETFROM:-0600
TZOFFSETTO:-0500
TZNAME:CDT
DTSTART:20240310T080000
END:DAYLIGHT
BEGIN:STANDARD
TZOFFSETFROM:-0500
TZOFFSETTO:-0600
TZNAME:CST
DTSTART:20241103T070000
END:STANDARD
BEGIN:DAYLIGHT
TZOFFSETFROM:-0600
TZOFFSETTO:-0500
TZNAME:CDT
DTSTART:20250309T080000
END:DAYLIGHT
BEGIN:STANDARD
TZOFFSETFROM:-0500
TZOFFSETTO:-0600
TZNAME:CST
DTSTART:20251102T070000
END:STANDARD
BEGIN:DAYLIGHT
TZOFFSETFROM:-0600
TZOFFSETTO:-0500
TZNAME:CDT
DTSTART:20260308T080000
END:DAYLIGHT
BEGIN:STANDARD
TZOFFSETFROM:-0500
TZOFFSETTO:-0600
TZNAME:CST
DTSTART:20261101T070000
END:STANDARD
END:VTIMEZONE
BEGIN:VEVENT
DTSTART;TZID=America/Chicago:20251011T150000
DTEND;TZID=America/Chicago:20251012T110000
DTSTAMP:20260420T213954
CREATED:20251009T205003Z
LAST-MODIFIED:20251009T205003Z
UID:10020911-1760194800-1760266800@www.wlcnonline.com
SUMMARY:Fall campout event by Weldon Springs State Park Foundation at Long Point Campground in Weldon Springs State Park
DESCRIPTION:Attendees for this event will learn the basics of camping\, tent building\, fire making and other basic skills. In addition\, there will be informational sessions on tracking wildlife\, games and a movie. View the informational flyer posted by the Weldon Springs Park Foundation on Facebook for additional information. \nEvent codes ccnat ccff ccsoc
URL:https://www.wlcnonline.com/event/fall-campout-event-by-weldon-springs-state-park-foundation-at-long-point-campground-in-weldon-springs-state-park/
LOCATION:Weldon Springs State Park\, 4734 Weldon Springs Road\, Clinton\, 61727\, United States
ORGANIZER;CN="Weldon Springs State Park Foundation":MAILTO:weldonspringsfoundation@yahoo.com
END:VEVENT
BEGIN:VEVENT
DTSTART;TZID=America/Chicago:20251012T090000
DTEND;TZID=America/Chicago:20251012T100000
DTSTAMP:20260420T213954
CREATED:20250227T214918Z
LAST-MODIFIED:20251231T162155Z
UID:10019155-1760259600-1760263200@www.wlcnonline.com
SUMMARY:Alcoholics Anonymous meetings by Land of Lincoln Recovery Group at Hope on 5th in Lincoln
DESCRIPTION:Meetings are free to attend and take place at 6 PM on Tuesdays\, Wednesdays\, Fridays and Saturdays as well as at 9 AM on Saturdays and Sundays. \nEvent codes
URL:https://www.wlcnonline.com/event/alcoholics-anonymous-meetings-by-land-of-lincoln-recovery-group-at-hope-on-5th-in-lincoln-2/2025-10-12/
LOCATION:Hope on 5th in Lincoln\, 200 5th Street\, Lincoln\, 62656\, United States
ORGANIZER;CN="Logan Mason Recovery Oriented Systems of Care (ROSC)":MAILTO:jedavis@chestnut.org
END:VEVENT
BEGIN:VEVENT
DTSTART;TZID=America/Chicago:20251012T140000
DTEND;TZID=America/Chicago:20251012T160000
DTSTAMP:20260420T213954
CREATED:20240607T073345Z
LAST-MODIFIED:20251231T163021Z
UID:10020358-1760277600-1760284800@www.wlcnonline.com
SUMMARY:Xtreme Bar Bingo at The Next Stop Saloon in Mt. Pulaski
DESCRIPTION:Games take place every Sunday from 2 PM to 4 PM. \nEvent codes ccfb ccbin
URL:https://www.wlcnonline.com/event/xtreme-bar-bingo-at-the-next-stop-saloon-in-mt-pulaski/2025-10-12/
LOCATION:The Next Stop Saloon in Mt. Pulaski\, 100 E. Cooke Street\, Mt. Pulaski\, IL\, 62548\, United States
END:VEVENT
BEGIN:VEVENT
DTSTART;TZID=America/Chicago:20251012T140000
DTEND;TZID=America/Chicago:20251012T170000
DTSTAMP:20260420T213954
CREATED:20251009T210327Z
LAST-MODIFIED:20251009T210327Z
UID:10020914-1760277600-1760288400@www.wlcnonline.com
SUMMARY:Sunday funday with live music by the NikBeats at Gracie's Sports Bar in Green Valley
DESCRIPTION:Enjoy an afternoon of classic oldies with the NikBeats. \nEvent codes ccfb cclm ccent
URL:https://www.wlcnonline.com/event/sunday-funday-with-live-music-by-the-nikbeats-at-gracies-sports-bar-in-green-valley/
LOCATION:Gracie’s Sports Bar in Green Valley\, 6031 IL Route 29\, Green Valley\, IL\, 61534\, United States
ORGANIZER;CN="Gracie's Sports Bar":MAILTO:bobnbec@yahoo.com
END:VEVENT
BEGIN:VEVENT
DTSTART;TZID=America/Chicago:20251012T163000
DTEND;TZID=America/Chicago:20251012T200000
DTSTAMP:20260420T213954
CREATED:20251009T211012Z
LAST-MODIFIED:20251009T211012Z
UID:10020915-1760286600-1760299200@www.wlcnonline.com
SUMMARY:Bonfire and weiner roast with activities by Minier Christian Church Radius Youth Group at Stickling Residence in Stanford
DESCRIPTION:The Radius Student Ministry is hosting this bonfire event for grades 6-12There will be hot dogs and s’mores to eat. Planned activities include flag football and glow-in-the-dark capture the flag. Each person should bring a bag of chips or snack to share. \nEvent codes ccfk ccrel ccfb
URL:https://www.wlcnonline.com/event/bonfire-and-weiner-roast-with-activities-by-minier-christian-church-radius-youth-group-at-stickling-residence-in-stanford/
LOCATION:Stickling residence\, 11178 N 400 East Road\, Stanford\, 61774\, United States
ORGANIZER;CN="Minier Christian Church Radius Youth Group":MAILTO:minierccstaff@gmail.com
END:VEVENT
BEGIN:VEVENT
DTSTART;TZID=America/Chicago:20251012T170000
DTEND;TZID=America/Chicago:20251012T180000
DTSTAMP:20260420T213954
CREATED:20250227T215139Z
LAST-MODIFIED:20251231T162319Z
UID:10019667-1760288400-1760292000@www.wlcnonline.com
SUMMARY:Narcotics Anonymous meetings by Land of Lincoln Recovery Group at Hope on 5th in Lincoln
DESCRIPTION:Meetings are free to attend and take place at 6 PM Thursdays as well as at 5 PM on Sundays. \nEvent codes
URL:https://www.wlcnonline.com/event/narcotics-anonymous-meetings-by-land-of-lincoln-recovery-group-at-hope-on-5th-in-lincoln/2025-10-12/
LOCATION:Hope on 5th in Lincoln\, 200 5th Street\, Lincoln\, 62656\, United States
ORGANIZER;CN="Logan Mason Recovery Oriented Systems of Care (ROSC)":MAILTO:jedavis@chestnut.org
END:VEVENT
BEGIN:VEVENT
DTSTART;TZID=America/Chicago:20251012T180000
DTEND;TZID=America/Chicago:20251012T190000
DTSTAMP:20260420T213954
CREATED:20250227T221038Z
LAST-MODIFIED:20251231T162443Z
UID:10019492-1760292000-1760295600@www.wlcnonline.com
SUMMARY:Alcoholics Anonymous meetings at Trinity Episcopal Church in Lincoln
DESCRIPTION:Meetings are free to attend and take place at the following times: \n\nMondays at 7 PM\nWednesdays at 6 PM\nFridays at 11 AM\nSundays at 6 PM\n\nEvent codes
URL:https://www.wlcnonline.com/event/alcoholics-anonymous-meetings-at-trinity-episcopal-church-in-lincoln-4/2025-10-12/
LOCATION:Trinity Episcopal Church in Lincoln\, 402 Pekin Street\, Lincoln\, 62656\, United States
ORGANIZER;CN="Logan Mason Recovery Oriented Systems of Care (ROSC)":MAILTO:jedavis@chestnut.org
END:VEVENT
END:VCALENDAR