BEGIN:VCALENDAR
VERSION:2.0
PRODID:-//WLCN 96.3 FM - ECPv6.15.20//NONSGML v1.0//EN
CALSCALE:GREGORIAN
METHOD:PUBLISH
X-WR-CALNAME:WLCN 96.3 FM
X-ORIGINAL-URL:https://www.wlcnonline.com
X-WR-CALDESC:Events for WLCN 96.3 FM
REFRESH-INTERVAL;VALUE=DURATION:PT1H
X-Robots-Tag:noindex
X-PUBLISHED-TTL:PT1H
BEGIN:VTIMEZONE
TZID:America/Chicago
BEGIN:DAYLIGHT
TZOFFSETFROM:-0600
TZOFFSETTO:-0500
TZNAME:CDT
DTSTART:20240310T080000
END:DAYLIGHT
BEGIN:STANDARD
TZOFFSETFROM:-0500
TZOFFSETTO:-0600
TZNAME:CST
DTSTART:20241103T070000
END:STANDARD
BEGIN:DAYLIGHT
TZOFFSETFROM:-0600
TZOFFSETTO:-0500
TZNAME:CDT
DTSTART:20250309T080000
END:DAYLIGHT
BEGIN:STANDARD
TZOFFSETFROM:-0500
TZOFFSETTO:-0600
TZNAME:CST
DTSTART:20251102T070000
END:STANDARD
BEGIN:DAYLIGHT
TZOFFSETFROM:-0600
TZOFFSETTO:-0500
TZNAME:CDT
DTSTART:20260308T080000
END:DAYLIGHT
BEGIN:STANDARD
TZOFFSETFROM:-0500
TZOFFSETTO:-0600
TZNAME:CST
DTSTART:20261101T070000
END:STANDARD
END:VTIMEZONE
BEGIN:VEVENT
DTSTART;TZID=America/Chicago:20251010T100000
DTEND;TZID=America/Chicago:20251010T120000
DTSTAMP:20260421T004420
CREATED:20251003T033105Z
LAST-MODIFIED:20251003T033105Z
UID:10020890-1760090400-1760097600@www.wlcnonline.com
SUMMARY:Story time (bring a stuffie with you) at Mt. Pulaski Public Library
DESCRIPTION:With school not in session this date\, kids are invited to attend and read Halloween books together in the company of their favorite stuffed animal. \nEvent codes cchall ccfk ccedu ccsoc
URL:https://www.wlcnonline.com/event/story-time-bring-a-stuffie-with-you-at-mt-pulaski-public-library/
LOCATION:Mt. Pulaski Public Library\, 320 N. Washington Street\, Mt. Pulaski\, IL\, 62548\, United States
ORGANIZER;CN="Mt. Pulaski Public Library District":MAILTO:mtpulaskipubliclibrary@gmail.com
END:VEVENT
BEGIN:VEVENT
DTSTART;TZID=America/Chicago:20251010T110000
DTEND;TZID=America/Chicago:20251010T120000
DTSTAMP:20260421T004420
CREATED:20250227T220937Z
LAST-MODIFIED:20251231T160939Z
UID:10019448-1760094000-1760097600@www.wlcnonline.com
SUMMARY:Alcoholics Anonymous meetings at Trinity Episcopal Church in Lincoln
DESCRIPTION:Meetings are free to attend and take place at the following times: \n\nMondays at 7 PM\nWednesdays at 6 PM\nFridays at 11 AM\nSundays at 6 PM\n\nEvent codes
URL:https://www.wlcnonline.com/event/alcoholics-anonymous-meetings-at-trinity-episcopal-church-in-lincoln-3/2025-10-10/
LOCATION:Trinity Episcopal Church in Lincoln\, 402 Pekin Street\, Lincoln\, 62656\, United States
ORGANIZER;CN="Logan Mason Recovery Oriented Systems of Care (ROSC)":MAILTO:jedavis@chestnut.org
END:VEVENT
BEGIN:VEVENT
DTSTART;TZID=America/Chicago:20251010T120000
DTEND;TZID=America/Chicago:20251010T133000
DTSTAMP:20260421T004420
CREATED:20250227T221857Z
LAST-MODIFIED:20251231T161051Z
UID:10019623-1760097600-1760103000@www.wlcnonline.com
SUMMARY:SMART (Self-Management and Recovery Training) recovery meetings at Hope on 5th in Lincoln
DESCRIPTION:Meetings are free to attend and take place Fridays from noon to 1:30 PM. \nEvent codes
URL:https://www.wlcnonline.com/event/smart-self-management-and-recovery-training-recovery-meetings-at-hope-on-5th-in-lincoln/2025-10-10/
LOCATION:Hope on 5th in Lincoln\, 200 5th Street\, Lincoln\, 62656\, United States
ORGANIZER;CN="Logan Mason Recovery Oriented Systems of Care (ROSC)":MAILTO:jedavis@chestnut.org
END:VEVENT
BEGIN:VEVENT
DTSTART;TZID=America/Chicago:20251010T170000
DTEND;TZID=America/Chicago:20251010T190000
DTSTAMP:20260421T004420
CREATED:20250708T125227Z
LAST-MODIFIED:20260129T221247Z
UID:10020443-1760115600-1760122800@www.wlcnonline.com
SUMMARY:Schnitzel dinner at Eagles Lodge in Lincoln
DESCRIPTION:Dinners cost $10 each and are available on a dine-in or carry-out basis. \nEvent codes ccfb ccfdd
URL:https://www.wlcnonline.com/event/schnitzel-dinner-at-eagles-lodge-in-lincoln-2/2025-10-10/
LOCATION:Fraternal Order Of Eagles #2708 in Lincoln\, 1621 N. Kickapoo Street\, Lincoln\, IL\, 62656\, United States
END:VEVENT
BEGIN:VEVENT
DTSTART;TZID=America/Chicago:20251010T173000
DTEND;TZID=America/Chicago:20251010T200000
DTSTAMP:20260421T004420
CREATED:20251009T171818Z
LAST-MODIFIED:20251009T171818Z
UID:10020903-1760117400-1760126400@www.wlcnonline.com
SUMMARY:Movie night showing the movie "Halloweentown" at Mariah's Mums & More in rural Clinton
DESCRIPTION:Attendees can take part in several agriculture in the classroom activities and pumpkin painting. Pizza\, brats and treats will be available for purchase\, and the movie Halloweentown will be shown. \nGates open at 5 PM; movie begins at 6:30 PM. \nEvent codes ccedu ccsoc ccff ccfk ccmov cchall ccfb
URL:https://www.wlcnonline.com/event/movie-night-showing-the-movie-halloweentown-at-mariahs-mums-more-in-rural-clinton/
LOCATION:Mariah’s Mums & More in rural Clinton\, 16727 Airport Road\, Clinton\, IL\, 61727\, United States
ORGANIZER;CN="Mariah's Mums & More in rural Clinton":MAILTO:mariahandgreg@mariahsmums.com
END:VEVENT
BEGIN:VEVENT
DTSTART;TZID=America/Chicago:20251010T180000
DTEND;TZID=America/Chicago:20251010T190000
DTSTAMP:20260421T004420
CREATED:20250227T214713Z
LAST-MODIFIED:20251231T161900Z
UID:10019042-1760119200-1760122800@www.wlcnonline.com
SUMMARY:Alcoholics Anonymous meetings by Land of Lincoln Recovery Group at Hope on 5th in Lincoln
DESCRIPTION:Meetings are free to attend and take place at 6 PM on Tuesdays\, Wednesdays\, Fridays and Saturdays as well as at 9 AM on Saturdays and Sundays. \nEvent codes
URL:https://www.wlcnonline.com/event/alcoholics-anonymous-meetings-by-land-of-lincoln-recovery-group-at-hope-on-5th-in-lincoln/2025-10-10/
LOCATION:Hope on 5th in Lincoln\, 200 5th Street\, Lincoln\, 62656\, United States
ORGANIZER;CN="Logan Mason Recovery Oriented Systems of Care (ROSC)":MAILTO:jedavis@chestnut.org
END:VEVENT
BEGIN:VEVENT
DTSTART;TZID=America/Chicago:20251010T180000
DTEND;TZID=America/Chicago:20251010T200000
DTSTAMP:20260421T004420
CREATED:20251009T172241Z
LAST-MODIFIED:20251009T172241Z
UID:10020904-1760119200-1760126400@www.wlcnonline.com
SUMMARY:Second Fridays "Granny's kitchen" soup/stew sampling event at Junior's General Store in Mason City
DESCRIPTION:Attendees are invited to enjoy warm\, hearty samples of various homemade soups\, stews\, and comforting breads\, “just like Granny used to make.”\nThere will be special sales on all sampled items as well as featured local vendor products. \nEvent codes cclbep ccfb
URL:https://www.wlcnonline.com/event/second-fridays-grannys-kitchen-soup-stew-sampling-event-at-juniors-general-store-in-mason-city/
LOCATION:Junior’s General Store in Mason City\, 153 E Chestnut Street\, Mason City\, 62664\, United States
ORGANIZER;CN="Junior's General Store":MAILTO:juniorsgeneralstore153@gmail.com
END:VEVENT
END:VCALENDAR