BEGIN:VCALENDAR
VERSION:2.0
PRODID:-//WLCN 96.3 FM - ECPv6.15.20//NONSGML v1.0//EN
CALSCALE:GREGORIAN
METHOD:PUBLISH
X-WR-CALNAME:WLCN 96.3 FM
X-ORIGINAL-URL:https://www.wlcnonline.com
X-WR-CALDESC:Events for WLCN 96.3 FM
REFRESH-INTERVAL;VALUE=DURATION:PT1H
X-Robots-Tag:noindex
X-PUBLISHED-TTL:PT1H
BEGIN:VTIMEZONE
TZID:America/Chicago
BEGIN:DAYLIGHT
TZOFFSETFROM:-0600
TZOFFSETTO:-0500
TZNAME:CDT
DTSTART:20240310T080000
END:DAYLIGHT
BEGIN:STANDARD
TZOFFSETFROM:-0500
TZOFFSETTO:-0600
TZNAME:CST
DTSTART:20241103T070000
END:STANDARD
BEGIN:DAYLIGHT
TZOFFSETFROM:-0600
TZOFFSETTO:-0500
TZNAME:CDT
DTSTART:20250309T080000
END:DAYLIGHT
BEGIN:STANDARD
TZOFFSETFROM:-0500
TZOFFSETTO:-0600
TZNAME:CST
DTSTART:20251102T070000
END:STANDARD
BEGIN:DAYLIGHT
TZOFFSETFROM:-0600
TZOFFSETTO:-0500
TZNAME:CDT
DTSTART:20260308T080000
END:DAYLIGHT
BEGIN:STANDARD
TZOFFSETFROM:-0500
TZOFFSETTO:-0600
TZNAME:CST
DTSTART:20261101T070000
END:STANDARD
END:VTIMEZONE
BEGIN:VEVENT
DTSTART;TZID=America/Chicago:20251006T051500
DTEND;TZID=America/Chicago:20251006T193000
DTSTAMP:20260421T004424
CREATED:20250925T182924Z
LAST-MODIFIED:20250925T182924Z
UID:10020865-1759727700-1759779000@www.wlcnonline.com
SUMMARY:Free week of Group Fitness Classes (October 1-7\, 2025) at Lincoln Park District
DESCRIPTION:Lincoln Park District is offering free classes for members of the community from October 1 through October 7. Individuals who are not members of the park district are invited to take part in any of the group fitness classes offered by the park district. Use this link to register online for the free classes. Call the park district for more information. \nEvent codes ccfre cchwf
URL:https://www.wlcnonline.com/event/free-week-of-group-fitness-classes-october-1-7-2025-at-lincoln-park-district/2025-10-06/
LOCATION:Lincoln Park District\, 1400 Primm Road\, Lincoln\, IL\, 62656\, United States
ORGANIZER;CN="Lincoln Park District":MAILTO:info@lincolnparkdistrict.com
END:VEVENT
BEGIN:VEVENT
DTSTART;TZID=America/Chicago:20251006T100000
DTEND;TZID=America/Chicago:20251006T104500
DTSTAMP:20260421T004424
CREATED:20250814T215225Z
LAST-MODIFIED:20260115T152229Z
UID:10020628-1759744800-1759747500@www.wlcnonline.com
SUMMARY:Chair yoga by Silver Fox Fitness at The Villas at Lincoln﻿
DESCRIPTION:Seated and standing poses will be utilized with the goal of increasing flexibility\, balance and strength along with providing relaxation. Participants never get down on the floor. \nEvent codes: ccfs\, cchwf
URL:https://www.wlcnonline.com/event/chair-yoga-by-silver-fox-fitness-at-the-villas-at-lincoln/2025-10-06/
LOCATION:Villas at Lincoln (formerly The Christian Village) in Lincoln\, 1507 7th Street\, Lincoln\, IL\, 62656\, United States
END:VEVENT
BEGIN:VEVENT
DTSTART;TZID=America/Chicago:20251006T103000
DTEND;TZID=America/Chicago:20251006T113000
DTSTAMP:20260421T004424
CREATED:20250925T182450Z
LAST-MODIFIED:20250925T182450Z
UID:10020858-1759746600-1759750200@www.wlcnonline.com
SUMMARY:"Mind Matters" grief and caregiver support group at Lincoln Memorial Hospital
DESCRIPTION:The Mind Matters Support Group is free and open to adults only. It is especially designed for members of the community who struggle with: \n\nLoneliness\nGrief and loss\nCaregiver fatigue\nWays to improve their own mental health or cope\nDevelopment of social support and connection\nSupporting the mental health of family or a friend\nAccessing mental health resources\n\nEvent codes ccfa cchwf
URL:https://www.wlcnonline.com/event/mind-matters-grief-and-caregiver-support-group-at-lincoln-memorial-hospital/2025-10-06/
LOCATION:Lincoln Memorial Hospital\, 200 Stahlhut Drive\, Lincoln\, IL\, 62656\, United States
END:VEVENT
BEGIN:VEVENT
DTSTART;TZID=America/Chicago:20251006T170000
DTEND;TZID=America/Chicago:20251006T200000
DTSTAMP:20260421T004424
CREATED:20250130T142758Z
LAST-MODIFIED:20250417T125953Z
UID:10018078-1759770000-1759780800@www.wlcnonline.com
SUMMARY:Fundraiser for Jefferson Street Christian Church at Culver's of Lincoln
DESCRIPTION:Purchase food from Culver’s of Lincoln and help support a worthy cause whether dining in\, carrying out\, using the drive-thru or ordering through DoorDash. During the hours of the fundraiser\, a portion of all proceeds will be donated to the organization. \nEvent codes ccfb\, ccfdd
URL:https://www.wlcnonline.com/event/fundraiser-for-jefferson-street-christian-church-at-culvers-of-lincoln/2025-10-06/
LOCATION:Culver’s of Lincoln\, 2530 Woodlawn Road\, Lincoln\, IL\, 62656\, United States
ORGANIZER;CN="Culver's of Lincoln":MAILTO:lincolnculvers@comcast.net
END:VEVENT
BEGIN:VEVENT
DTSTART;TZID=America/Chicago:20251006T180000
DTEND;TZID=America/Chicago:20251006T190000
DTSTAMP:20260421T004424
CREATED:20250227T215503Z
LAST-MODIFIED:20251231T163530Z
UID:10019253-1759773600-1759777200@www.wlcnonline.com
SUMMARY:Co-Dependents Anonymous (CoDA) meetings by Land of Lincoln Recovery Group at Hope on 5th in Lincoln
DESCRIPTION:Meetings are free to attend and take place at 6 PM Mondays. \nEvent codes
URL:https://www.wlcnonline.com/event/co-dependents-anonymous-coda-meetings-by-land-of-lincoln-recovery-group-at-hope-on-5th-in-lincoln/2025-10-06/
LOCATION:Hope on 5th in Lincoln\, 200 5th Street\, Lincoln\, 62656\, United States
ORGANIZER;CN="Logan Mason Recovery Oriented Systems of Care (ROSC)":MAILTO:jedavis@chestnut.org
END:VEVENT
BEGIN:VEVENT
DTSTART;TZID=America/Chicago:20251006T180000
DTEND;TZID=America/Chicago:20251006T200000
DTSTAMP:20260421T004424
CREATED:20250725T024845Z
LAST-MODIFIED:20251231T163623Z
UID:10020578-1759773600-1759780800@www.wlcnonline.com
SUMMARY:Music bingo at Copper & Oak Bourbon & Craft Beer Bar in Lincoln
DESCRIPTION:Music bingo is like regular bingo\, except of numbers being called\, segments of songs are played; if you can identify the song played and it is on your bingo card\, cross it off and continue doing so until someone gets bingo. \nMusic bingo is free to play. \nEvent codes ccbin ccsoc ccfb
URL:https://www.wlcnonline.com/event/music-bingo-at-copper-oak-bourbon-craft-beer-bar-in-lincoln/2025-10-06/
LOCATION:Copper & Oak in Lincoln\, 227 N. Kickapoo Street\, Lincoln\, IL\, 62656\, United States
END:VEVENT
BEGIN:VEVENT
DTSTART;TZID=America/Chicago:20251006T183000
DTEND;TZID=America/Chicago:20251006T203000
DTSTAMP:20260421T004424
CREATED:20251003T030541Z
LAST-MODIFIED:20251003T030541Z
UID:10020883-1759775400-1759782600@www.wlcnonline.com
SUMMARY:October card making event at Interurban Merchant in Williamsville
DESCRIPTION:Interurban Merchant is hosting this creative event for attendees to make four unique handcrafted cards for sending or giving\, all while enjoying a cool or warm beverage of choice. All card supplies\, specialty tools and instructions will be provided\, but attendees should bring scissors and adhesive (tape runner type works best). \nCost is $20 and includes the costs of supplies and instruction. Participants will also get a free beverage. \nDue to a limited number of spaces\, those planning to attend are asked to RSVP by August 17 so supply kits can be prepared. Interested persons can text or call (217) 741-1688 to confirm availability and reserve a spot. \nEvent codes ccaca ccsoc
URL:https://www.wlcnonline.com/event/october-card-making-event-at-interurban-merchant-in-williamsville/
LOCATION:Interurban Merchant in Williamsville\, 112 W. Main Street\, Williamsville\, IL\, 62693\, United States
ORGANIZER;CN="Interurban Merchant":MAILTO:interurbanmerchant@gmail.com
END:VEVENT
BEGIN:VEVENT
DTSTART;TZID=America/Chicago:20251006T190000
DTEND;TZID=America/Chicago:20251006T200000
DTSTAMP:20260421T004424
CREATED:20250227T220659Z
LAST-MODIFIED:20251231T163725Z
UID:10019360-1759777200-1759780800@www.wlcnonline.com
SUMMARY:Alcoholics Anonymous meetings at Trinity Episcopal Church in Lincoln
DESCRIPTION:Meetings are free to attend and take place at the following times: \n\nMondays at 7 PM\nWednesdays at 6 PM\nFridays at 11 AM\nSundays at 6 PM\n\nEvent codes
URL:https://www.wlcnonline.com/event/alcoholics-anonymous-meetings-at-trinity-episcopal-church-in-lincoln/2025-10-06/
LOCATION:Trinity Episcopal Church in Lincoln\, 402 Pekin Street\, Lincoln\, 62656\, United States
ORGANIZER;CN="Logan Mason Recovery Oriented Systems of Care (ROSC)":MAILTO:jedavis@chestnut.org
END:VEVENT
END:VCALENDAR