BEGIN:VCALENDAR
VERSION:2.0
PRODID:-//WLCN 96.3 FM - ECPv6.15.20//NONSGML v1.0//EN
CALSCALE:GREGORIAN
METHOD:PUBLISH
X-WR-CALNAME:WLCN 96.3 FM
X-ORIGINAL-URL:https://www.wlcnonline.com
X-WR-CALDESC:Events for WLCN 96.3 FM
REFRESH-INTERVAL;VALUE=DURATION:PT1H
X-Robots-Tag:noindex
X-PUBLISHED-TTL:PT1H
BEGIN:VTIMEZONE
TZID:America/Chicago
BEGIN:DAYLIGHT
TZOFFSETFROM:-0600
TZOFFSETTO:-0500
TZNAME:CDT
DTSTART:20240310T080000
END:DAYLIGHT
BEGIN:STANDARD
TZOFFSETFROM:-0500
TZOFFSETTO:-0600
TZNAME:CST
DTSTART:20241103T070000
END:STANDARD
BEGIN:DAYLIGHT
TZOFFSETFROM:-0600
TZOFFSETTO:-0500
TZNAME:CDT
DTSTART:20250309T080000
END:DAYLIGHT
BEGIN:STANDARD
TZOFFSETFROM:-0500
TZOFFSETTO:-0600
TZNAME:CST
DTSTART:20251102T070000
END:STANDARD
BEGIN:DAYLIGHT
TZOFFSETFROM:-0600
TZOFFSETTO:-0500
TZNAME:CDT
DTSTART:20260308T080000
END:DAYLIGHT
BEGIN:STANDARD
TZOFFSETFROM:-0500
TZOFFSETTO:-0600
TZNAME:CST
DTSTART:20261101T070000
END:STANDARD
END:VTIMEZONE
BEGIN:VEVENT
DTSTART;TZID=America/Chicago:20251005T090000
DTEND;TZID=America/Chicago:20251005T100000
DTSTAMP:20260421T004422
CREATED:20250227T214918Z
LAST-MODIFIED:20251231T162155Z
UID:10019153-1759654800-1759658400@www.wlcnonline.com
SUMMARY:Alcoholics Anonymous meetings by Land of Lincoln Recovery Group at Hope on 5th in Lincoln
DESCRIPTION:Meetings are free to attend and take place at 6 PM on Tuesdays\, Wednesdays\, Fridays and Saturdays as well as at 9 AM on Saturdays and Sundays. \nEvent codes
URL:https://www.wlcnonline.com/event/alcoholics-anonymous-meetings-by-land-of-lincoln-recovery-group-at-hope-on-5th-in-lincoln-2/2025-10-05/
LOCATION:Hope on 5th in Lincoln\, 200 5th Street\, Lincoln\, 62656\, United States
ORGANIZER;CN="Logan Mason Recovery Oriented Systems of Care (ROSC)":MAILTO:jedavis@chestnut.org
END:VEVENT
BEGIN:VEVENT
DTSTART;TZID=America/Chicago:20251005T120000
DTEND;TZID=America/Chicago:20251005T133000
DTSTAMP:20260421T004422
CREATED:20251003T030250Z
LAST-MODIFIED:20251003T030250Z
UID:10020882-1759665600-1759671000@www.wlcnonline.com
SUMMARY:Lunch for parents at Faith Church in Lincoln
DESCRIPTION:Parents of children of all ages\, from birth through high school\, are invited to attend for a lunch of fellowship and encouragement. There will a project for kids. \nEvent codes ccff ccaca ccfb ccrel
URL:https://www.wlcnonline.com/event/lunch-for-parents-at-faith-church-in-lincoln/
LOCATION:Faith Church in Lincoln\, 1225 Nicholson Road\, Lincoln\, IL\, 62656\, United States
ORGANIZER;CN="Faith Church in Lincoln":MAILTO:darren.faithassembly@gmail.com
END:VEVENT
BEGIN:VEVENT
DTSTART;TZID=America/Chicago:20251005T130000
DTEND;TZID=America/Chicago:20251005T153000
DTSTAMP:20260421T004422
CREATED:20250925T193754Z
LAST-MODIFIED:20250925T193754Z
UID:10020873-1759669200-1759678200@www.wlcnonline.com
SUMMARY:"Pumpkin patch" paint event at Spirited Republic in Lincoln
DESCRIPTION:Due to popular demand\, a second event has been added. Attendees will paint a fall “pumpkin patch” sign scene on their own pre-sketched canvas. \nTo find out cost or to register\, send a direct message through the Joyful Painting Facebook page or send a text to (217) 871-9100. \nEvent codes ccfb ccsoc ccpai
URL:https://www.wlcnonline.com/event/pumpkin-patch-paint-event-at-spirited-republic-in-lincoln-2/
LOCATION:Spirited Republic in Lincoln\, 509 Pulaski Street\, Lincoln\, IL\, 62656\, United States
END:VEVENT
BEGIN:VEVENT
DTSTART;TZID=America/Chicago:20251005T130000
DTEND;TZID=America/Chicago:20251005T160000
DTSTAMP:20260421T004422
CREATED:20250925T194013Z
LAST-MODIFIED:20250925T194013Z
UID:10020874-1759669200-1759680000@www.wlcnonline.com
SUMMARY:Floats & flowers event day at Gail's Pumpkin Patch in rural Beason
DESCRIPTION:Attendees can enjoy Sweet Mae’s apple cider floats and make a flower bouquet with Subtle Stems. In addition\, there will be free popcorn wagon rides. \nAdmission is free. \nEvent codes ccfre ccff ccfk ccaca
URL:https://www.wlcnonline.com/event/floats-flowers-event-day-at-gails-pumpkin-patch-in-rural-beason/
LOCATION:Gail’s Pumpkin Patch in rural Beason\, 1709 2000th Avenue\, Beason\, IL\, 62512\, United States
ORGANIZER;CN="Gail's Pumpkin Patch":MAILTO:gail@gailspumpkinpatch.com
END:VEVENT
BEGIN:VEVENT
DTSTART;TZID=America/Chicago:20251005T140000
DTEND;TZID=America/Chicago:20251005T160000
DTSTAMP:20260421T004422
CREATED:20240607T073345Z
LAST-MODIFIED:20251231T163021Z
UID:10020357-1759672800-1759680000@www.wlcnonline.com
SUMMARY:Xtreme Bar Bingo at The Next Stop Saloon in Mt. Pulaski
DESCRIPTION:Games take place every Sunday from 2 PM to 4 PM. \nEvent codes ccfb ccbin
URL:https://www.wlcnonline.com/event/xtreme-bar-bingo-at-the-next-stop-saloon-in-mt-pulaski/2025-10-05/
LOCATION:The Next Stop Saloon in Mt. Pulaski\, 100 E. Cooke Street\, Mt. Pulaski\, IL\, 62548\, United States
END:VEVENT
BEGIN:VEVENT
DTSTART;TZID=America/Chicago:20251005T160000
DTEND;TZID=America/Chicago:20251005T190000
DTSTAMP:20260421T004422
CREATED:20250925T194702Z
LAST-MODIFIED:20250925T194702Z
UID:10020875-1759680000-1759690800@www.wlcnonline.com
SUMMARY:Fall block party by Common Ground Bakery & Cafe in Delavan
DESCRIPTION:There will be a pickleball tournament\, bags tournament\, bounce house\, face paint\, pumpkin painting\, music\, and a free s’mores bonfire. \nEvent codes ccrel ccfb ccfk ccsoc ccff
URL:https://www.wlcnonline.com/event/fall-block-party-by-common-ground-bakery-cafe-in-delavan/
LOCATION:Common Ground Bakery & Cafe in Delavan\, 310 Locust Street\, Delavan\, 61734\, United States
ORGANIZER;CN="Common Ground Bakery & Cafe":MAILTO:commongroundci61734@gmail.com
END:VEVENT
BEGIN:VEVENT
DTSTART;TZID=America/Chicago:20251005T170000
DTEND;TZID=America/Chicago:20251005T180000
DTSTAMP:20260421T004422
CREATED:20250227T215139Z
LAST-MODIFIED:20251231T162319Z
UID:10019666-1759683600-1759687200@www.wlcnonline.com
SUMMARY:Narcotics Anonymous meetings by Land of Lincoln Recovery Group at Hope on 5th in Lincoln
DESCRIPTION:Meetings are free to attend and take place at 6 PM Thursdays as well as at 5 PM on Sundays. \nEvent codes
URL:https://www.wlcnonline.com/event/narcotics-anonymous-meetings-by-land-of-lincoln-recovery-group-at-hope-on-5th-in-lincoln/2025-10-05/
LOCATION:Hope on 5th in Lincoln\, 200 5th Street\, Lincoln\, 62656\, United States
ORGANIZER;CN="Logan Mason Recovery Oriented Systems of Care (ROSC)":MAILTO:jedavis@chestnut.org
END:VEVENT
BEGIN:VEVENT
DTSTART;TZID=America/Chicago:20251005T180000
DTEND;TZID=America/Chicago:20251005T190000
DTSTAMP:20260421T004422
CREATED:20250227T221038Z
LAST-MODIFIED:20251231T162443Z
UID:10019491-1759687200-1759690800@www.wlcnonline.com
SUMMARY:Alcoholics Anonymous meetings at Trinity Episcopal Church in Lincoln
DESCRIPTION:Meetings are free to attend and take place at the following times: \n\nMondays at 7 PM\nWednesdays at 6 PM\nFridays at 11 AM\nSundays at 6 PM\n\nEvent codes
URL:https://www.wlcnonline.com/event/alcoholics-anonymous-meetings-at-trinity-episcopal-church-in-lincoln-4/2025-10-05/
LOCATION:Trinity Episcopal Church in Lincoln\, 402 Pekin Street\, Lincoln\, 62656\, United States
ORGANIZER;CN="Logan Mason Recovery Oriented Systems of Care (ROSC)":MAILTO:jedavis@chestnut.org
END:VEVENT
END:VCALENDAR